automatic DPDK test reports
 help / color / mirror / Atom feed
* |SUCCESS| pw157807-157808 [PATCH v3 2/2] mailmap: sort mailmap
       [not found] <20251017133812.1109638-3-bruce.richardson@intel.com>
@ 2025-10-17 13:07 ` qemudev
  2025-10-17 13:12 ` qemudev
                   ` (25 subsequent siblings)
  26 siblings, 0 replies; 27+ messages in thread
From: qemudev @ 2025-10-17 13:07 UTC (permalink / raw)
  To: test-report

Test-Label: loongarch-compilation
Test-Status: SUCCESS
http://dpdk.org/patch/157808

_Compilation OK_

Submitter: Bruce Richardson <bruce.richardson@intel.com>
Date: Fri, 17 Oct 2025 14:38:07 +0100
DPDK git baseline: Repo:dpdk
  Branch: main
  CommitID: 438491733c2d8a109574449d3d6de9b25a05c07c

157807-157808 --> meson & ninja build successfully

Test environment and result as below:

+---------------------+----------------+
|     Environment     | compilation    |
+---------------------+----------------+
| Loongnix-Server 8.3 | PASS           |
+---------------------+----------------+

Loongnix-Server 8.3
    Kernel: 4.19.190+
    Compiler: gcc 8.3


^ permalink raw reply	[flat|nested] 27+ messages in thread

* |SUCCESS| pw157807-157808 [PATCH v3 2/2] mailmap: sort mailmap
       [not found] <20251017133812.1109638-3-bruce.richardson@intel.com>
  2025-10-17 13:07 ` |SUCCESS| pw157807-157808 [PATCH v3 2/2] mailmap: sort mailmap qemudev
@ 2025-10-17 13:12 ` qemudev
  2025-10-17 13:38 ` |WARNING| pw157808 " checkpatch
                   ` (24 subsequent siblings)
  26 siblings, 0 replies; 27+ messages in thread
From: qemudev @ 2025-10-17 13:12 UTC (permalink / raw)
  To: test-report

Test-Label: loongarch-unit-testing
Test-Status: SUCCESS
http://dpdk.org/patch/157808

_Unit Testing PASS_

Submitter: Bruce Richardson <bruce.richardson@intel.com>
Date: Fri, 17 Oct 2025 14:38:07 +0100
DPDK git baseline: Repo:dpdk
  Branch: main
  CommitID: 438491733c2d8a109574449d3d6de9b25a05c07c

157807-157808 --> testing pass

Test environment and result as below:

+---------------------+----------------+
|     Environment     | dpdk_unit_test |
+---------------------+----------------+
| Loongnix-Server 8.3 | PASS           |
+---------------------+----------------+

Loongnix-Server 8.3
    Kernel: 4.19.190+
    Compiler: gcc 8.3


Test result details:
  1/120 DPDK:fast-tests / acl_autotest                            OK              3.31s
  2/120 DPDK:fast-tests / alarm_autotest                          OK              1.57s
  3/120 DPDK:fast-tests / argparse_autotest                       OK              0.59s
  4/120 DPDK:fast-tests / atomic_autotest                         OK              7.26s
  5/120 DPDK:fast-tests / bitcount_autotest                       OK              0.43s
  6/120 DPDK:fast-tests / bitmap_autotest                         OK              0.43s
  7/120 DPDK:fast-tests / bitops_autotest                         OK              1.93s
  8/120 DPDK:fast-tests / bitratestats_autotest                   OK              0.43s
  9/120 DPDK:fast-tests / bitset_autotest                         OK              3.16s
 10/120 DPDK:fast-tests / bpf_autotest                            OK              0.43s
 11/120 DPDK:fast-tests / bpf_convert_autotest                    OK              0.44s
 12/120 DPDK:fast-tests / byteorder_autotest                      OK              0.43s
 13/120 DPDK:fast-tests / cfgfile_autotest                        OK              0.43s
 14/120 DPDK:fast-tests / cksum_autotest                          OK              0.43s
 15/120 DPDK:fast-tests / cmdline_autotest                        OK              0.43s
 16/120 DPDK:fast-tests / common_autotest                         OK              1.31s
 17/120 DPDK:fast-tests / compressdev_autotest                    SKIP            0.07s   exit status 77
 18/120 DPDK:fast-tests / cpuflags_autotest                       OK              0.43s
 19/120 DPDK:fast-tests / crc_autotest                            OK              0.43s
 20/120 DPDK:fast-tests / user_delay_us                           OK              0.43s
 21/120 DPDK:fast-tests / debug_autotest                          OK             21.07s
 22/120 DPDK:fast-tests / devargs_autotest                        OK              0.43s
 23/120 DPDK:fast-tests / dispatcher_autotest                     OK              2.46s
 24/120 DPDK:fast-tests / distributor_autotest                    OK              1.20s
 25/120 DPDK:fast-tests / eal_flags_c_opt_autotest                OK              0.79s
 26/120 DPDK:fast-tests / eal_flags_main_opt_autotest             OK              0.22s
 27/120 DPDK:fast-tests / eal_flags_n_opt_autotest                OK              0.20s
 28/120 DPDK:fast-tests / eal_flags_hpet_autotest                 OK              0.14s
 29/120 DPDK:fast-tests / eal_flags_no_huge_autotest              OK              0.20s
 30/120 DPDK:fast-tests / eal_flags_a_opt_autotest                OK              0.31s
 31/120 DPDK:fast-tests / eal_flags_b_opt_autotest                OK              0.26s
 32/120 DPDK:fast-tests / eal_flags_vdev_opt_autotest             OK              0.20s
 33/120 DPDK:fast-tests / eal_flags_r_opt_autotest                OK              0.20s
 34/120 DPDK:fast-tests / eal_flags_mem_autotest                  OK              0.60s
 35/120 DPDK:fast-tests / eal_flags_file_prefix_autotest          OK             22.26s
 36/120 DPDK:fast-tests / eal_flags_misc_autotest                 OK              1.08s
 37/120 DPDK:fast-tests / eal_fs_autotest                         OK              0.42s
 38/120 DPDK:fast-tests / errno_autotest                          OK              0.43s
 39/120 DPDK:fast-tests / ethdev_link_status                      OK              0.43s
 40/120 DPDK:fast-tests / event_eth_tx_adapter_autotest           OK              1.69s
 41/120 DPDK:fast-tests / event_ring_autotest                     OK              0.43s
 42/120 DPDK:fast-tests / eventdev_common_autotest                OK              0.43s
 43/120 DPDK:fast-tests / eventdev_selftest_sw                    OK              7.26s
 44/120 DPDK:fast-tests / fbarray_autotest                        OK              0.43s
 45/120 DPDK:fast-tests / fib_autotest                            OK              1.27s
 46/120 DPDK:fast-tests / fib6_autotest                           OK              1.06s
 47/120 DPDK:fast-tests / func_reentrancy_autotest                OK              2.16s
 48/120 DPDK:fast-tests / graph_autotest                          OK              0.60s
 49/120 DPDK:fast-tests / node_list_dump                          OK              0.59s
 50/120 DPDK:fast-tests / graph_feature_arc_autotest              OK              0.60s
 51/120 DPDK:fast-tests / hash_autotest                           OK              1.21s
 52/120 DPDK:fast-tests / hash_readwrite_func_autotest            OK              6.39s
 53/120 DPDK:fast-tests / interrupt_autotest                      OK              1.89s
 54/120 DPDK:fast-tests / ipfrag_autotest                         OK              0.08s
 55/120 DPDK:fast-tests / ipsec_autotest                          SKIP            0.59s   exit status 77
 56/120 DPDK:fast-tests / kvargs_autotest                         OK              0.59s
 57/120 DPDK:fast-tests / latencystats_autotest                   OK              0.60s
 58/120 DPDK:fast-tests / lcore_var_autotest                      OK              0.72s
 59/120 DPDK:fast-tests / lcores_autotest                         OK              5.40s
 60/120 DPDK:fast-tests / logs_autotest                           OK              0.59s
 61/120 DPDK:fast-tests / lpm_autotest                            OK              2.63s
 62/120 DPDK:fast-tests / lpm6_autotest                           OK              5.74s
 63/120 DPDK:fast-tests / malloc_autotest                         OK             63.41s
 64/120 DPDK:fast-tests / mbuf_autotest                           OK              4.88s
 65/120 DPDK:fast-tests / mcslock_autotest                        OK              2.62s
 66/120 DPDK:fast-tests / member_autotest                         OK              1.81s
 67/120 DPDK:fast-tests / memcpy_autotest                         OK              7.21s
 68/120 DPDK:fast-tests / memory_autotest                         OK              0.10s
 69/120 DPDK:fast-tests / mempool_autotest                        OK              0.44s
 70/120 DPDK:fast-tests / memzone_autotest                        OK              0.15s
 71/120 DPDK:fast-tests / meter_autotest                          OK              0.59s
 72/120 DPDK:fast-tests / metrics_autotest                        OK              0.59s
 73/120 DPDK:fast-tests / multiprocess_autotest                   OK              0.21s
 74/120 DPDK:fast-tests / net_ether_autotest                      OK              1.25s
 75/120 DPDK:fast-tests / net_ipv6_autotest                       OK              0.59s
 76/120 DPDK:fast-tests / pcapng_autotest                         OK              7.35s
 77/120 DPDK:fast-tests / pdcp_autotest                           SKIP            0.07s   exit status 77
 78/120 DPDK:fast-tests / pdump_autotest                          OK              0.71s
 79/120 DPDK:fast-tests / per_lcore_autotest                      OK              0.69s
 80/120 DPDK:fast-tests / pflock_autotest                         OK              1.40s
 81/120 DPDK:fast-tests / pie_autotest                            OK              0.59s
 82/120 DPDK:fast-tests / ring_pmd_autotest                       OK              0.59s
 83/120 DPDK:fast-tests / power_autotest                          OK              0.59s
 84/120 DPDK:fast-tests / power_cpufreq_autotest                  SKIP            0.08s   exit status 77
 85/120 DPDK:fast-tests / power_intel_uncore_autotest             SKIP            0.59s   exit status 77
 86/120 DPDK:fast-tests / power_kvm_vm_autotest                   SKIP            0.08s   exit status 77
 87/120 DPDK:fast-tests / prefetch_autotest                       OK              0.59s
 88/120 DPDK:fast-tests / ptr_compress_autotest                   OK              0.60s
 89/120 DPDK:fast-tests / rawdev_autotest                         OK              0.59s
 90/120 DPDK:fast-tests / rcu_qsbr_autotest                       OK              1.11s
 91/120 DPDK:fast-tests / reorder_autotest                        OK              0.65s
 92/120 DPDK:fast-tests / rib_autotest                            OK              9.25s
 93/120 DPDK:fast-tests / rib6_autotest                           OK              9.25s
 94/120 DPDK:fast-tests / ring_autotest                           OK              0.62s
 95/120 DPDK:fast-tests / rwlock_test1_autotest                   OK              1.34s
 96/120 DPDK:fast-tests / rwlock_rda_autotest                     OK              5.59s
 97/120 DPDK:fast-tests / rwlock_rds_wrm_autotest                 OK              5.59s
 98/120 DPDK:fast-tests / rwlock_rde_wro_autotest                 OK              5.60s
 99/120 DPDK:fast-tests / sched_autotest                          OK              0.59s
100/120 DPDK:fast-tests / security_autotest                       OK              0.08s
101/120 DPDK:fast-tests / seqlock_autotest                        OK              2.59s
102/120 DPDK:fast-tests / service_autotest                        OK              3.29s
103/120 DPDK:fast-tests / soring_autotest                         OK              0.60s
104/120 DPDK:fast-tests / spinlock_autotest                       OK              0.67s
105/120 DPDK:fast-tests / stack_autotest                          OK              0.88s
106/120 DPDK:fast-tests / stack_lf_autotest                       SKIP            0.07s   exit status 77
107/120 DPDK:fast-tests / string_autotest                         OK              0.59s
108/120 DPDK:fast-tests / table_autotest                          OK              7.95s
109/120 DPDK:fast-tests / tailq_autotest                          OK              0.59s
110/120 DPDK:fast-tests / telemetry_data_autotest                 OK              0.59s
111/120 DPDK:fast-tests / telemetry_json_autotest                 OK              0.59s
112/120 DPDK:fast-tests / thash_autotest                          OK              0.60s
113/120 DPDK:fast-tests / threads_autotest                        OK              0.77s
114/120 DPDK:fast-tests / ticketlock_autotest                     OK              0.77s
115/120 DPDK:fast-tests / timer_autotest                          OK              3.99s
116/120 DPDK:fast-tests / trace_autotest                          OK              0.59s
117/120 DPDK:fast-tests / trace_autotest_with_traces              OK              0.59s
118/120 DPDK:fast-tests / vdev_autotest                           OK              0.59s
119/120 DPDK:fast-tests / version_autotest                        OK              0.59s
120/120 DPDK:fast-tests / telemetry_all                           OK             19.56s


Ok:                 113
Expected Fail:      0
Fail:               0
Unexpected Pass:    0
Skipped:            7
Timeout:            0


^ permalink raw reply	[flat|nested] 27+ messages in thread

* |WARNING| pw157808 [PATCH v3 2/2] mailmap: sort mailmap
       [not found] <20251017133812.1109638-3-bruce.richardson@intel.com>
  2025-10-17 13:07 ` |SUCCESS| pw157807-157808 [PATCH v3 2/2] mailmap: sort mailmap qemudev
  2025-10-17 13:12 ` qemudev
@ 2025-10-17 13:38 ` checkpatch
  2025-10-17 14:03 ` |PENDING| pw157807-157808 [PATCH] [v3,2/2] " dpdklab
                   ` (23 subsequent siblings)
  26 siblings, 0 replies; 27+ messages in thread
From: checkpatch @ 2025-10-17 13:38 UTC (permalink / raw)
  To: test-report; +Cc: Bruce Richardson

Test-Label: checkpatch
Test-Status: WARNING
http://dpdk.org/patch/157808

_coding style issues_


WARNING:TYPO_SPELLING: 'Amin' may be misspelled - perhaps 'Main'?
#124: FILE: .mailmap:85:
+Amin Tootoonchian <amint@icsi.berkeley.edu>
 ^^^^

WARNING:TYPO_SPELLING: 'Wan' may be misspelled - perhaps 'Want'?
#524: FILE: .mailmap:796:
+Junjie Wan <wanjunjie@bytedance.com>
        ^^^

WARNING:TYPO_SPELLING: 'Tim' may be misspelled - perhaps 'Time'?
#995: FILE: .mailmap:1611:
+Tim Martin <timothym@nvidia.com>
 ^^^

WARNING:TYPO_SPELLING: 'Tim' may be misspelled - perhaps 'Time'?
#996: FILE: .mailmap:1612:
+Tim Shearer <tim.shearer@overturenetworks.com>
 ^^^

WARNING:TYPO_SPELLING: 'tim' may be misspelled - perhaps 'time'?
#996: FILE: .mailmap:1612:
+Tim Shearer <tim.shearer@overturenetworks.com>
              ^^^

total: 0 errors, 5 warnings, 1111 lines checked

^ permalink raw reply	[flat|nested] 27+ messages in thread

* |PENDING| pw157807-157808 [PATCH] [v3,2/2] mailmap: sort mailmap
       [not found] <20251017133812.1109638-3-bruce.richardson@intel.com>
                   ` (2 preceding siblings ...)
  2025-10-17 13:38 ` |WARNING| pw157808 " checkpatch
@ 2025-10-17 14:03 ` dpdklab
  2025-10-17 14:04 ` dpdklab
                   ` (22 subsequent siblings)
  26 siblings, 0 replies; 27+ messages in thread
From: dpdklab @ 2025-10-17 14:03 UTC (permalink / raw)
  To: Test Report; +Cc: dpdk-test-reports

Test-Label: iol-compile-amd64-testing
Test-Status: PENDING
http://dpdk.org/patch/157808

_Testing pending_

Submitter: Bruce Richardson <bruce.richardson@intel.com>
Date: Friday, October 17 2025 13:38:08 
DPDK git baseline: Repo:dpdk
  Branch: master
  CommitID:438491733c2d8a109574449d3d6de9b25a05c07c

157807-157808 --> testing pending

Upstream job id: Windows-Compile-DPDK-Native#31717

Test environment and result as below:

+---------------------+-------------------------+-------------------+--------------------+
|     Environment     | dpdk_llvm_clang_compile | dpdk_msvc_compile | dpdk_meson_compile |
+=====================+=========================+===================+====================+
| Windows Server 2022 | PASS                    | PEND              | SKIPPED            |
+---------------------+-------------------------+-------------------+--------------------+
| FreeBSD 14.2        | SKIPPED                 | SKIPPED           | PEND               |
+---------------------+-------------------------+-------------------+--------------------+


Windows Server 2022
	Kernel: 10.0.20348.2031
	Compiler: clang 15.0.7, gcc 14.1.0 (MinGW), and MSVC VS 19.39.33521

FreeBSD 14.2
	Kernel: 14.2-RELEASE
	Compiler: clang 18.1.6

To view detailed results, visit:
https://lab.dpdk.org/results/dashboard/patchsets/34316/

UNH-IOL DPDK Community Lab

To manage your email subscriptions, visit: 
https://lab.dpdk.org/results/dashboard/preferences/subscriptions/

^ permalink raw reply	[flat|nested] 27+ messages in thread

* |PENDING| pw157807-157808 [PATCH] [v3,2/2] mailmap: sort mailmap
       [not found] <20251017133812.1109638-3-bruce.richardson@intel.com>
                   ` (3 preceding siblings ...)
  2025-10-17 14:03 ` |PENDING| pw157807-157808 [PATCH] [v3,2/2] " dpdklab
@ 2025-10-17 14:04 ` dpdklab
  2025-10-17 14:06 ` |SUCCESS| " dpdklab
                   ` (21 subsequent siblings)
  26 siblings, 0 replies; 27+ messages in thread
From: dpdklab @ 2025-10-17 14:04 UTC (permalink / raw)
  To: Test Report; +Cc: dpdk-test-reports

Test-Label: iol-unit-amd64-testing
Test-Status: PENDING
http://dpdk.org/patch/157808

_Testing pending_

Submitter: Bruce Richardson <bruce.richardson@intel.com>
Date: Friday, October 17 2025 13:38:08 
DPDK git baseline: Repo:dpdk
  Branch: master
  CommitID:438491733c2d8a109574449d3d6de9b25a05c07c

157807-157808 --> testing pending

Upstream job id: Generic-Unit-Test-DPDK#382808

Test environment and result as below:

+-------------------------------+----------------+
|          Environment          | dpdk_unit_test |
+===============================+================+
| CentOS Stream 9               | PEND           |
+-------------------------------+----------------+
| CentOS Stream 10              | PEND           |
+-------------------------------+----------------+
| Debian GNU/Linux 12           | PEND           |
+-------------------------------+----------------+
| Fedora Linux 40               | PEND           |
+-------------------------------+----------------+
| Fedora Linux 41               | PEND           |
+-------------------------------+----------------+
| Fedora Linux 42               | PEND           |
+-------------------------------+----------------+
| Red Hat Enterprise Linux 9.5  | PEND           |
+-------------------------------+----------------+
| Red Hat Enterprise Linux 8.10 | PEND           |
+-------------------------------+----------------+
| Ubuntu 20.04                  | PEND           |
+-------------------------------+----------------+
| Ubuntu 24.04                  | PEND           |
+-------------------------------+----------------+
| Ubuntu 22.04                  | PEND           |
+-------------------------------+----------------+


CentOS Stream 9
	Kernel: 5.15
	Compiler: gcc gcc (GCC) 11.5.0 20240719 (Red Hat 11.5.0-11)

CentOS Stream 10
	Kernel: 5.15
	Compiler: gcc gcc (GCC) 14.2.1 20250110 (Red Hat 14.2.1-8)

Debian GNU/Linux 12
	Kernel: 5.15
	Compiler: gcc gcc (Debian 12.2.0-14+deb12u1) 12.2.0

Fedora Linux 40
	Kernel: 5.15
	Compiler: gcc gcc (GCC) 14.2.1 20240912 (Red Hat 14.2.1-3)

Fedora Linux 41
	Kernel: 5.15
	Compiler: clang gcc (GCC) 14.3.1 20250523 (Red Hat 14.3.1-1)

Fedora Linux 42
	Kernel: 5.15
	Compiler: gcc gcc (GCC) 15.2.1 20250808 (Red Hat 15.2.1-1)

Red Hat Enterprise Linux 9.5
	Kernel: 5.15
	Compiler: gcc gcc (GCC) 11.5.0 20240719 (Red Hat 11.5.0-2)

Red Hat Enterprise Linux 8.10
	Kernel: 5.15
	Compiler: gcc gcc (GCC) 8.5.0 20210514 (Red Hat 8.5.0-22)

Ubuntu 20.04
	Kernel: 5.15
	Compiler: gcc gcc (Ubuntu 9.4.0-1ubuntu1~20.04.2) 9.4.0

Ubuntu 24.04
	Kernel: 5.15
	Compiler: gcc gcc (Ubuntu 13.3.0-6ubuntu2~24.04) 13.3.0

Ubuntu 22.04
	Kernel: 5.15
	Compiler: gcc gcc (Ubuntu 11.4.0-1ubuntu1~22.04) 11.4.0

To view detailed results, visit:
https://lab.dpdk.org/results/dashboard/patchsets/34316/

UNH-IOL DPDK Community Lab

To manage your email subscriptions, visit: 
https://lab.dpdk.org/results/dashboard/preferences/subscriptions/

^ permalink raw reply	[flat|nested] 27+ messages in thread

* |SUCCESS| pw157807-157808 [PATCH] [v3,2/2] mailmap: sort mailmap
       [not found] <20251017133812.1109638-3-bruce.richardson@intel.com>
                   ` (4 preceding siblings ...)
  2025-10-17 14:04 ` dpdklab
@ 2025-10-17 14:06 ` dpdklab
  2025-10-17 14:12 ` |PENDING| " dpdklab
                   ` (20 subsequent siblings)
  26 siblings, 0 replies; 27+ messages in thread
From: dpdklab @ 2025-10-17 14:06 UTC (permalink / raw)
  To: Test Report; +Cc: dpdk-test-reports

Test-Label: iol-mellanox-Functional
Test-Status: SUCCESS
http://dpdk.org/patch/157808

_Functional Testing PASS_

Submitter: Bruce Richardson <bruce.richardson@intel.com>
Date: Friday, October 17 2025 13:38:08 
DPDK git baseline: Repo:dpdk
  Branch: master
  CommitID:438491733c2d8a109574449d3d6de9b25a05c07c

157807-157808 --> functional testing pass

Upstream job id: Template-DPDK-DTS-Pipeline#2516

Test environment and result as below:

Ubuntu 24.04
Kernel: 6.8.0-55-generic
Compiler: gcc 13.3.0
NIC: Mellanox ConnectX-5 100000 Mbps

Aggregate Results by Test Suite
+---------------------------------+--------+
|           Test Suite            | Result |
+=================================+========+
| blocklist                       |  PASS  |
+---------------------------------+--------+
| promisc_support                 |  PASS  |
+---------------------------------+--------+
| uni_pkt                         |  PASS  |
+---------------------------------+--------+
| dynamic_config                  |  PASS  |
+---------------------------------+--------+
| hello_world                     |  PASS  |
+---------------------------------+--------+
| l2fwd                           |  PASS  |
+---------------------------------+--------+
| port_restart_config_persistency |  PASS  |
+---------------------------------+--------+
| softnic                         |  PASS  |
+---------------------------------+--------+
| vlan                            |  PASS  |
+---------------------------------+--------+


To view detailed results, visit:
https://lab.dpdk.org/results/dashboard/patchsets/34316/

UNH-IOL DPDK Community Lab

To manage your email subscriptions, visit: 
https://lab.dpdk.org/results/dashboard/preferences/subscriptions/

^ permalink raw reply	[flat|nested] 27+ messages in thread

* |PENDING| pw157807-157808 [PATCH] [v3,2/2] mailmap: sort mailmap
       [not found] <20251017133812.1109638-3-bruce.richardson@intel.com>
                   ` (5 preceding siblings ...)
  2025-10-17 14:06 ` |SUCCESS| " dpdklab
@ 2025-10-17 14:12 ` dpdklab
  2025-10-17 14:14 ` dpdklab
                   ` (19 subsequent siblings)
  26 siblings, 0 replies; 27+ messages in thread
From: dpdklab @ 2025-10-17 14:12 UTC (permalink / raw)
  To: Test Report; +Cc: dpdk-test-reports

Test-Label: iol-unit-arm64-testing
Test-Status: PENDING
http://dpdk.org/patch/157808

_Testing pending_

Submitter: Bruce Richardson <bruce.richardson@intel.com>
Date: Friday, October 17 2025 13:38:08 
DPDK git baseline: Repo:dpdk
  Branch: master
  CommitID:438491733c2d8a109574449d3d6de9b25a05c07c

157807-157808 --> testing pending

Upstream job id: Generic-Unit-Test-DPDK#382822

Test environment and result as below:

+------------------------------+----------------+--------------+------------------------------+---------------------------+
|         Environment          | dpdk_unit_test | lpm_autotest | cryptodev_sw_snow3g_autotest | cryptodev_sw_zuc_autotest |
+==============================+================+==============+==============================+===========================+
| CentOS Stream 9              | PEND           | SKIPPED      | SKIPPED                      | SKIPPED                   |
+------------------------------+----------------+--------------+------------------------------+---------------------------+
| Debian GNU/Linux 12          | PEND           | SKIPPED      | SKIPPED                      | SKIPPED                   |
+------------------------------+----------------+--------------+------------------------------+---------------------------+
| CentOS Stream 10             | PEND           | SKIPPED      | SKIPPED                      | SKIPPED                   |
+------------------------------+----------------+--------------+------------------------------+---------------------------+
| Fedora Linux 40              | PEND           | SKIPPED      | SKIPPED                      | SKIPPED                   |
+------------------------------+----------------+--------------+------------------------------+---------------------------+
| Fedora Linux 42              | PEND           | SKIPPED      | SKIPPED                      | SKIPPED                   |
+------------------------------+----------------+--------------+------------------------------+---------------------------+
| Fedora Linux 41              | PEND           | SKIPPED      | SKIPPED                      | SKIPPED                   |
+------------------------------+----------------+--------------+------------------------------+---------------------------+
| Red Hat Enterprise Linux 9.5 | PEND           | SKIPPED      | SKIPPED                      | SKIPPED                   |
+------------------------------+----------------+--------------+------------------------------+---------------------------+
| Ubuntu 24.04                 | PEND           | SKIPPED      | SKIPPED                      | SKIPPED                   |
+------------------------------+----------------+--------------+------------------------------+---------------------------+
| Ubuntu 20.04                 | PEND           | PASS         | SKIPPED                      | SKIPPED                   |
+------------------------------+----------------+--------------+------------------------------+---------------------------+
| Ubuntu 22.04                 | PEND           | SKIPPED      | SKIPPED                      | SKIPPED                   |
+------------------------------+----------------+--------------+------------------------------+---------------------------+
| Debian 12 (arm)              | SKIPPED        | SKIPPED      | PEND                         | PEND                      |
+------------------------------+----------------+--------------+------------------------------+---------------------------+


CentOS Stream 9
	Kernel: 5.4
	Compiler: gcc gcc (GCC) 11.5.0 20240719 (Red Hat 11.5.0-11)

Debian GNU/Linux 12
	Kernel: 5.4
	Compiler: gcc gcc (Debian 12.2.0-14+deb12u1) 12.2.0

CentOS Stream 10
	Kernel: 5.4
	Compiler: gcc gcc (GCC) 14.2.1 20250110 (Red Hat 14.2.1-8)

Fedora Linux 40
	Kernel: 5.4
	Compiler: gcc gcc (GCC) 14.2.1 20240912 (Red Hat 14.2.1-3)

Fedora Linux 42
	Kernel: 5.4
	Compiler: gcc gcc (GCC) 15.2.1 20250808 (Red Hat 15.2.1-1)

Fedora Linux 41
	Kernel: 5.4
	Compiler: gcc gcc (GCC) 14.3.1 20250523 (Red Hat 14.3.1-1)

Red Hat Enterprise Linux 9.5
	Kernel: 5.4
	Compiler: gcc gcc (GCC) 11.5.0 20240719 (Red Hat 11.5.0-2)

Ubuntu 24.04
	Kernel: 5.4
	Compiler: gcc gcc (Ubuntu 13.3.0-6ubuntu2~24.04) 13.3.0

Ubuntu 20.04
	Kernel: 5.4
	Compiler: gcc gcc (Ubuntu 9.4.0-1ubuntu1~20.04.2) 9.4.0

Ubuntu 22.04
	Kernel: 5.4
	Compiler: gcc gcc (Ubuntu 11.4.0-1ubuntu1~22.04) 11.4.0

Debian 12 (arm)
	Kernel: Depends on container host
	Compiler: gcc (Debian 12.2.0-14) 12.2.0

To view detailed results, visit:
https://lab.dpdk.org/results/dashboard/patchsets/34316/

UNH-IOL DPDK Community Lab

To manage your email subscriptions, visit: 
https://lab.dpdk.org/results/dashboard/preferences/subscriptions/

^ permalink raw reply	[flat|nested] 27+ messages in thread

* |PENDING| pw157807-157808 [PATCH] [v3,2/2] mailmap: sort mailmap
       [not found] <20251017133812.1109638-3-bruce.richardson@intel.com>
                   ` (6 preceding siblings ...)
  2025-10-17 14:12 ` |PENDING| " dpdklab
@ 2025-10-17 14:14 ` dpdklab
  2025-10-17 14:14 ` |SUCCESS| " dpdklab
                   ` (18 subsequent siblings)
  26 siblings, 0 replies; 27+ messages in thread
From: dpdklab @ 2025-10-17 14:14 UTC (permalink / raw)
  To: Test Report; +Cc: dpdk-test-reports

Test-Label: iol-sample-apps-testing
Test-Status: PENDING
http://dpdk.org/patch/157808

_Testing pending_

Submitter: Bruce Richardson <bruce.richardson@intel.com>
Date: Friday, October 17 2025 13:38:08 
DPDK git baseline: Repo:dpdk
  Branch: master
  CommitID:438491733c2d8a109574449d3d6de9b25a05c07c

157807-157808 --> testing pending

Upstream job id: Template-DTS-Pipeline#250050

Test environment and result as below:

+--------------+----------------------+----------------------+
| Environment  | dpdk_fips_validation | compressdev_zlib_pmd |
+==============+======================+======================+
| Ubuntu 20.04 | PEND                 | SKIPPED              |
+--------------+----------------------+----------------------+
| Ubuntu 22.04 | SKIPPED              | PASS                 |
+--------------+----------------------+----------------------+


Ubuntu 20.04
	Kernel: 5.15
	Compiler: gcc gcc (Ubuntu 9.4.0-1ubuntu1~20.04.2) 9.4.0

Ubuntu 22.04
	Kernel: 5.15
	Compiler: gcc gcc (Ubuntu 11.4.0-1ubuntu1~22.04.2) 11.4.0

To view detailed results, visit:
https://lab.dpdk.org/results/dashboard/patchsets/34316/

UNH-IOL DPDK Community Lab

To manage your email subscriptions, visit: 
https://lab.dpdk.org/results/dashboard/preferences/subscriptions/

^ permalink raw reply	[flat|nested] 27+ messages in thread

* |SUCCESS| pw157807-157808 [PATCH] [v3,2/2] mailmap: sort mailmap
       [not found] <20251017133812.1109638-3-bruce.richardson@intel.com>
                   ` (7 preceding siblings ...)
  2025-10-17 14:14 ` dpdklab
@ 2025-10-17 14:14 ` dpdklab
  2025-10-17 14:21 ` dpdklab
                   ` (17 subsequent siblings)
  26 siblings, 0 replies; 27+ messages in thread
From: dpdklab @ 2025-10-17 14:14 UTC (permalink / raw)
  To: Test Report; +Cc: dpdk-test-reports

Test-Label: iol-marvell-Functional
Test-Status: SUCCESS
http://dpdk.org/patch/157808

_Functional Testing PASS_

Submitter: Bruce Richardson <bruce.richardson@intel.com>
Date: Friday, October 17 2025 13:38:08 
DPDK git baseline: Repo:dpdk
  Branch: master
  CommitID:438491733c2d8a109574449d3d6de9b25a05c07c

157807-157808 --> functional testing pass

Upstream job id: Template-DTS-Pipeline#250048

Test environment and result as below:

Ubuntu 20.04.6
Kernel: 5.4.105
Compiler: gcc 9.4
NIC: Marvell CN106XX 50000 Mbps
Target: arm64-native-linuxapp-gcc

Aggregate Results by Test Suite
+----------------+--------+
|   Test Suite   | Result |
+================+========+
| cmdline        |  PASS  |
+----------------+--------+
| dynamic_queue  |  PASS  |
+----------------+--------+
| rxtx_callbacks |  PASS  |
+----------------+--------+


To view detailed results, visit:
https://lab.dpdk.org/results/dashboard/patchsets/34316/

UNH-IOL DPDK Community Lab

To manage your email subscriptions, visit: 
https://lab.dpdk.org/results/dashboard/preferences/subscriptions/

^ permalink raw reply	[flat|nested] 27+ messages in thread

* |SUCCESS| pw157807-157808 [PATCH] [v3,2/2] mailmap: sort mailmap
       [not found] <20251017133812.1109638-3-bruce.richardson@intel.com>
                   ` (8 preceding siblings ...)
  2025-10-17 14:14 ` |SUCCESS| " dpdklab
@ 2025-10-17 14:21 ` dpdklab
  2025-10-17 14:23 ` dpdklab
                   ` (16 subsequent siblings)
  26 siblings, 0 replies; 27+ messages in thread
From: dpdklab @ 2025-10-17 14:21 UTC (permalink / raw)
  To: Test Report; +Cc: dpdk-test-reports

Test-Label: iol-compile-amd64-testing
Test-Status: SUCCESS
http://dpdk.org/patch/157808

_Testing PASS_

Submitter: Bruce Richardson <bruce.richardson@intel.com>
Date: Friday, October 17 2025 13:38:08 
DPDK git baseline: Repo:dpdk
  Branch: master
  CommitID:438491733c2d8a109574449d3d6de9b25a05c07c

157807-157808 --> testing pass

Upstream job id: Windows-Compile-DPDK-Native#31718

Test environment and result as below:

+---------------------+-------------------------+-------------------+--------------------+----------------------+
|     Environment     | dpdk_llvm_clang_compile | dpdk_msvc_compile | dpdk_meson_compile | dpdk_mingw64_compile |
+=====================+=========================+===================+====================+======================+
| Windows Server 2022 | PASS                    | PASS              | SKIPPED            | PASS                 |
+---------------------+-------------------------+-------------------+--------------------+----------------------+
| FreeBSD 14.2        | SKIPPED                 | SKIPPED           | PASS               | SKIPPED              |
+---------------------+-------------------------+-------------------+--------------------+----------------------+
| Ubuntu 20.04        | SKIPPED                 | SKIPPED           | PASS               | SKIPPED              |
+---------------------+-------------------------+-------------------+--------------------+----------------------+


Windows Server 2022
	Kernel: 10.0.20348.2031
	Compiler: clang 15.0.7, gcc 14.1.0 (MinGW), and MSVC VS 19.39.33521

FreeBSD 14.2
	Kernel: 14.2-RELEASE
	Compiler: clang 18.1.6

Ubuntu 20.04
	Kernel: 4.19
	Compiler: gcc gcc (Ubuntu 9.4.0-1ubuntu1~20.04.2) 9.4.0

To view detailed results, visit:
https://lab.dpdk.org/results/dashboard/patchsets/34316/

UNH-IOL DPDK Community Lab

To manage your email subscriptions, visit: 
https://lab.dpdk.org/results/dashboard/preferences/subscriptions/

^ permalink raw reply	[flat|nested] 27+ messages in thread

* |SUCCESS| pw157807-157808 [PATCH] [v3,2/2] mailmap: sort mailmap
       [not found] <20251017133812.1109638-3-bruce.richardson@intel.com>
                   ` (9 preceding siblings ...)
  2025-10-17 14:21 ` dpdklab
@ 2025-10-17 14:23 ` dpdklab
  2025-10-17 14:25 ` dpdklab
                   ` (15 subsequent siblings)
  26 siblings, 0 replies; 27+ messages in thread
From: dpdklab @ 2025-10-17 14:23 UTC (permalink / raw)
  To: Test Report; +Cc: dpdk-test-reports

Test-Label: iol-intel-Functional
Test-Status: SUCCESS
http://dpdk.org/patch/157808

_Functional Testing PASS_

Submitter: Bruce Richardson <bruce.richardson@intel.com>
Date: Friday, October 17 2025 13:38:08 
DPDK git baseline: Repo:dpdk
  Branch: master
  CommitID:438491733c2d8a109574449d3d6de9b25a05c07c

157807-157808 --> functional testing pass

Upstream job id: Template-DTS-Pipeline#250051

Test environment and result as below:

Ubuntu 24.04 LTS
Kernel: 6.8.0-44-generic
Compiler: gcc 13.2.0
NIC: Intel Corporation Ethernet Controller XL710 for 40GbE QSFP+ 40 Mbps

Aggregate Results by Test Suite
+--------------------+--------+
|     Test Suite     | Result |
+====================+========+
| blocklist          |  PASS  |
+--------------------+--------+
| promisc_support    |  PASS  |
+--------------------+--------+
| uni_pkt            |  PASS  |
+--------------------+--------+
| dynamic_config     |  PASS  |
+--------------------+--------+
| dynamic_queue_conf |  PASS  |
+--------------------+--------+
| hello_world        |  PASS  |
+--------------------+--------+
| l2fwd              |  PASS  |
+--------------------+--------+
| softnic            |  PASS  |
+--------------------+--------+
| vlan               |  PASS  |
+--------------------+--------+


Ubuntu 24.04
Kernel: 6.8
Compiler: gcc gcc (Ubuntu 13.3.0-6ubuntu2~24.04) 13.3.0
NIC: Intel Corporation 4xxx Series QAT 0 Mbps

Aggregate Results by Test Suite
+----------------------------+--------+
|         Test Suite         | Result |
+============================+========+
| crypto_perf_cryptodev_perf |  PASS  |
+----------------------------+--------+


To view detailed results, visit:
https://lab.dpdk.org/results/dashboard/patchsets/34316/

UNH-IOL DPDK Community Lab

To manage your email subscriptions, visit: 
https://lab.dpdk.org/results/dashboard/preferences/subscriptions/

^ permalink raw reply	[flat|nested] 27+ messages in thread

* |SUCCESS| pw157807-157808 [PATCH] [v3,2/2] mailmap: sort mailmap
       [not found] <20251017133812.1109638-3-bruce.richardson@intel.com>
                   ` (10 preceding siblings ...)
  2025-10-17 14:23 ` dpdklab
@ 2025-10-17 14:25 ` dpdklab
  2025-10-17 14:26 ` dpdklab
                   ` (14 subsequent siblings)
  26 siblings, 0 replies; 27+ messages in thread
From: dpdklab @ 2025-10-17 14:25 UTC (permalink / raw)
  To: Test Report, Ali Alnubani; +Cc: dpdk-test-reports

Test-Label: iol-mellanox-Performance
Test-Status: SUCCESS
http://dpdk.org/patch/157808

_Performance Testing PASS_

Submitter: Bruce Richardson <bruce.richardson@intel.com>
Date: Friday, October 17 2025 13:38:08 
DPDK git baseline: Repo:dpdk
  Branch: master
  CommitID:438491733c2d8a109574449d3d6de9b25a05c07c

157807-157808 --> performance testing pass

Upstream job id: Template-DTS-Pipeline#250038

Test environment and result as below:

Ubuntu 24.04
Kernel: 6.8
Compiler: gcc gcc (Ubuntu 13.3.0-6ubuntu2~24.04) 13.3.0
NIC: Mellanox ConnectX-6 Lx 25000 Mbps
Fail/Total: 0/6

Detail performance results: 
+------------+---------+----------+-------------+------------------------------+
| frame_size | txd/rxd | num_cpus | num_threads |  throughput difference from  |
|            |         |          |             |           expected           |
+============+=========+==========+=============+==============================+
| 64         | 1024    | 1        | 1           | -0.1%                        |
+------------+---------+----------+-------------+------------------------------+
| 128        | 1024    | 1        | 1           | 0.0%                         |
+------------+---------+----------+-------------+------------------------------+
| 256        | 1024    | 1        | 1           | 0.0%                         |
+------------+---------+----------+-------------+------------------------------+
| 512        | 1024    | 1        | 1           | -0.1%                        |
+------------+---------+----------+-------------+------------------------------+
| 1024       | 1024    | 1        | 1           | -0.1%                        |
+------------+---------+----------+-------------+------------------------------+
| 1518       | 1024    | 1        | 1           | -0.1%                        |
+------------+---------+----------+-------------+------------------------------+

Ubuntu 24.04
Kernel: 6.8
Compiler: gcc gcc (Ubuntu 13.3.0-6ubuntu2~24.04) 13.3.0
NIC: NVIDIA Mellanox ConnectX-7 100000 Mbps
Fail/Total: 0/6

Detail performance results: 
+------------+---------+----------+-------------+------------------------------+
| frame_size | txd/rxd | num_cpus | num_threads |  throughput difference from  |
|            |         |          |             |           expected           |
+============+=========+==========+=============+==============================+
| 64         | 1024    | 1        | 1           | -0.1%                        |
+------------+---------+----------+-------------+------------------------------+
| 128        | 1024    | 1        | 1           | 0.8%                         |
+------------+---------+----------+-------------+------------------------------+
| 256        | 1024    | 1        | 1           | 1.0%                         |
+------------+---------+----------+-------------+------------------------------+
| 512        | 1024    | 1        | 1           | -0.1%                        |
+------------+---------+----------+-------------+------------------------------+
| 1024       | 1024    | 1        | 1           | -0.2%                        |
+------------+---------+----------+-------------+------------------------------+
| 1518       | 1024    | 1        | 1           | -0.1%                        |
+------------+---------+----------+-------------+------------------------------+

To view detailed results, visit:
https://lab.dpdk.org/results/dashboard/patchsets/34316/

UNH-IOL DPDK Community Lab

To manage your email subscriptions, visit: 
https://lab.dpdk.org/results/dashboard/preferences/subscriptions/

^ permalink raw reply	[flat|nested] 27+ messages in thread

* |SUCCESS| pw157807-157808 [PATCH] [v3,2/2] mailmap: sort mailmap
       [not found] <20251017133812.1109638-3-bruce.richardson@intel.com>
                   ` (11 preceding siblings ...)
  2025-10-17 14:25 ` dpdklab
@ 2025-10-17 14:26 ` dpdklab
  2025-10-17 14:27 ` dpdklab
                   ` (13 subsequent siblings)
  26 siblings, 0 replies; 27+ messages in thread
From: dpdklab @ 2025-10-17 14:26 UTC (permalink / raw)
  To: Test Report; +Cc: dpdk-test-reports

Test-Label: iol-unit-amd64-testing
Test-Status: SUCCESS
http://dpdk.org/patch/157808

_Testing PASS_

Submitter: Bruce Richardson <bruce.richardson@intel.com>
Date: Friday, October 17 2025 13:38:08 
DPDK git baseline: Repo:dpdk
  Branch: master
  CommitID:438491733c2d8a109574449d3d6de9b25a05c07c

157807-157808 --> testing pass

Upstream job id: Generic-Unit-Test-DPDK#382818

Test environment and result as below:

+-------------------------------+----------------+
|          Environment          | dpdk_unit_test |
+===============================+================+
| CentOS Stream 9               | PASS           |
+-------------------------------+----------------+
| CentOS Stream 10              | PASS           |
+-------------------------------+----------------+
| Debian GNU/Linux 12           | PASS           |
+-------------------------------+----------------+
| Fedora Linux 40               | PASS           |
+-------------------------------+----------------+
| Fedora Linux 41               | PASS           |
+-------------------------------+----------------+
| Fedora Linux 42               | PASS           |
+-------------------------------+----------------+
| Red Hat Enterprise Linux 9.5  | PASS           |
+-------------------------------+----------------+
| Red Hat Enterprise Linux 8.10 | PASS           |
+-------------------------------+----------------+
| Ubuntu 20.04                  | PASS           |
+-------------------------------+----------------+
| Ubuntu 24.04                  | PASS           |
+-------------------------------+----------------+
| Ubuntu 22.04                  | PASS           |
+-------------------------------+----------------+


CentOS Stream 9
	Kernel: 5.15
	Compiler: gcc gcc (GCC) 11.5.0 20240719 (Red Hat 11.5.0-11)

CentOS Stream 10
	Kernel: 5.15
	Compiler: gcc gcc (GCC) 14.2.1 20250110 (Red Hat 14.2.1-8)

Debian GNU/Linux 12
	Kernel: 5.15
	Compiler: gcc gcc (Debian 12.2.0-14+deb12u1) 12.2.0

Fedora Linux 40
	Kernel: 5.15
	Compiler: gcc gcc (GCC) 14.2.1 20240912 (Red Hat 14.2.1-3)

Fedora Linux 41
	Kernel: 5.15
	Compiler: clang gcc (GCC) 14.3.1 20250523 (Red Hat 14.3.1-1)

Fedora Linux 42
	Kernel: 5.15
	Compiler: gcc gcc (GCC) 15.2.1 20250808 (Red Hat 15.2.1-1)

Red Hat Enterprise Linux 9.5
	Kernel: 5.15
	Compiler: gcc gcc (GCC) 11.5.0 20240719 (Red Hat 11.5.0-2)

Red Hat Enterprise Linux 8.10
	Kernel: 5.15
	Compiler: gcc gcc (GCC) 8.5.0 20210514 (Red Hat 8.5.0-22)

Ubuntu 20.04
	Kernel: 5.15
	Compiler: gcc gcc (Ubuntu 9.4.0-1ubuntu1~20.04.2) 9.4.0

Ubuntu 24.04
	Kernel: 5.15
	Compiler: gcc gcc (Ubuntu 13.3.0-6ubuntu2~24.04) 13.3.0

Ubuntu 22.04
	Kernel: 5.15
	Compiler: gcc gcc (Ubuntu 11.4.0-1ubuntu1~22.04) 11.4.0

To view detailed results, visit:
https://lab.dpdk.org/results/dashboard/patchsets/34316/

UNH-IOL DPDK Community Lab

To manage your email subscriptions, visit: 
https://lab.dpdk.org/results/dashboard/preferences/subscriptions/

^ permalink raw reply	[flat|nested] 27+ messages in thread

* |SUCCESS| pw157807-157808 [PATCH] [v3,2/2] mailmap: sort mailmap
       [not found] <20251017133812.1109638-3-bruce.richardson@intel.com>
                   ` (12 preceding siblings ...)
  2025-10-17 14:26 ` dpdklab
@ 2025-10-17 14:27 ` dpdklab
  2025-10-17 14:27 ` dpdklab
                   ` (12 subsequent siblings)
  26 siblings, 0 replies; 27+ messages in thread
From: dpdklab @ 2025-10-17 14:27 UTC (permalink / raw)
  To: Test Report; +Cc: dpdk-test-reports

Test-Label: iol-sample-apps-testing
Test-Status: SUCCESS
http://dpdk.org/patch/157808

_Testing PASS_

Submitter: Bruce Richardson <bruce.richardson@intel.com>
Date: Friday, October 17 2025 13:38:08 
DPDK git baseline: Repo:dpdk
  Branch: master
  CommitID:438491733c2d8a109574449d3d6de9b25a05c07c

157807-157808 --> testing pass

Upstream job id: ACVP-FIPS-testing#11472

Test environment and result as below:

+--------------+----------------------+----------------------+
| Environment  | dpdk_fips_validation | compressdev_zlib_pmd |
+==============+======================+======================+
| Ubuntu 20.04 | PASS                 | SKIPPED              |
+--------------+----------------------+----------------------+
| Ubuntu 22.04 | SKIPPED              | PASS                 |
+--------------+----------------------+----------------------+


Ubuntu 20.04
	Kernel: 5.15
	Compiler: gcc gcc (Ubuntu 9.4.0-1ubuntu1~20.04.2) 9.4.0

Ubuntu 22.04
	Kernel: 5.15
	Compiler: gcc gcc (Ubuntu 11.4.0-1ubuntu1~22.04.2) 11.4.0

To view detailed results, visit:
https://lab.dpdk.org/results/dashboard/patchsets/34316/

UNH-IOL DPDK Community Lab

To manage your email subscriptions, visit: 
https://lab.dpdk.org/results/dashboard/preferences/subscriptions/

^ permalink raw reply	[flat|nested] 27+ messages in thread

* |SUCCESS| pw157807-157808 [PATCH] [v3,2/2] mailmap: sort mailmap
       [not found] <20251017133812.1109638-3-bruce.richardson@intel.com>
                   ` (13 preceding siblings ...)
  2025-10-17 14:27 ` dpdklab
@ 2025-10-17 14:27 ` dpdklab
  2025-10-17 15:24 ` dpdklab
                   ` (11 subsequent siblings)
  26 siblings, 0 replies; 27+ messages in thread
From: dpdklab @ 2025-10-17 14:27 UTC (permalink / raw)
  To: Test Report; +Cc: dpdk-test-reports

Test-Label: iol-intel-Functional
Test-Status: SUCCESS
http://dpdk.org/patch/157808

_Functional Testing PASS_

Submitter: Bruce Richardson <bruce.richardson@intel.com>
Date: Friday, October 17 2025 13:38:08 
DPDK git baseline: Repo:dpdk
  Branch: master
  CommitID:438491733c2d8a109574449d3d6de9b25a05c07c

157807-157808 --> functional testing pass

Upstream job id: Template-DTS-Pipeline#250045

Test environment and result as below:

Ubuntu 24.04 LTS
Kernel: 6.8.0-44-generic
Compiler: gcc 13.2.0
NIC: Intel Corporation Ethernet Controller XL710 for 40GbE QSFP+ 40 Mbps

Aggregate Results by Test Suite
+--------------------+--------+
|     Test Suite     | Result |
+====================+========+
| blocklist          |  PASS  |
+--------------------+--------+
| promisc_support    |  PASS  |
+--------------------+--------+
| uni_pkt            |  PASS  |
+--------------------+--------+
| dynamic_config     |  PASS  |
+--------------------+--------+
| dynamic_queue_conf |  PASS  |
+--------------------+--------+
| hello_world        |  PASS  |
+--------------------+--------+
| l2fwd              |  PASS  |
+--------------------+--------+
| softnic            |  PASS  |
+--------------------+--------+
| vlan               |  PASS  |
+--------------------+--------+


Ubuntu 24.04
Kernel: 6.8
Compiler: gcc gcc (Ubuntu 13.3.0-6ubuntu2~24.04) 13.3.0
NIC: Intel Corporation 4xxx Series QAT 0 Mbps

Aggregate Results by Test Suite
+----------------------------+--------+
|         Test Suite         | Result |
+============================+========+
| crypto_perf_cryptodev_perf |  PASS  |
+----------------------------+--------+


Ubuntu 20.04
Kernel: 5.4
Compiler: gcc gcc (Ubuntu 9.4.0-1ubuntu1~20.04.1) 9.4.0
NIC: Intel Corporation Ethernet Converged Network Adapter XL710-QDA2 40000 Mbps

Aggregate Results by Test Suite
+-----------------------------+--------+
|         Test Suite          | Result |
+=============================+========+
| unit_tests_mbuf             |  PASS  |
+-----------------------------+--------+
| vhost_virtio_user_interrupt |  PASS  |
+-----------------------------+--------+
| virtio_smoke                |  PASS  |
+-----------------------------+--------+


To view detailed results, visit:
https://lab.dpdk.org/results/dashboard/patchsets/34316/

UNH-IOL DPDK Community Lab

To manage your email subscriptions, visit: 
https://lab.dpdk.org/results/dashboard/preferences/subscriptions/

^ permalink raw reply	[flat|nested] 27+ messages in thread

* |SUCCESS| pw157807-157808 [PATCH] [v3,2/2] mailmap: sort mailmap
       [not found] <20251017133812.1109638-3-bruce.richardson@intel.com>
                   ` (14 preceding siblings ...)
  2025-10-17 14:27 ` dpdklab
@ 2025-10-17 15:24 ` dpdklab
  2025-10-17 15:39 ` dpdklab
                   ` (10 subsequent siblings)
  26 siblings, 0 replies; 27+ messages in thread
From: dpdklab @ 2025-10-17 15:24 UTC (permalink / raw)
  To: Test Report; +Cc: dpdk-test-reports

Test-Label: iol-unit-amd64-testing
Test-Status: SUCCESS
http://dpdk.org/patch/157808

_Testing PASS_

Submitter: Bruce Richardson <bruce.richardson@intel.com>
Date: Friday, October 17 2025 13:38:08 
DPDK git baseline: Repo:dpdk
  Branch: master
  CommitID:438491733c2d8a109574449d3d6de9b25a05c07c

157807-157808 --> testing pass

Upstream job id: Generic-VM-Unit-Test-DPDK#31888

Test environment and result as below:

+-------------------------------+----------------+
|          Environment          | dpdk_unit_test |
+===============================+================+
| CentOS Stream 9               | PASS           |
+-------------------------------+----------------+
| CentOS Stream 10              | PASS           |
+-------------------------------+----------------+
| Debian GNU/Linux 12           | PASS           |
+-------------------------------+----------------+
| Fedora Linux 40               | PASS           |
+-------------------------------+----------------+
| Fedora Linux 41               | PASS           |
+-------------------------------+----------------+
| Fedora Linux 42               | PASS           |
+-------------------------------+----------------+
| Red Hat Enterprise Linux 9.5  | PASS           |
+-------------------------------+----------------+
| Red Hat Enterprise Linux 8.10 | PASS           |
+-------------------------------+----------------+
| Ubuntu 20.04                  | PASS           |
+-------------------------------+----------------+
| Ubuntu 24.04                  | PASS           |
+-------------------------------+----------------+
| Ubuntu 22.04                  | PASS           |
+-------------------------------+----------------+
| Windows Server 2022           | PASS           |
+-------------------------------+----------------+


CentOS Stream 9
	Kernel: 5.15
	Compiler: gcc gcc (GCC) 11.5.0 20240719 (Red Hat 11.5.0-11)

CentOS Stream 10
	Kernel: 5.15
	Compiler: gcc gcc (GCC) 14.2.1 20250110 (Red Hat 14.2.1-8)

Debian GNU/Linux 12
	Kernel: 5.15
	Compiler: gcc gcc (Debian 12.2.0-14+deb12u1) 12.2.0

Fedora Linux 40
	Kernel: 5.15
	Compiler: gcc gcc (GCC) 14.2.1 20240912 (Red Hat 14.2.1-3)

Fedora Linux 41
	Kernel: 5.15
	Compiler: clang gcc (GCC) 14.3.1 20250523 (Red Hat 14.3.1-1)

Fedora Linux 42
	Kernel: 5.15
	Compiler: gcc gcc (GCC) 15.2.1 20250808 (Red Hat 15.2.1-1)

Red Hat Enterprise Linux 9.5
	Kernel: 5.15
	Compiler: gcc gcc (GCC) 11.5.0 20240719 (Red Hat 11.5.0-2)

Red Hat Enterprise Linux 8.10
	Kernel: 5.15
	Compiler: gcc gcc (GCC) 8.5.0 20210514 (Red Hat 8.5.0-22)

Ubuntu 20.04
	Kernel: 5.15
	Compiler: gcc gcc (Ubuntu 9.4.0-1ubuntu1~20.04.2) 9.4.0

Ubuntu 24.04
	Kernel: 5.15
	Compiler: gcc gcc (Ubuntu 13.3.0-6ubuntu2~24.04) 13.3.0

Ubuntu 22.04
	Kernel: 5.15
	Compiler: gcc gcc (Ubuntu 11.4.0-1ubuntu1~22.04) 11.4.0

Windows Server 2022
	Kernel: 10.0.20348.2031
	Compiler: clang 15.0.7, gcc 14.1.0 (MinGW), and MSVC VS 19.39.33521

To view detailed results, visit:
https://lab.dpdk.org/results/dashboard/patchsets/34316/

UNH-IOL DPDK Community Lab

To manage your email subscriptions, visit: 
https://lab.dpdk.org/results/dashboard/preferences/subscriptions/

^ permalink raw reply	[flat|nested] 27+ messages in thread

* |SUCCESS| pw157807-157808 [PATCH] [v3,2/2] mailmap: sort mailmap
       [not found] <20251017133812.1109638-3-bruce.richardson@intel.com>
                   ` (15 preceding siblings ...)
  2025-10-17 15:24 ` dpdklab
@ 2025-10-17 15:39 ` dpdklab
  2025-10-17 15:40 ` |SUCCESS| pw157808 [PATCH v3 2/2] " 0-day Robot
                   ` (9 subsequent siblings)
  26 siblings, 0 replies; 27+ messages in thread
From: dpdklab @ 2025-10-17 15:39 UTC (permalink / raw)
  To: Test Report; +Cc: dpdk-test-reports

Test-Label: iol-unit-amd64-testing
Test-Status: SUCCESS
http://dpdk.org/patch/157808

_Testing PASS_

Submitter: Bruce Richardson <bruce.richardson@intel.com>
Date: Friday, October 17 2025 13:38:08 
DPDK git baseline: Repo:dpdk
  Branch: master
  CommitID:438491733c2d8a109574449d3d6de9b25a05c07c

157807-157808 --> testing pass

Upstream job id: Generic-VM-Unit-Test-DPDK#31889

Test environment and result as below:

+-------------------------------+----------------+
|          Environment          | dpdk_unit_test |
+===============================+================+
| CentOS Stream 9               | PASS           |
+-------------------------------+----------------+
| CentOS Stream 10              | PASS           |
+-------------------------------+----------------+
| Debian GNU/Linux 12           | PASS           |
+-------------------------------+----------------+
| Fedora Linux 40               | PASS           |
+-------------------------------+----------------+
| Fedora Linux 41               | PASS           |
+-------------------------------+----------------+
| Fedora Linux 42               | PASS           |
+-------------------------------+----------------+
| Red Hat Enterprise Linux 9.5  | PASS           |
+-------------------------------+----------------+
| Red Hat Enterprise Linux 8.10 | PASS           |
+-------------------------------+----------------+
| Ubuntu 20.04                  | PASS           |
+-------------------------------+----------------+
| Ubuntu 24.04                  | PASS           |
+-------------------------------+----------------+
| Ubuntu 22.04                  | PASS           |
+-------------------------------+----------------+
| Windows Server 2022           | PASS           |
+-------------------------------+----------------+


CentOS Stream 9
	Kernel: 5.15
	Compiler: gcc gcc (GCC) 11.5.0 20240719 (Red Hat 11.5.0-11)

CentOS Stream 10
	Kernel: 5.15
	Compiler: gcc gcc (GCC) 14.2.1 20250110 (Red Hat 14.2.1-8)

Debian GNU/Linux 12
	Kernel: 5.15
	Compiler: gcc gcc (Debian 12.2.0-14+deb12u1) 12.2.0

Fedora Linux 40
	Kernel: 5.15
	Compiler: gcc gcc (GCC) 14.2.1 20240912 (Red Hat 14.2.1-3)

Fedora Linux 41
	Kernel: 5.15
	Compiler: clang gcc (GCC) 14.3.1 20250523 (Red Hat 14.3.1-1)

Fedora Linux 42
	Kernel: 5.15
	Compiler: gcc gcc (GCC) 15.2.1 20250808 (Red Hat 15.2.1-1)

Red Hat Enterprise Linux 9.5
	Kernel: 5.15
	Compiler: gcc gcc (GCC) 11.5.0 20240719 (Red Hat 11.5.0-2)

Red Hat Enterprise Linux 8.10
	Kernel: 5.15
	Compiler: gcc gcc (GCC) 8.5.0 20210514 (Red Hat 8.5.0-22)

Ubuntu 20.04
	Kernel: 5.15
	Compiler: gcc gcc (Ubuntu 9.4.0-1ubuntu1~20.04.2) 9.4.0

Ubuntu 24.04
	Kernel: 5.15
	Compiler: gcc gcc (Ubuntu 13.3.0-6ubuntu2~24.04) 13.3.0

Ubuntu 22.04
	Kernel: 5.15
	Compiler: gcc gcc (Ubuntu 11.4.0-1ubuntu1~22.04) 11.4.0

Windows Server 2022
	Kernel: 10.0.20348.2031
	Compiler: clang 15.0.7, gcc 14.1.0 (MinGW), and MSVC VS 19.39.33521

To view detailed results, visit:
https://lab.dpdk.org/results/dashboard/patchsets/34316/

UNH-IOL DPDK Community Lab

To manage your email subscriptions, visit: 
https://lab.dpdk.org/results/dashboard/preferences/subscriptions/

^ permalink raw reply	[flat|nested] 27+ messages in thread

* |SUCCESS| pw157808 [PATCH v3 2/2] mailmap: sort mailmap
       [not found] <20251017133812.1109638-3-bruce.richardson@intel.com>
                   ` (16 preceding siblings ...)
  2025-10-17 15:39 ` dpdklab
@ 2025-10-17 15:40 ` 0-day Robot
  2025-10-17 15:40 ` 0-day Robot
                   ` (8 subsequent siblings)
  26 siblings, 0 replies; 27+ messages in thread
From: 0-day Robot @ 2025-10-17 15:40 UTC (permalink / raw)
  To: test-report; +Cc: robot

From: robot@bytheb.org

Test-Label: github-robot: build
Test-Status: SUCCESS
http://patchwork.dpdk.org/patch/157808/

_github build: passed_
Build URL: https://github.com/ovsrobot/dpdk/actions/runs/18596137564

^ permalink raw reply	[flat|nested] 27+ messages in thread

* |SUCCESS| pw157808 [PATCH v3 2/2] mailmap: sort mailmap
       [not found] <20251017133812.1109638-3-bruce.richardson@intel.com>
                   ` (17 preceding siblings ...)
  2025-10-17 15:40 ` |SUCCESS| pw157808 [PATCH v3 2/2] " 0-day Robot
@ 2025-10-17 15:40 ` 0-day Robot
  2025-10-17 16:09 ` |SUCCESS| pw157807-157808 [PATCH] [v3,2/2] " dpdklab
                   ` (7 subsequent siblings)
  26 siblings, 0 replies; 27+ messages in thread
From: 0-day Robot @ 2025-10-17 15:40 UTC (permalink / raw)
  To: test-report; +Cc: robot

From: robot@bytheb.org

Test-Label: github-robot-post
Test-Status: SUCCESS
http://patchwork.dpdk.org/patch/157808/

_github post: success_
HTML Link: https://github.com/ovsrobot/dpdk/pull/207

^ permalink raw reply	[flat|nested] 27+ messages in thread

* |SUCCESS| pw157807-157808 [PATCH] [v3,2/2] mailmap: sort mailmap
       [not found] <20251017133812.1109638-3-bruce.richardson@intel.com>
                   ` (18 preceding siblings ...)
  2025-10-17 15:40 ` 0-day Robot
@ 2025-10-17 16:09 ` dpdklab
  2025-10-17 16:54 ` dpdklab
                   ` (6 subsequent siblings)
  26 siblings, 0 replies; 27+ messages in thread
From: dpdklab @ 2025-10-17 16:09 UTC (permalink / raw)
  To: Test Report; +Cc: dpdk-test-reports

Test-Label: iol-sample-apps-testing
Test-Status: SUCCESS
http://dpdk.org/patch/157808

_Testing PASS_

Submitter: Bruce Richardson <bruce.richardson@intel.com>
Date: Friday, October 17 2025 13:38:08 
DPDK git baseline: Repo:dpdk
  Branch: master
  CommitID:438491733c2d8a109574449d3d6de9b25a05c07c

157807-157808 --> testing pass

Upstream job id: Template-DTS-Pipeline#250049

Test environment and result as below:

+--------------+----------------------+----------------------+
| Environment  | dpdk_fips_validation | compressdev_zlib_pmd |
+==============+======================+======================+
| Ubuntu 20.04 | PASS                 | SKIPPED              |
+--------------+----------------------+----------------------+
| Ubuntu 22.04 | SKIPPED              | PASS                 |
+--------------+----------------------+----------------------+


Ubuntu 20.04
	Kernel: 5.15
	Compiler: gcc gcc (Ubuntu 9.4.0-1ubuntu1~20.04.2) 9.4.0

Ubuntu 22.04
	Kernel: 5.15
	Compiler: gcc gcc (Ubuntu 11.4.0-1ubuntu1~22.04.2) 11.4.0

To view detailed results, visit:
https://lab.dpdk.org/results/dashboard/patchsets/34316/

UNH-IOL DPDK Community Lab

To manage your email subscriptions, visit: 
https://lab.dpdk.org/results/dashboard/preferences/subscriptions/

^ permalink raw reply	[flat|nested] 27+ messages in thread

* |SUCCESS| pw157807-157808 [PATCH] [v3,2/2] mailmap: sort mailmap
       [not found] <20251017133812.1109638-3-bruce.richardson@intel.com>
                   ` (19 preceding siblings ...)
  2025-10-17 16:09 ` |SUCCESS| pw157807-157808 [PATCH] [v3,2/2] " dpdklab
@ 2025-10-17 16:54 ` dpdklab
  2025-10-17 17:34 ` dpdklab
                   ` (5 subsequent siblings)
  26 siblings, 0 replies; 27+ messages in thread
From: dpdklab @ 2025-10-17 16:54 UTC (permalink / raw)
  To: Test Report; +Cc: dpdk-test-reports

Test-Label: iol-broadcom-Performance
Test-Status: SUCCESS
http://dpdk.org/patch/157808

_Performance Testing PASS_

Submitter: Bruce Richardson <bruce.richardson@intel.com>
Date: Friday, October 17 2025 13:38:08 
DPDK git baseline: Repo:dpdk
  Branch: master
  CommitID:438491733c2d8a109574449d3d6de9b25a05c07c

157807-157808 --> performance testing pass

Upstream job id: Template-DTS-Pipeline#250042

Test environment and result as below:

Ubuntu 22.04
Kernel: 5.15
Compiler: gcc gcc (Ubuntu 11.4.0-1ubuntu1~22.04) 11.4.0
NIC: Broadcom Inc. and subsidiaries BCM57414 NetXtreme-E 10Gb/25Gb RDMA Ethernet Controller 16d7 25 Mbps
Fail/Total: 0/3

Detail performance results: 
+------------+---------+----------+-------------+------------------------------+
| frame_size | txd/rxd | num_cpus | num_threads |  throughput difference from  |
|            |         |          |             |           expected           |
+============+=========+==========+=============+==============================+
| 64         | 128     | 1        | 1           | -0.4%                        |
+------------+---------+----------+-------------+------------------------------+
| 64         | 512     | 1        | 1           | -0.2%                        |
+------------+---------+----------+-------------+------------------------------+
| 64         | 2048    | 1        | 1           | 1.6%                         |
+------------+---------+----------+-------------+------------------------------+

Ubuntu 22.04
Kernel: 5.15
Compiler: gcc gcc (Ubuntu 11.4.0-1ubuntu1~22.04.2) 11.4.0
NIC: Arm Broadcom Inc. brcm_57414 25000 Mbps
Fail/Total: 0/2

Detail performance results: 
+------------+---------+----------+-------------+------------------------------+
| frame_size | txd/rxd | num_cpus | num_threads |  throughput difference from  |
|            |         |          |             |           expected           |
+============+=========+==========+=============+==============================+
| 64         | 512     | 1        | 1           | -0.6%                        |
+------------+---------+----------+-------------+------------------------------+
| 64         | 2048    | 1        | 1           | -0.5%                        |
+------------+---------+----------+-------------+------------------------------+

To view detailed results, visit:
https://lab.dpdk.org/results/dashboard/patchsets/34316/

UNH-IOL DPDK Community Lab

To manage your email subscriptions, visit: 
https://lab.dpdk.org/results/dashboard/preferences/subscriptions/

^ permalink raw reply	[flat|nested] 27+ messages in thread

* |SUCCESS| pw157807-157808 [PATCH] [v3,2/2] mailmap: sort mailmap
       [not found] <20251017133812.1109638-3-bruce.richardson@intel.com>
                   ` (20 preceding siblings ...)
  2025-10-17 16:54 ` dpdklab
@ 2025-10-17 17:34 ` dpdklab
  2025-10-17 19:17 ` |WARNING| " dpdklab
                   ` (4 subsequent siblings)
  26 siblings, 0 replies; 27+ messages in thread
From: dpdklab @ 2025-10-17 17:34 UTC (permalink / raw)
  To: Test Report; +Cc: dpdk-test-reports

Test-Label: iol-intel-Functional
Test-Status: SUCCESS
http://dpdk.org/patch/157808

_Functional Testing PASS_

Submitter: Bruce Richardson <bruce.richardson@intel.com>
Date: Friday, October 17 2025 13:38:08 
DPDK git baseline: Repo:dpdk
  Branch: master
  CommitID:438491733c2d8a109574449d3d6de9b25a05c07c

157807-157808 --> functional testing pass

Upstream job id: Template-DTS-Pipeline#250047

Test environment and result as below:

Ubuntu 24.04 LTS
Kernel: 6.8.0-44-generic
Compiler: gcc 13.2.0
NIC: Intel Corporation Ethernet Controller XL710 for 40GbE QSFP+ 40 Mbps

Aggregate Results by Test Suite
+--------------------+--------+
|     Test Suite     | Result |
+====================+========+
| blocklist          |  PASS  |
+--------------------+--------+
| promisc_support    |  PASS  |
+--------------------+--------+
| uni_pkt            |  PASS  |
+--------------------+--------+
| dynamic_config     |  PASS  |
+--------------------+--------+
| dynamic_queue_conf |  PASS  |
+--------------------+--------+
| hello_world        |  PASS  |
+--------------------+--------+
| l2fwd              |  PASS  |
+--------------------+--------+
| softnic            |  PASS  |
+--------------------+--------+
| vlan               |  PASS  |
+--------------------+--------+


Ubuntu 24.04
Kernel: 6.8
Compiler: gcc gcc (Ubuntu 13.3.0-6ubuntu2~24.04) 13.3.0
NIC: Intel Corporation 4xxx Series QAT 0 Mbps

Aggregate Results by Test Suite
+----------------------------+--------+
|         Test Suite         | Result |
+============================+========+
| crypto_perf_cryptodev_perf |  PASS  |
+----------------------------+--------+


Ubuntu 22.04
Kernel: 5.15
Compiler: gcc gcc (Ubuntu 11.4.0-1ubuntu1~22.04.2) 11.4.0
NIC: Intel Corporation QAT 8970 0 Mbps

Aggregate Results by Test Suite
+----------------------------+--------+
|         Test Suite         | Result |
+============================+========+
| crypto_perf_cryptodev_perf |  PASS  |
+----------------------------+--------+


Ubuntu 20.04
Kernel: 5.4
Compiler: gcc gcc (Ubuntu 9.4.0-1ubuntu1~20.04.1) 9.4.0
NIC: Intel Corporation Ethernet Converged Network Adapter XL710-QDA2 40000 Mbps

Aggregate Results by Test Suite
+-----------------------------+--------+
|         Test Suite          | Result |
+=============================+========+
| unit_tests_mbuf             |  PASS  |
+-----------------------------+--------+
| vhost_virtio_user_interrupt |  PASS  |
+-----------------------------+--------+
| virtio_smoke                |  PASS  |
+-----------------------------+--------+


To view detailed results, visit:
https://lab.dpdk.org/results/dashboard/patchsets/34316/

UNH-IOL DPDK Community Lab

To manage your email subscriptions, visit: 
https://lab.dpdk.org/results/dashboard/preferences/subscriptions/

^ permalink raw reply	[flat|nested] 27+ messages in thread

* |WARNING| pw157807-157808 [PATCH] [v3,2/2] mailmap: sort mailmap
       [not found] <20251017133812.1109638-3-bruce.richardson@intel.com>
                   ` (21 preceding siblings ...)
  2025-10-17 17:34 ` dpdklab
@ 2025-10-17 19:17 ` dpdklab
  2025-10-17 19:48 ` |PENDING| " dpdklab
                   ` (3 subsequent siblings)
  26 siblings, 0 replies; 27+ messages in thread
From: dpdklab @ 2025-10-17 19:17 UTC (permalink / raw)
  To: Test Report; +Cc: dpdk-test-reports

Test-Label: iol-compile-amd64-testing
Test-Status: WARNING
http://dpdk.org/patch/157808

_Testing issues_

Submitter: Bruce Richardson <bruce.richardson@intel.com>
Date: Friday, October 17 2025 13:38:08 
DPDK git baseline: Repo:dpdk
  Branch: master
  CommitID:438491733c2d8a109574449d3d6de9b25a05c07c

157807-157808 --> testing issues

Upstream job id: Generic-DPDK-Compile-Meson#435521

Test environment and result as below:

+---------------------+-------------------------+-------------------+--------------------+----------------------+-------------------+
|     Environment     | dpdk_llvm_clang_compile | dpdk_msvc_compile | dpdk_meson_compile | dpdk_mingw64_compile | dpdk_compile_spdk |
+=====================+=========================+===================+====================+======================+===================+
| Windows Server 2022 | PASS                    | PASS              | SKIPPED            | PASS                 | SKIPPED           |
+---------------------+-------------------------+-------------------+--------------------+----------------------+-------------------+
| FreeBSD 14.2        | SKIPPED                 | SKIPPED           | PASS               | SKIPPED              | SKIPPED           |
+---------------------+-------------------------+-------------------+--------------------+----------------------+-------------------+
| Ubuntu 20.04        | SKIPPED                 | SKIPPED           | PASS               | SKIPPED              | SKIPPED           |
+---------------------+-------------------------+-------------------+--------------------+----------------------+-------------------+
| CentOS Stream 9     | SKIPPED                 | SKIPPED           | PASS               | SKIPPED              | WARN              |
+---------------------+-------------------------+-------------------+--------------------+----------------------+-------------------+
| CentOS Stream 10    | SKIPPED                 | SKIPPED           | PASS               | SKIPPED              | SKIPPED           |
+---------------------+-------------------------+-------------------+--------------------+----------------------+-------------------+
| Debian GNU/Linux 12 | SKIPPED                 | SKIPPED           | PEND               | SKIPPED              | PEND              |
+---------------------+-------------------------+-------------------+--------------------+----------------------+-------------------+

==== 20 line log output for CentOS Stream 9 (dpdk_compile_spdk): ====
 --- Failed to get log output --- 
==== End log output ====

Windows Server 2022
	Kernel: 10.0.20348.2031
	Compiler: clang 15.0.7, gcc 14.1.0 (MinGW), and MSVC VS 19.39.33521

FreeBSD 14.2
	Kernel: 14.2-RELEASE
	Compiler: clang 18.1.6

Ubuntu 20.04
	Kernel: 4.19
	Compiler: gcc gcc (Ubuntu 9.4.0-1ubuntu1~20.04.2) 9.4.0

CentOS Stream 9
	Kernel: 5.15
	Compiler: gcc gcc (GCC) 11.5.0 20240719 (Red Hat 11.5.0-11)

CentOS Stream 10
	Kernel: 5.15
	Compiler: gcc gcc (GCC) 14.2.1 20250110 (Red Hat 14.2.1-8)

Debian GNU/Linux 12
	Kernel: 5.15
	Compiler: gcc gcc (Debian 12.2.0-14+deb12u1) 12.2.0

To view detailed results, visit:
https://lab.dpdk.org/results/dashboard/patchsets/34316/

UNH-IOL DPDK Community Lab

To manage your email subscriptions, visit: 
https://lab.dpdk.org/results/dashboard/preferences/subscriptions/

^ permalink raw reply	[flat|nested] 27+ messages in thread

* |PENDING| pw157807-157808 [PATCH] [v3,2/2] mailmap: sort mailmap
       [not found] <20251017133812.1109638-3-bruce.richardson@intel.com>
                   ` (22 preceding siblings ...)
  2025-10-17 19:17 ` |WARNING| " dpdklab
@ 2025-10-17 19:48 ` dpdklab
  2025-10-17 20:08 ` |WARNING| " dpdklab
                   ` (2 subsequent siblings)
  26 siblings, 0 replies; 27+ messages in thread
From: dpdklab @ 2025-10-17 19:48 UTC (permalink / raw)
  To: Test Report; +Cc: dpdk-test-reports

Test-Label: iol-compile-arm64-testing
Test-Status: PENDING
http://dpdk.org/patch/157808

_Testing pending_

Submitter: Bruce Richardson <bruce.richardson@intel.com>
Date: Friday, October 17 2025 13:38:08 
DPDK git baseline: Repo:dpdk
  Branch: master
  CommitID:438491733c2d8a109574449d3d6de9b25a05c07c

157807-157808 --> testing pending

Upstream job id: Generic-DPDK-Compile-Meson#435534

Test environment and result as below:

+------------------------------+--------------------+
|         Environment          | dpdk_meson_compile |
+==============================+====================+
| Red Hat Enterprise Linux 9.5 | PEND               |
+------------------------------+--------------------+
| Ubuntu 20.04                 | PASS               |
+------------------------------+--------------------+


Red Hat Enterprise Linux 9.5
	Kernel: 5.4
	Compiler: gcc gcc (GCC) 11.5.0 20240719 (Red Hat 11.5.0-2)

Ubuntu 20.04
	Kernel: 5.15
	Compiler: aarch64-linux-gnu-gcc gcc (Ubuntu 9.4.0-1ubuntu1~20.04.2) 9.4.0

To view detailed results, visit:
https://lab.dpdk.org/results/dashboard/patchsets/34316/

UNH-IOL DPDK Community Lab

To manage your email subscriptions, visit: 
https://lab.dpdk.org/results/dashboard/preferences/subscriptions/

^ permalink raw reply	[flat|nested] 27+ messages in thread

* |WARNING| pw157807-157808 [PATCH] [v3,2/2] mailmap: sort mailmap
       [not found] <20251017133812.1109638-3-bruce.richardson@intel.com>
                   ` (23 preceding siblings ...)
  2025-10-17 19:48 ` |PENDING| " dpdklab
@ 2025-10-17 20:08 ` dpdklab
  2025-10-17 23:31 ` |SUCCESS| " dpdklab
  2025-10-18  6:01 ` dpdklab
  26 siblings, 0 replies; 27+ messages in thread
From: dpdklab @ 2025-10-17 20:08 UTC (permalink / raw)
  To: Test Report; +Cc: dpdk-test-reports

Test-Label: iol-compile-amd64-testing
Test-Status: WARNING
http://dpdk.org/patch/157808

_Testing issues_

Submitter: Bruce Richardson <bruce.richardson@intel.com>
Date: Friday, October 17 2025 13:38:08 
DPDK git baseline: Repo:dpdk
  Branch: master
  CommitID:438491733c2d8a109574449d3d6de9b25a05c07c

157807-157808 --> testing issues

Upstream job id: Generic-DPDK-Compile-Meson#435535

Test environment and result as below:

+-------------------------------+-------------------------+-------------------+--------------------+----------------------+-------------------+------------------+
|          Environment          | dpdk_llvm_clang_compile | dpdk_msvc_compile | dpdk_meson_compile | dpdk_mingw64_compile | dpdk_compile_spdk | dpdk_compile_ovs |
+===============================+=========================+===================+====================+======================+===================+==================+
| Windows Server 2022           | PASS                    | PASS              | SKIPPED            | PASS                 | SKIPPED           | SKIPPED          |
+-------------------------------+-------------------------+-------------------+--------------------+----------------------+-------------------+------------------+
| FreeBSD 14.2                  | SKIPPED                 | SKIPPED           | PASS               | SKIPPED              | SKIPPED           | SKIPPED          |
+-------------------------------+-------------------------+-------------------+--------------------+----------------------+-------------------+------------------+
| Ubuntu 20.04                  | SKIPPED                 | SKIPPED           | PASS               | SKIPPED              | SKIPPED           | SKIPPED          |
+-------------------------------+-------------------------+-------------------+--------------------+----------------------+-------------------+------------------+
| CentOS Stream 9               | SKIPPED                 | SKIPPED           | PASS               | SKIPPED              | WARN              | SKIPPED          |
+-------------------------------+-------------------------+-------------------+--------------------+----------------------+-------------------+------------------+
| CentOS Stream 10              | SKIPPED                 | SKIPPED           | PASS               | SKIPPED              | SKIPPED           | SKIPPED          |
+-------------------------------+-------------------------+-------------------+--------------------+----------------------+-------------------+------------------+
| Debian GNU/Linux 12           | SKIPPED                 | SKIPPED           | PASS               | SKIPPED              | WARN              | SKIPPED          |
+-------------------------------+-------------------------+-------------------+--------------------+----------------------+-------------------+------------------+
| Fedora Linux 42               | SKIPPED                 | SKIPPED           | PASS               | SKIPPED              | WARN              | PASS             |
+-------------------------------+-------------------------+-------------------+--------------------+----------------------+-------------------+------------------+
| openSUSE Leap 15.6            | SKIPPED                 | SKIPPED           | PASS               | SKIPPED              | SKIPPED           | SKIPPED          |
+-------------------------------+-------------------------+-------------------+--------------------+----------------------+-------------------+------------------+
| Red Hat Enterprise Linux 8.10 | SKIPPED                 | SKIPPED           | PASS               | SKIPPED              | SKIPPED           | SKIPPED          |
+-------------------------------+-------------------------+-------------------+--------------------+----------------------+-------------------+------------------+
| Red Hat Enterprise Linux 9.5  | SKIPPED                 | SKIPPED           | PASS               | SKIPPED              | SKIPPED           | SKIPPED          |
+-------------------------------+-------------------------+-------------------+--------------------+----------------------+-------------------+------------------+
| Ubuntu 22.04                  | SKIPPED                 | SKIPPED           | PASS               | SKIPPED              | WARN              | SKIPPED          |
+-------------------------------+-------------------------+-------------------+--------------------+----------------------+-------------------+------------------+
| Ubuntu 24.04                  | SKIPPED                 | SKIPPED           | PASS               | SKIPPED              | WARN              | PASS             |
+-------------------------------+-------------------------+-------------------+--------------------+----------------------+-------------------+------------------+
| Alpine Linux 3.22.0           | SKIPPED                 | SKIPPED           | PASS               | SKIPPED              | SKIPPED           | SKIPPED          |
+-------------------------------+-------------------------+-------------------+--------------------+----------------------+-------------------+------------------+

==== 20 line log output for Ubuntu 24.04 (dpdk_compile_spdk): ====
 --- Failed to get log output --- 
==== End log output ====

Windows Server 2022
	Kernel: 10.0.20348.2031
	Compiler: clang 15.0.7, gcc 14.1.0 (MinGW), and MSVC VS 19.39.33521

FreeBSD 14.2
	Kernel: 14.2-RELEASE
	Compiler: clang 18.1.6

Ubuntu 20.04
	Kernel: 4.19
	Compiler: gcc gcc (Ubuntu 9.4.0-1ubuntu1~20.04.2) 9.4.0

CentOS Stream 9
	Kernel: 5.15
	Compiler: gcc gcc (GCC) 11.5.0 20240719 (Red Hat 11.5.0-11)

CentOS Stream 10
	Kernel: 5.15
	Compiler: gcc gcc (GCC) 14.2.1 20250110 (Red Hat 14.2.1-8)

Debian GNU/Linux 12
	Kernel: 5.15
	Compiler: gcc gcc (Debian 12.2.0-14+deb12u1) 12.2.0

Fedora Linux 42
	Kernel: 5.15
	Compiler: clang gcc (GCC) 15.2.1 20250808 (Red Hat 15.2.1-1)

openSUSE Leap 15.6
	Kernel: 5.15
	Compiler: gcc gcc (SUSE Linux) 7.5.0

Red Hat Enterprise Linux 8.10
	Kernel: 5.15
	Compiler: gcc gcc (GCC) 8.5.0 20210514 (Red Hat 8.5.0-22)

Red Hat Enterprise Linux 9.5
	Kernel: 5.15
	Compiler: gcc gcc (GCC) 11.5.0 20240719 (Red Hat 11.5.0-2)

Ubuntu 22.04
	Kernel: 5.15
	Compiler: gcc gcc (Ubuntu 11.4.0-1ubuntu1~22.04) 11.4.0

Ubuntu 24.04
	Kernel: 5.15
	Compiler: gcc gcc (Ubuntu 13.3.0-6ubuntu2~24.04) 13.3.0

Alpine Linux 3.22.0
	Kernel: 5.15
	Compiler: gcc gcc (Alpine 14.2.0) 14.2.0

To view detailed results, visit:
https://lab.dpdk.org/results/dashboard/patchsets/34316/

UNH-IOL DPDK Community Lab

To manage your email subscriptions, visit: 
https://lab.dpdk.org/results/dashboard/preferences/subscriptions/

^ permalink raw reply	[flat|nested] 27+ messages in thread

* |SUCCESS| pw157807-157808 [PATCH] [v3,2/2] mailmap: sort mailmap
       [not found] <20251017133812.1109638-3-bruce.richardson@intel.com>
                   ` (24 preceding siblings ...)
  2025-10-17 20:08 ` |WARNING| " dpdklab
@ 2025-10-17 23:31 ` dpdklab
  2025-10-18  6:01 ` dpdklab
  26 siblings, 0 replies; 27+ messages in thread
From: dpdklab @ 2025-10-17 23:31 UTC (permalink / raw)
  To: Test Report; +Cc: dpdk-test-reports

Test-Label: iol-intel-Performance
Test-Status: SUCCESS
http://dpdk.org/patch/157808

_Performance Testing PASS_

Submitter: Bruce Richardson <bruce.richardson@intel.com>
Date: Friday, October 17 2025 13:38:08 
DPDK git baseline: Repo:dpdk
  Branch: master
  CommitID:438491733c2d8a109574449d3d6de9b25a05c07c

157807-157808 --> performance testing pass

Upstream job id: Template-DTS-Pipeline#250044

Test environment and result as below:

Ubuntu 20.04
Kernel: 5.4
Compiler: gcc gcc (Ubuntu 9.4.0-1ubuntu1~20.04.1) 9.4.0
NIC: Intel Corporation Ethernet Converged Network Adapter XL710-QDA2 40000 Mbps
Fail/Total: 0/4

Detail performance results: 
+----------+-------------+---------+------------+------------------------------+
| num_cpus | num_threads | txd/rxd | frame_size |  throughput difference from  |
|          |             |         |            |           expected           |
+==========+=============+=========+============+==============================+
| 1        | 2           | 512     | 64         | -0.2%                        |
+----------+-------------+---------+------------+------------------------------+
| 1        | 2           | 2048    | 64         | -0.9%                        |
+----------+-------------+---------+------------+------------------------------+
| 1        | 1           | 512     | 64         | 1.0%                         |
+----------+-------------+---------+------------+------------------------------+
| 1        | 1           | 2048    | 64         | 0.9%                         |
+----------+-------------+---------+------------+------------------------------+

Ubuntu 22.04
Kernel: 5.15
Compiler: gcc gcc (Ubuntu 11.4.0-1ubuntu1~22.04.2) 11.4.0
NIC: Intel E810 100000 Mbps
Fail/Total: 0/2

Detail performance results: 
+------------+---------+----------+-------------+------------------------------+
| frame_size | txd/rxd | num_cpus | num_threads |  throughput difference from  |
|            |         |          |             |           expected           |
+============+=========+==========+=============+==============================+
| 64         | 512     | 1        | 1           | -0.9%                        |
+------------+---------+----------+-------------+------------------------------+
| 64         | 2048    | 1        | 1           | 0.0%                         |
+------------+---------+----------+-------------+------------------------------+

Ubuntu 24.04
Kernel: 6.8
Compiler: gcc gcc (Ubuntu 13.3.0-6ubuntu2~24.04) 13.3.0
NIC: Intel E810 (Arm Grace Server) 100000 Mbps
Fail/Total: 0/2

Detail performance results: 
+------------+---------+----------+-------------+------------------------------+
| frame_size | txd/rxd | num_cpus | num_threads |  throughput difference from  |
|            |         |          |             |           expected           |
+============+=========+==========+=============+==============================+
| 64         | 512     | 1        | 1           | 2.2%                         |
+------------+---------+----------+-------------+------------------------------+
| 64         | 2048    | 1        | 1           | 3.1%                         |
+------------+---------+----------+-------------+------------------------------+

To view detailed results, visit:
https://lab.dpdk.org/results/dashboard/patchsets/34316/

UNH-IOL DPDK Community Lab

To manage your email subscriptions, visit: 
https://lab.dpdk.org/results/dashboard/preferences/subscriptions/

^ permalink raw reply	[flat|nested] 27+ messages in thread

* |SUCCESS| pw157807-157808 [PATCH] [v3,2/2] mailmap: sort mailmap
       [not found] <20251017133812.1109638-3-bruce.richardson@intel.com>
                   ` (25 preceding siblings ...)
  2025-10-17 23:31 ` |SUCCESS| " dpdklab
@ 2025-10-18  6:01 ` dpdklab
  26 siblings, 0 replies; 27+ messages in thread
From: dpdklab @ 2025-10-18  6:01 UTC (permalink / raw)
  To: Test Report; +Cc: dpdk-test-reports

Test-Label: iol-compile-arm64-testing
Test-Status: SUCCESS
http://dpdk.org/patch/157808

_Testing PASS_

Submitter: Bruce Richardson <bruce.richardson@intel.com>
Date: Friday, October 17 2025 13:38:08 
DPDK git baseline: Repo:dpdk
  Branch: master
  CommitID:438491733c2d8a109574449d3d6de9b25a05c07c

157807-157808 --> testing pass

Upstream job id: Generic-DPDK-Compile-Meson#435539

Test environment and result as below:

+------------------------------+--------------------+
|         Environment          | dpdk_meson_compile |
+==============================+====================+
| Red Hat Enterprise Linux 9.5 | PASS               |
+------------------------------+--------------------+
| Ubuntu 20.04                 | PASS               |
+------------------------------+--------------------+
| Debian GNU/Linux 12          | PASS               |
+------------------------------+--------------------+
| Fedora Linux 42              | PASS               |
+------------------------------+--------------------+
| Ubuntu 24.04                 | PASS               |
+------------------------------+--------------------+
| Ubuntu 22.04                 | PASS               |
+------------------------------+--------------------+
| CentOS Stream 9              | PASS               |
+------------------------------+--------------------+
| CentOS Stream 10             | PASS               |
+------------------------------+--------------------+


Red Hat Enterprise Linux 9.5
	Kernel: 5.4
	Compiler: gcc gcc (GCC) 11.5.0 20240719 (Red Hat 11.5.0-2)

Ubuntu 20.04
	Kernel: 5.15
	Compiler: aarch64-linux-gnu-gcc gcc (Ubuntu 9.4.0-1ubuntu1~20.04.2) 9.4.0

Debian GNU/Linux 12
	Kernel: 5.4
	Compiler: gcc gcc (Debian 12.2.0-14+deb12u1) 12.2.0

Fedora Linux 42
	Kernel: 5.4
	Compiler: gcc gcc (GCC) 15.2.1 20250808 (Red Hat 15.2.1-1)

Ubuntu 24.04
	Kernel: 5.4
	Compiler: gcc gcc (Ubuntu 13.3.0-6ubuntu2~24.04) 13.3.0

Ubuntu 22.04
	Kernel: 5.4
	Compiler: gcc gcc (Ubuntu 11.4.0-1ubuntu1~22.04) 11.4.0

CentOS Stream 9
	Kernel: 5.4
	Compiler: gcc gcc (GCC) 11.5.0 20240719 (Red Hat 11.5.0-11)

CentOS Stream 10
	Kernel: 5.4
	Compiler: gcc gcc (GCC) 14.2.1 20250110 (Red Hat 14.2.1-8)

To view detailed results, visit:
https://lab.dpdk.org/results/dashboard/patchsets/34316/

UNH-IOL DPDK Community Lab

To manage your email subscriptions, visit: 
https://lab.dpdk.org/results/dashboard/preferences/subscriptions/

^ permalink raw reply	[flat|nested] 27+ messages in thread

end of thread, other threads:[~2025-10-18  6:01 UTC | newest]

Thread overview: 27+ messages (download: mbox.gz / follow: Atom feed)
-- links below jump to the message on this page --
     [not found] <20251017133812.1109638-3-bruce.richardson@intel.com>
2025-10-17 13:07 ` |SUCCESS| pw157807-157808 [PATCH v3 2/2] mailmap: sort mailmap qemudev
2025-10-17 13:12 ` qemudev
2025-10-17 13:38 ` |WARNING| pw157808 " checkpatch
2025-10-17 14:03 ` |PENDING| pw157807-157808 [PATCH] [v3,2/2] " dpdklab
2025-10-17 14:04 ` dpdklab
2025-10-17 14:06 ` |SUCCESS| " dpdklab
2025-10-17 14:12 ` |PENDING| " dpdklab
2025-10-17 14:14 ` dpdklab
2025-10-17 14:14 ` |SUCCESS| " dpdklab
2025-10-17 14:21 ` dpdklab
2025-10-17 14:23 ` dpdklab
2025-10-17 14:25 ` dpdklab
2025-10-17 14:26 ` dpdklab
2025-10-17 14:27 ` dpdklab
2025-10-17 14:27 ` dpdklab
2025-10-17 15:24 ` dpdklab
2025-10-17 15:39 ` dpdklab
2025-10-17 15:40 ` |SUCCESS| pw157808 [PATCH v3 2/2] " 0-day Robot
2025-10-17 15:40 ` 0-day Robot
2025-10-17 16:09 ` |SUCCESS| pw157807-157808 [PATCH] [v3,2/2] " dpdklab
2025-10-17 16:54 ` dpdklab
2025-10-17 17:34 ` dpdklab
2025-10-17 19:17 ` |WARNING| " dpdklab
2025-10-17 19:48 ` |PENDING| " dpdklab
2025-10-17 20:08 ` |WARNING| " dpdklab
2025-10-17 23:31 ` |SUCCESS| " dpdklab
2025-10-18  6:01 ` dpdklab

This is a public inbox, see mirroring instructions
for how to clone and mirror all data and code used for this inbox;
as well as URLs for NNTP newsgroup(s).