From: qemudev@loongson.cn
To: test-report@dpdk.org
Subject: |SUCCESS| pw158132-158134 [PATCH v1 3/3] doc: update TxPP documentation
Date: Mon, 27 Oct 2025 13:13:25 +0800 [thread overview]
Message-ID: <202510270513.59R5DPe21296525@localhost.localdomain> (raw)
In-Reply-To: <20251027182801.191295-4-soumyadeep.hore@intel.com>
Test-Label: loongarch-compilation
Test-Status: SUCCESS
http://dpdk.org/patch/158134
_Compilation OK_
Submitter: Soumyadeep Hore <soumyadeep.hore@intel.com>
Date: Mon, 27 Oct 2025 14:27:59 -0400
DPDK git baseline: Repo:dpdk-next-net-intel
Branch: main
CommitID: 6b997d6b9ffdbb4f8ecd14d1f217da69cdc783af
158132-158134 --> meson & ninja build successfully
Test environment and result as below:
+---------------------+----------------+
| Environment | compilation |
+---------------------+----------------+
| Loongnix-Server 8.3 | PASS |
+---------------------+----------------+
Loongnix-Server 8.3
Kernel: 4.19.190+
Compiler: gcc 8.3
next parent reply other threads:[~2025-10-27 5:50 UTC|newest]
Thread overview: 24+ messages / expand[flat|nested] mbox.gz Atom feed top
[not found] <20251027182801.191295-4-soumyadeep.hore@intel.com>
2025-10-27 5:13 ` qemudev [this message]
2025-10-27 5:18 ` qemudev
2025-10-27 5:47 ` |SUCCESS| pw158134 " checkpatch
2025-10-27 6:13 ` |PENDING| pw158132-158134 [PATCH] [v1,3/3] doc: update TxPP document dpdklab
2025-10-27 6:15 ` |SUCCESS| " dpdklab
2025-10-27 6:19 ` dpdklab
2025-10-27 6:23 ` |PENDING| " dpdklab
2025-10-27 6:31 ` |SUCCESS| " dpdklab
2025-10-27 6:35 ` dpdklab
2025-10-27 6:37 ` dpdklab
2025-10-27 6:37 ` dpdklab
2025-10-27 6:40 ` |PENDING| " dpdklab
2025-10-27 6:43 ` |WARNING| " dpdklab
2025-10-27 6:49 ` |PENDING| " dpdklab
2025-10-27 6:54 ` dpdklab
2025-10-27 7:17 ` |WARNING| " dpdklab
2025-10-27 7:21 ` |SUCCESS| pw158134 [PATCH v1 3/3] doc: update TxPP documentation 0-day Robot
2025-10-27 7:21 ` 0-day Robot
2025-10-27 7:24 ` |SUCCESS| pw158132-158134 [PATCH] [v1,3/3] doc: update TxPP document dpdklab
2025-10-27 7:28 ` |WARNING| " dpdklab
2025-10-27 7:39 ` |SUCCESS| " dpdklab
2025-10-27 7:43 ` dpdklab
2025-10-27 13:11 ` dpdklab
2025-10-27 13:33 ` dpdklab
Reply instructions:
You may reply publicly to this message via plain-text email
using any one of the following methods:
* Save the following mbox file, import it into your mail client,
and reply-to-all from there: mbox
Avoid top-posting and favor interleaved quoting:
https://en.wikipedia.org/wiki/Posting_style#Interleaved_style
* Reply using the --to, --cc, and --in-reply-to
switches of git-send-email(1):
git send-email \
--in-reply-to=202510270513.59R5DPe21296525@localhost.localdomain \
--to=qemudev@loongson.cn \
--cc=test-report@dpdk.org \
/path/to/YOUR_REPLY
https://kernel.org/pub/software/scm/git/docs/git-send-email.html
* If your mail client supports setting the In-Reply-To header
via mailto: links, try the mailto: link
Be sure your reply has a Subject: header at the top and a blank line
before the message body.
This is a public inbox, see mirroring instructions
for how to clone and mirror all data and code used for this inbox;
as well as URLs for NNTP newsgroup(s).