automatic DPDK test reports
 help / color / mirror / Atom feed
From: qemudev@loongson.cn
To: test-report@dpdk.org
Subject: |SUCCESS| pw158178 [PATCH v1] net/mlx5: remove counter alignment
Date: Tue, 28 Oct 2025 16:53:23 +0800	[thread overview]
Message-ID: <202510280853.59S8rNQ02012691@localhost.localdomain> (raw)
In-Reply-To: <20251028092611.1755141-1-rongweil@nvidia.com>

Test-Label: loongarch-compilation
Test-Status: SUCCESS
http://dpdk.org/patch/158178

_Compilation OK_

Submitter: Rongwei Liu <rongweil@nvidia.com>
Date: Tue, 28 Oct 2025 11:26:11 +0200
DPDK git baseline: Repo:dpdk-next-net-mlx
  Branch: for-next-net
  CommitID: 39b54f2dcf44ad1f91eabc7080cd5dea763607fd

158178 --> meson & ninja build successfully

Test environment and result as below:

+---------------------+----------------+
|     Environment     | compilation    |
+---------------------+----------------+
| Loongnix-Server 8.3 | PASS           |
+---------------------+----------------+

Loongnix-Server 8.3
    Kernel: 4.19.190+
    Compiler: gcc 8.3


       reply	other threads:[~2025-10-28  9:30 UTC|newest]

Thread overview: 28+ messages / expand[flat|nested]  mbox.gz  Atom feed  top
     [not found] <20251028092611.1755141-1-rongweil@nvidia.com>
2025-10-28  8:53 ` qemudev [this message]
2025-10-28  8:58 ` qemudev
2025-10-28  9:28 ` checkpatch
2025-10-28 10:02 ` |PENDING| pw158178 [PATCH] [v1] " dpdklab
2025-10-28 10:03 ` |SUCCESS| " dpdklab
2025-10-28 10:09 ` dpdklab
2025-10-28 10:10 ` dpdklab
2025-10-28 10:13 ` dpdklab
2025-10-28 10:38 ` dpdklab
2025-10-28 10:38 ` |PENDING| " dpdklab
2025-10-28 10:49 ` |SUCCESS| " dpdklab
2025-10-28 11:22 ` |SUCCESS| pw158178 [PATCH v1] " 0-day Robot
2025-10-28 11:22 ` 0-day Robot
2025-10-28 11:52 ` |SUCCESS| pw158178 [PATCH] [v1] " dpdklab
2025-10-28 12:05 ` |PENDING| " dpdklab
2025-10-28 12:20 ` |SUCCESS| " dpdklab
2025-10-28 12:28 ` dpdklab
2025-10-28 12:55 ` |WARNING| " dpdklab
2025-10-28 12:58 ` |SUCCESS| " dpdklab
2025-10-28 13:22 ` |WARNING| " dpdklab
2025-10-28 13:33 ` |SUCCESS| " dpdklab
2025-10-28 13:44 ` dpdklab
2025-10-28 14:25 ` dpdklab
2025-10-28 14:32 ` dpdklab
2025-10-28 14:42 ` dpdklab
2025-10-28 15:25 ` dpdklab
2025-10-28 16:17 ` |WARNING| " dpdklab
2025-10-28 17:20 ` dpdklab

Reply instructions:

You may reply publicly to this message via plain-text email
using any one of the following methods:

* Save the following mbox file, import it into your mail client,
  and reply-to-all from there: mbox

  Avoid top-posting and favor interleaved quoting:
  https://en.wikipedia.org/wiki/Posting_style#Interleaved_style

* Reply using the --to, --cc, and --in-reply-to
  switches of git-send-email(1):

  git send-email \
    --in-reply-to=202510280853.59S8rNQ02012691@localhost.localdomain \
    --to=qemudev@loongson.cn \
    --cc=test-report@dpdk.org \
    /path/to/YOUR_REPLY

  https://kernel.org/pub/software/scm/git/docs/git-send-email.html

* If your mail client supports setting the In-Reply-To header
  via mailto: links, try the mailto: link
Be sure your reply has a Subject: header at the top and a blank line before the message body.
This is a public inbox, see mirroring instructions
for how to clone and mirror all data and code used for this inbox;
as well as URLs for NNTP newsgroup(s).