automatic DPDK test reports
 help / color / mirror / Atom feed
From: qemudev@loongson.cn
To: test-report@dpdk.org
Subject: |SUCCESS| pw158179 [PATCH] net/mlx5: store rxq MTU at allocation time
Date: Tue, 28 Oct 2025 17:21:23 +0800	[thread overview]
Message-ID: <202510280921.59S9LNVD2042275@localhost.localdomain> (raw)
In-Reply-To: <20251028095240.35281-1-a.schollmeyer@syseleven.de>

Test-Label: loongarch-compilation
Test-Status: SUCCESS
http://dpdk.org/patch/158179

_Compilation OK_

Submitter: Adrian Schollmeyer <a.schollmeyer@syseleven.de>
Date: Tue, 28 Oct 2025 10:52:40 +0100
DPDK git baseline: Repo:dpdk-next-net-mlx
  Branch: for-next-net
  CommitID: 39b54f2dcf44ad1f91eabc7080cd5dea763607fd

158179 --> meson & ninja build successfully

Test environment and result as below:

+---------------------+----------------+
|     Environment     | compilation    |
+---------------------+----------------+
| Loongnix-Server 8.3 | PASS           |
+---------------------+----------------+

Loongnix-Server 8.3
    Kernel: 4.19.190+
    Compiler: gcc 8.3


       reply	other threads:[~2025-10-28  9:58 UTC|newest]

Thread overview: 31+ messages / expand[flat|nested]  mbox.gz  Atom feed  top
     [not found] <20251028095240.35281-1-a.schollmeyer@syseleven.de>
2025-10-28  9:21 ` qemudev [this message]
2025-10-28  9:26 ` qemudev
2025-10-28  9:55 ` |WARNING| " checkpatch
2025-10-28 10:21 ` |PENDING| pw158179 [PATCH] net/mlx5: store rxq MTU at allocation tim dpdklab
2025-10-28 10:23 ` |SUCCESS| " dpdklab
2025-10-28 10:28 ` dpdklab
2025-10-28 10:29 ` dpdklab
2025-10-28 10:32 ` dpdklab
2025-10-28 11:00 ` dpdklab
2025-10-28 11:15 ` dpdklab
2025-10-28 11:22 ` |SUCCESS| pw158179 [PATCH] net/mlx5: store rxq MTU at allocation time 0-day Robot
2025-10-28 11:22 ` 0-day Robot
2025-10-28 11:22 ` |PENDING| pw158179 [PATCH] net/mlx5: store rxq MTU at allocation tim dpdklab
2025-10-28 11:43 ` dpdklab
2025-10-28 12:39 ` |WARNING| " dpdklab
2025-10-28 12:39 ` dpdklab
2025-10-28 12:48 ` |SUCCESS| " dpdklab
2025-10-28 12:48 ` |PENDING| " dpdklab
2025-10-28 12:48 ` |SUCCESS| " dpdklab
2025-10-28 13:14 ` |WARNING| " dpdklab
2025-10-28 13:16 ` dpdklab
2025-10-28 13:25 ` |SUCCESS| " dpdklab
2025-10-28 14:04 ` |WARNING| " dpdklab
2025-10-28 14:20 ` |SUCCESS| " dpdklab
2025-10-28 14:28 ` dpdklab
2025-10-28 14:55 ` dpdklab
2025-10-28 15:11 ` dpdklab
2025-10-28 15:50 ` dpdklab
2025-10-28 16:38 ` dpdklab
2025-10-28 18:40 ` |WARNING| " dpdklab
2025-10-28 19:06 ` dpdklab

Reply instructions:

You may reply publicly to this message via plain-text email
using any one of the following methods:

* Save the following mbox file, import it into your mail client,
  and reply-to-all from there: mbox

  Avoid top-posting and favor interleaved quoting:
  https://en.wikipedia.org/wiki/Posting_style#Interleaved_style

* Reply using the --to, --cc, and --in-reply-to
  switches of git-send-email(1):

  git send-email \
    --in-reply-to=202510280921.59S9LNVD2042275@localhost.localdomain \
    --to=qemudev@loongson.cn \
    --cc=test-report@dpdk.org \
    /path/to/YOUR_REPLY

  https://kernel.org/pub/software/scm/git/docs/git-send-email.html

* If your mail client supports setting the In-Reply-To header
  via mailto: links, try the mailto: link
Be sure your reply has a Subject: header at the top and a blank line before the message body.
This is a public inbox, see mirroring instructions
for how to clone and mirror all data and code used for this inbox;
as well as URLs for NNTP newsgroup(s).