automatic DPDK test reports
 help / color / mirror / Atom feed
From: qemudev@loongson.cn
To: test-report@dpdk.org
Subject: |SUCCESS| pw158203 [PATCH dpdk v3] fib6: implement RCU rule reclamation
Date: Wed, 29 Oct 2025 01:03:25 +0800	[thread overview]
Message-ID: <202510281703.59SH3PU42463336@localhost.localdomain> (raw)
In-Reply-To: <20251028173703.548656-3-rjarry@redhat.com>

Test-Label: loongarch-compilation
Test-Status: SUCCESS
http://dpdk.org/patch/158203

_Compilation OK_

Submitter: Robin Jarry <rjarry@redhat.com>
Date: Tue, 28 Oct 2025 18:37:05 +0100
DPDK git baseline: Repo:dpdk
  Branch: main
  CommitID: 39b54f2dcf44ad1f91eabc7080cd5dea763607fd

158203 --> meson & ninja build successfully

Test environment and result as below:

+---------------------+----------------+
|     Environment     | compilation    |
+---------------------+----------------+
| Loongnix-Server 8.3 | PASS           |
+---------------------+----------------+

Loongnix-Server 8.3
    Kernel: 4.19.190+
    Compiler: gcc 8.3


       reply	other threads:[~2025-10-28 17:40 UTC|newest]

Thread overview: 31+ messages / expand[flat|nested]  mbox.gz  Atom feed  top
     [not found] <20251028173703.548656-3-rjarry@redhat.com>
2025-10-28 17:03 ` qemudev [this message]
2025-10-28 17:08 ` qemudev
2025-10-28 17:38 ` checkpatch
2025-10-28 18:04 ` |SUCCESS| pw158203 [PATCH] [v3] " dpdklab
2025-10-28 18:07 ` |PENDING| " dpdklab
2025-10-28 18:09 ` |SUCCESS| " dpdklab
2025-10-28 18:09 ` dpdklab
2025-10-28 18:13 ` dpdklab
2025-10-28 18:21 ` dpdklab
2025-10-28 18:24 ` dpdklab
2025-10-28 18:25 ` |PENDING| " dpdklab
2025-10-28 18:26 ` |SUCCESS| " dpdklab
2025-10-28 18:26 ` dpdklab
2025-10-28 19:51 ` |SUCCESS| pw158203 [PATCH dpdk v3] " 0-day Robot
2025-10-28 19:51 ` 0-day Robot
2025-10-28 20:48 ` |WARNING| pw158203 [PATCH] [v3] " dpdklab
2025-10-28 21:28 ` |SUCCESS| " dpdklab
2025-10-28 21:44 ` |PENDING| " dpdklab
2025-10-28 22:09 ` |WARNING| " dpdklab
2025-10-28 22:13 ` dpdklab
2025-10-28 22:22 ` |PENDING| " dpdklab
2025-10-28 22:55 ` |SUCCESS| " dpdklab
2025-10-28 23:03 ` dpdklab
2025-10-28 23:06 ` |WARNING| " dpdklab
2025-10-28 23:17 ` |SUCCESS| " dpdklab
2025-10-28 23:19 ` |WARNING| " dpdklab
2025-10-28 23:21 ` dpdklab
2025-10-28 23:27 ` |SUCCESS| " dpdklab
2025-10-28 23:49 ` dpdklab
2025-10-29  2:06 ` dpdklab
2025-10-29 10:32 ` dpdklab

Reply instructions:

You may reply publicly to this message via plain-text email
using any one of the following methods:

* Save the following mbox file, import it into your mail client,
  and reply-to-all from there: mbox

  Avoid top-posting and favor interleaved quoting:
  https://en.wikipedia.org/wiki/Posting_style#Interleaved_style

* Reply using the --to, --cc, and --in-reply-to
  switches of git-send-email(1):

  git send-email \
    --in-reply-to=202510281703.59SH3PU42463336@localhost.localdomain \
    --to=qemudev@loongson.cn \
    --cc=test-report@dpdk.org \
    /path/to/YOUR_REPLY

  https://kernel.org/pub/software/scm/git/docs/git-send-email.html

* If your mail client supports setting the In-Reply-To header
  via mailto: links, try the mailto: link
Be sure your reply has a Subject: header at the top and a blank line before the message body.
This is a public inbox, see mirroring instructions
for how to clone and mirror all data and code used for this inbox;
as well as URLs for NNTP newsgroup(s).