From: qemudev@loongson.cn
To: test-report@dpdk.org
Subject: |SUCCESS| pw158286 [PATCH] net/cnxk: fix port ID default action
Date: Thu, 30 Oct 2025 11:11:23 +0800 [thread overview]
Message-ID: <202510300311.59U3BN2F3271413@localhost.localdomain> (raw)
In-Reply-To: <20251030034404.4187369-1-psatheesh@marvell.com>
Test-Label: loongarch-compilation
Test-Status: SUCCESS
http://dpdk.org/patch/158286
_Compilation OK_
Submitter: Satheesh Paul Antonysamy <psatheesh@marvell.com>
Date: Thu, 30 Oct 2025 09:14:03 +0530
DPDK git baseline: Repo:dpdk-next-net-mrvl
Branch: for-next-net
CommitID: 39b54f2dcf44ad1f91eabc7080cd5dea763607fd
158286 --> meson & ninja build successfully
Test environment and result as below:
+---------------------+----------------+
| Environment | compilation |
+---------------------+----------------+
| Loongnix-Server 8.3 | PASS |
+---------------------+----------------+
Loongnix-Server 8.3
Kernel: 4.19.190+
Compiler: gcc 8.3
next parent reply other threads:[~2025-10-30 3:48 UTC|newest]
Thread overview: 25+ messages / expand[flat|nested] mbox.gz Atom feed top
[not found] <20251030034404.4187369-1-psatheesh@marvell.com>
2025-10-30 3:11 ` qemudev [this message]
2025-10-30 3:16 ` qemudev
2025-10-30 3:45 ` checkpatch
2025-10-30 4:19 ` dpdklab
2025-10-30 4:22 ` dpdklab
2025-10-30 4:26 ` dpdklab
2025-10-30 4:41 ` |SUCCESS| pw158286 [dpdk-dev] " 0-day Robot
2025-10-30 4:41 ` 0-day Robot
2025-10-30 5:02 ` |SUCCESS| pw158286 " dpdklab
2025-10-30 5:10 ` dpdklab
2025-10-30 5:33 ` dpdklab
2025-10-30 5:35 ` dpdklab
2025-10-30 6:06 ` |PENDING| " dpdklab
2025-10-30 6:06 ` |SUCCESS| " dpdklab
2025-10-30 6:28 ` dpdklab
2025-10-30 6:35 ` dpdklab
2025-10-30 6:41 ` dpdklab
2025-10-30 6:43 ` |WARNING| " dpdklab
2025-10-30 6:48 ` |PENDING| " dpdklab
2025-10-30 7:28 ` |SUCCESS| " dpdklab
2025-10-30 7:43 ` |WARNING| " dpdklab
2025-10-30 7:56 ` |SUCCESS| " dpdklab
2025-10-30 8:19 ` dpdklab
2025-10-30 8:39 ` |WARNING| " dpdklab
2025-10-30 11:25 ` |SUCCESS| " dpdklab
Reply instructions:
You may reply publicly to this message via plain-text email
using any one of the following methods:
* Save the following mbox file, import it into your mail client,
and reply-to-all from there: mbox
Avoid top-posting and favor interleaved quoting:
https://en.wikipedia.org/wiki/Posting_style#Interleaved_style
* Reply using the --to, --cc, and --in-reply-to
switches of git-send-email(1):
git send-email \
--in-reply-to=202510300311.59U3BN2F3271413@localhost.localdomain \
--to=qemudev@loongson.cn \
--cc=test-report@dpdk.org \
/path/to/YOUR_REPLY
https://kernel.org/pub/software/scm/git/docs/git-send-email.html
* If your mail client supports setting the In-Reply-To header
via mailto: links, try the mailto: link
Be sure your reply has a Subject: header at the top and a blank line
before the message body.
This is a public inbox, see mirroring instructions
for how to clone and mirror all data and code used for this inbox;
as well as URLs for NNTP newsgroup(s).