automatic DPDK test reports
 help / color / mirror / Atom feed
* |SUCCESS| pw158644 [PATCH v2] net/mlx5: fix spurious CPU wakeups caused by invalid CQE
       [not found] <20251111034057.3177641-1-sivaprasad.tummala@amd.com>
@ 2025-11-11  3:07 ` qemudev
  2025-11-11  3:12 ` qemudev
                   ` (6 subsequent siblings)
  7 siblings, 0 replies; 8+ messages in thread
From: qemudev @ 2025-11-11  3:07 UTC (permalink / raw)
  To: test-report

Test-Label: loongarch-compilation
Test-Status: SUCCESS
http://dpdk.org/patch/158644

_Compilation OK_

Submitter: Sivaprasad Tummala <Sivaprasad.Tummala@amd.com>
Date: Tue, 11 Nov 2025 03:40:57 +0000
DPDK git baseline: Repo:dpdk-next-net-mlx
  Branch: for-next-net
  CommitID: 9f99559f7b850add599b7cff247d8b4e28c9b71a

158644 --> meson & ninja build successfully

Test environment and result as below:

+---------------------+----------------+
|     Environment     | compilation    |
+---------------------+----------------+
| Loongnix-Server 8.3 | PASS           |
+---------------------+----------------+

Loongnix-Server 8.3
    Kernel: 4.19.190+
    Compiler: gcc 8.3


^ permalink raw reply	[flat|nested] 8+ messages in thread

* |SUCCESS| pw158644 [PATCH v2] net/mlx5: fix spurious CPU wakeups caused by invalid CQE
       [not found] <20251111034057.3177641-1-sivaprasad.tummala@amd.com>
  2025-11-11  3:07 ` |SUCCESS| pw158644 [PATCH v2] net/mlx5: fix spurious CPU wakeups caused by invalid CQE qemudev
@ 2025-11-11  3:12 ` qemudev
  2025-11-11  3:41 ` checkpatch
                   ` (5 subsequent siblings)
  7 siblings, 0 replies; 8+ messages in thread
From: qemudev @ 2025-11-11  3:12 UTC (permalink / raw)
  To: test-report

Test-Label: loongarch-unit-testing
Test-Status: SUCCESS
http://dpdk.org/patch/158644

_Unit Testing PASS_

Submitter: Sivaprasad Tummala <Sivaprasad.Tummala@amd.com>
Date: Tue, 11 Nov 2025 03:40:57 +0000
DPDK git baseline: Repo:dpdk-next-net-mlx
  Branch: for-next-net
  CommitID: 9f99559f7b850add599b7cff247d8b4e28c9b71a

158644 --> testing pass

Test environment and result as below:

+---------------------+----------------+
|     Environment     | dpdk_unit_test |
+---------------------+----------------+
| Loongnix-Server 8.3 | PASS           |
+---------------------+----------------+

Loongnix-Server 8.3
    Kernel: 4.19.190+
    Compiler: gcc 8.3


Test result details:
  1/120 DPDK:fast-tests / acl_autotest                            OK              3.20s
  2/120 DPDK:fast-tests / alarm_autotest                          OK              1.53s
  3/120 DPDK:fast-tests / argparse_autotest                       OK              0.53s
  4/120 DPDK:fast-tests / atomic_autotest                         OK              7.24s
  5/120 DPDK:fast-tests / bitcount_autotest                       OK              0.43s
  6/120 DPDK:fast-tests / bitmap_autotest                         OK              0.43s
  7/120 DPDK:fast-tests / bitops_autotest                         OK              1.94s
  8/120 DPDK:fast-tests / bitratestats_autotest                   OK              0.43s
  9/120 DPDK:fast-tests / bitset_autotest                         OK              3.17s
 10/120 DPDK:fast-tests / bpf_autotest                            OK              0.43s
 11/120 DPDK:fast-tests / bpf_convert_autotest                    OK              0.44s
 12/120 DPDK:fast-tests / byteorder_autotest                      OK              0.43s
 13/120 DPDK:fast-tests / cfgfile_autotest                        OK              0.43s
 14/120 DPDK:fast-tests / cksum_autotest                          OK              0.43s
 15/120 DPDK:fast-tests / cmdline_autotest                        OK              0.43s
 16/120 DPDK:fast-tests / common_autotest                         OK              1.31s
 17/120 DPDK:fast-tests / compressdev_autotest                    SKIP            0.07s   exit status 77
 18/120 DPDK:fast-tests / cpuflags_autotest                       OK              0.42s
 19/120 DPDK:fast-tests / crc_autotest                            OK              0.43s
 20/120 DPDK:fast-tests / user_delay_us                           OK              0.45s
 21/120 DPDK:fast-tests / debug_autotest                          OK             27.37s
 22/120 DPDK:fast-tests / devargs_autotest                        OK              0.43s
 23/120 DPDK:fast-tests / dispatcher_autotest                     OK              2.57s
 24/120 DPDK:fast-tests / distributor_autotest                    OK              1.20s
 25/120 DPDK:fast-tests / eal_flags_c_opt_autotest                OK              0.80s
 26/120 DPDK:fast-tests / eal_flags_main_opt_autotest             OK              0.22s
 27/120 DPDK:fast-tests / eal_flags_n_opt_autotest                OK              0.20s
 28/120 DPDK:fast-tests / eal_flags_hpet_autotest                 OK              0.14s
 29/120 DPDK:fast-tests / eal_flags_no_huge_autotest              OK              0.19s
 30/120 DPDK:fast-tests / eal_flags_a_opt_autotest                OK              0.31s
 31/120 DPDK:fast-tests / eal_flags_b_opt_autotest                OK              0.27s
 32/120 DPDK:fast-tests / eal_flags_vdev_opt_autotest             OK              0.21s
 33/120 DPDK:fast-tests / eal_flags_r_opt_autotest                OK              0.19s
 34/120 DPDK:fast-tests / eal_flags_mem_autotest                  OK              0.60s
 35/120 DPDK:fast-tests / eal_flags_file_prefix_autotest          OK             22.23s
 36/120 DPDK:fast-tests / eal_flags_misc_autotest                 OK              1.08s
 37/120 DPDK:fast-tests / eal_fs_autotest                         OK              0.43s
 38/120 DPDK:fast-tests / errno_autotest                          OK              0.43s
 39/120 DPDK:fast-tests / ethdev_link_status                      OK              0.43s
 40/120 DPDK:fast-tests / event_eth_tx_adapter_autotest           OK              1.70s
 41/120 DPDK:fast-tests / event_ring_autotest                     OK              0.43s
 42/120 DPDK:fast-tests / eventdev_common_autotest                OK              0.43s
 43/120 DPDK:fast-tests / eventdev_selftest_sw                    OK              7.46s
 44/120 DPDK:fast-tests / fbarray_autotest                        OK              0.43s
 45/120 DPDK:fast-tests / fib_autotest                            OK              1.27s
 46/120 DPDK:fast-tests / fib6_autotest                           OK              1.07s
 47/120 DPDK:fast-tests / func_reentrancy_autotest                OK              2.28s
 48/120 DPDK:fast-tests / graph_autotest                          OK              0.43s
 49/120 DPDK:fast-tests / node_list_dump                          OK              0.43s
 50/120 DPDK:fast-tests / graph_feature_arc_autotest              OK              0.44s
 51/120 DPDK:fast-tests / hash_autotest                           OK              1.06s
 52/120 DPDK:fast-tests / hash_readwrite_func_autotest            OK              0.11s
 53/120 DPDK:fast-tests / interrupt_autotest                      OK              1.63s
 54/120 DPDK:fast-tests / ipfrag_autotest                         OK              0.08s
 55/120 DPDK:fast-tests / ipsec_autotest                          SKIP            0.43s   exit status 77
 56/120 DPDK:fast-tests / kvargs_autotest                         OK              0.44s
 57/120 DPDK:fast-tests / latencystats_autotest                   OK              0.44s
 58/120 DPDK:fast-tests / lcore_var_autotest                      OK              0.57s
 59/120 DPDK:fast-tests / lcores_autotest                         OK              5.24s
 60/120 DPDK:fast-tests / logs_autotest                           OK              0.43s
 61/120 DPDK:fast-tests / lpm_autotest                            OK              2.47s
 62/120 DPDK:fast-tests / lpm6_autotest                           OK              5.59s
 63/120 DPDK:fast-tests / malloc_autotest                         OK             60.47s
 64/120 DPDK:fast-tests / mbuf_autotest                           OK              4.96s
 65/120 DPDK:fast-tests / mcslock_autotest                        OK              2.53s
 66/120 DPDK:fast-tests / member_autotest                         OK              1.61s
 67/120 DPDK:fast-tests / memcpy_autotest                         OK              7.03s
 68/120 DPDK:fast-tests / memory_autotest                         OK              0.09s
 69/120 DPDK:fast-tests / mempool_autotest                        OK              0.43s
 70/120 DPDK:fast-tests / memzone_autotest                        OK              0.14s
 71/120 DPDK:fast-tests / meter_autotest                          OK              0.43s
 72/120 DPDK:fast-tests / metrics_autotest                        OK              0.43s
 73/120 DPDK:fast-tests / multiprocess_autotest                   OK              0.20s
 74/120 DPDK:fast-tests / net_ether_autotest                      OK              1.09s
 75/120 DPDK:fast-tests / net_ipv6_autotest                       OK              0.43s
 76/120 DPDK:fast-tests / pcapng_autotest                         OK              6.47s
 77/120 DPDK:fast-tests / pdcp_autotest                           SKIP            0.07s   exit status 77
 78/120 DPDK:fast-tests / pdump_autotest                          OK              0.55s
 79/120 DPDK:fast-tests / per_lcore_autotest                      OK              0.53s
 80/120 DPDK:fast-tests / pflock_autotest                         OK              1.24s
 81/120 DPDK:fast-tests / pie_autotest                            OK              0.43s
 82/120 DPDK:fast-tests / ring_pmd_autotest                       OK              0.43s
 83/120 DPDK:fast-tests / power_autotest                          OK              0.43s
 84/120 DPDK:fast-tests / power_cpufreq_autotest                  SKIP            0.07s   exit status 77
 85/120 DPDK:fast-tests / power_intel_uncore_autotest             SKIP            0.43s   exit status 77
 86/120 DPDK:fast-tests / power_kvm_vm_autotest                   SKIP            0.07s   exit status 77
 87/120 DPDK:fast-tests / prefetch_autotest                       OK              0.42s
 88/120 DPDK:fast-tests / ptr_compress_autotest                   OK              0.43s
 89/120 DPDK:fast-tests / rawdev_autotest                         OK              0.43s
 90/120 DPDK:fast-tests / rcu_qsbr_autotest                       OK              0.95s
 91/120 DPDK:fast-tests / reorder_autotest                        OK              0.49s
 92/120 DPDK:fast-tests / rib_autotest                            OK              9.08s
 93/120 DPDK:fast-tests / rib6_autotest                           OK              9.07s
 94/120 DPDK:fast-tests / ring_autotest                           OK              0.46s
 95/120 DPDK:fast-tests / rwlock_test1_autotest                   OK              1.18s
 96/120 DPDK:fast-tests / rwlock_rda_autotest                     OK              5.43s
 97/120 DPDK:fast-tests / rwlock_rds_wrm_autotest                 OK              5.43s
 98/120 DPDK:fast-tests / rwlock_rde_wro_autotest                 OK              5.43s
 99/120 DPDK:fast-tests / sched_autotest                          OK              0.43s
100/120 DPDK:fast-tests / security_autotest                       OK              0.07s
101/120 DPDK:fast-tests / seqlock_autotest                        OK              2.43s
102/120 DPDK:fast-tests / service_autotest                        OK              3.14s
103/120 DPDK:fast-tests / soring_autotest                         OK              0.44s
104/120 DPDK:fast-tests / spinlock_autotest                       OK              0.51s
105/120 DPDK:fast-tests / stack_autotest                          OK              0.87s
106/120 DPDK:fast-tests / stack_lf_autotest                       SKIP            0.06s   exit status 77
107/120 DPDK:fast-tests / string_autotest                         OK              0.43s
108/120 DPDK:fast-tests / table_autotest                          OK              7.96s
109/120 DPDK:fast-tests / tailq_autotest                          OK              0.43s
110/120 DPDK:fast-tests / telemetry_data_autotest                 OK              0.44s
111/120 DPDK:fast-tests / telemetry_json_autotest                 OK              0.43s
112/120 DPDK:fast-tests / thash_autotest                          OK              0.44s
113/120 DPDK:fast-tests / threads_autotest                        OK              0.61s
114/120 DPDK:fast-tests / ticketlock_autotest                     OK              0.58s
115/120 DPDK:fast-tests / timer_autotest                          OK              3.96s
116/120 DPDK:fast-tests / trace_autotest                          OK              0.43s
117/120 DPDK:fast-tests / trace_autotest_with_traces              OK              0.44s
118/120 DPDK:fast-tests / vdev_autotest                           OK              0.43s
119/120 DPDK:fast-tests / version_autotest                        OK              0.43s
120/120 DPDK:fast-tests / telemetry_all                           OK             19.46s


Ok:                 113
Expected Fail:      0
Fail:               0
Unexpected Pass:    0
Skipped:            7
Timeout:            0


^ permalink raw reply	[flat|nested] 8+ messages in thread

* |SUCCESS| pw158644 [PATCH v2] net/mlx5: fix spurious CPU wakeups caused by invalid CQE
       [not found] <20251111034057.3177641-1-sivaprasad.tummala@amd.com>
  2025-11-11  3:07 ` |SUCCESS| pw158644 [PATCH v2] net/mlx5: fix spurious CPU wakeups caused by invalid CQE qemudev
  2025-11-11  3:12 ` qemudev
@ 2025-11-11  3:41 ` checkpatch
  2025-11-11  4:44 ` 0-day Robot
                   ` (4 subsequent siblings)
  7 siblings, 0 replies; 8+ messages in thread
From: checkpatch @ 2025-11-11  3:41 UTC (permalink / raw)
  To: test-report

Test-Label: checkpatch
Test-Status: SUCCESS
http://dpdk.org/patch/158644

_coding style OK_



^ permalink raw reply	[flat|nested] 8+ messages in thread

* |SUCCESS| pw158644 [PATCH v2] net/mlx5: fix spurious CPU wakeups caused by invalid CQE
       [not found] <20251111034057.3177641-1-sivaprasad.tummala@amd.com>
                   ` (2 preceding siblings ...)
  2025-11-11  3:41 ` checkpatch
@ 2025-11-11  4:44 ` 0-day Robot
  2025-11-11  4:44 ` 0-day Robot
                   ` (3 subsequent siblings)
  7 siblings, 0 replies; 8+ messages in thread
From: 0-day Robot @ 2025-11-11  4:44 UTC (permalink / raw)
  To: test-report; +Cc: robot

From: robot@bytheb.org

Test-Label: github-robot: build
Test-Status: SUCCESS
http://patchwork.dpdk.org/patch/158644/

_github build: passed_
Build URL: https://github.com/ovsrobot/dpdk/actions/runs/19254583449

^ permalink raw reply	[flat|nested] 8+ messages in thread

* |SUCCESS| pw158644 [PATCH v2] net/mlx5: fix spurious CPU wakeups caused by invalid CQE
       [not found] <20251111034057.3177641-1-sivaprasad.tummala@amd.com>
                   ` (3 preceding siblings ...)
  2025-11-11  4:44 ` 0-day Robot
@ 2025-11-11  4:44 ` 0-day Robot
  2025-11-11  6:51 ` |PENDING| pw158644 [PATCH] [v2] net/mlx5: fix spurious CPU wakeups c dpdklab
                   ` (2 subsequent siblings)
  7 siblings, 0 replies; 8+ messages in thread
From: 0-day Robot @ 2025-11-11  4:44 UTC (permalink / raw)
  To: test-report; +Cc: robot

From: robot@bytheb.org

Test-Label: github-robot-post
Test-Status: SUCCESS
http://patchwork.dpdk.org/patch/158644/

_github post: success_
HTML Link: https://github.com/ovsrobot/dpdk/pull/373

^ permalink raw reply	[flat|nested] 8+ messages in thread

* |PENDING| pw158644 [PATCH] [v2] net/mlx5: fix spurious CPU wakeups c
       [not found] <20251111034057.3177641-1-sivaprasad.tummala@amd.com>
                   ` (4 preceding siblings ...)
  2025-11-11  4:44 ` 0-day Robot
@ 2025-11-11  6:51 ` dpdklab
  2025-11-11  6:54 ` |SUCCESS| " dpdklab
  2025-11-11  6:54 ` |PENDING| " dpdklab
  7 siblings, 0 replies; 8+ messages in thread
From: dpdklab @ 2025-11-11  6:51 UTC (permalink / raw)
  To: Test Report; +Cc: dpdk-test-reports

Test-Label: iol-compile-amd64-testing
Test-Status: PENDING
http://dpdk.org/patch/158644

_Testing pending_

Submitter: Sivaprasad Tummala <Sivaprasad.Tummala@amd.com>
Date: Tuesday, November 11 2025 03:40:57 
DPDK git baseline: Repo:dpdk-next-net-mlx
  Branch: master
  CommitID:9f99559f7b850add599b7cff247d8b4e28c9b71a

158644 --> testing pending

Upstream job id: Generic-VM-DPDK-Compile-Meson#39640

Test environment and result as below:

+-------------------------------+--------------------+------------------+
|          Environment          | dpdk_meson_compile | dpdk_compile_ovs |
+===============================+====================+==================+
| Fedora Linux 42               | PEND               | PEND             |
+-------------------------------+--------------------+------------------+
| CentOS Stream 9               | PEND               | SKIPPED          |
+-------------------------------+--------------------+------------------+
| CentOS Stream 10              | PEND               | SKIPPED          |
+-------------------------------+--------------------+------------------+
| Debian GNU/Linux 12           | PEND               | SKIPPED          |
+-------------------------------+--------------------+------------------+
| openSUSE Leap 15.6            | PEND               | SKIPPED          |
+-------------------------------+--------------------+------------------+
| Red Hat Enterprise Linux 9.5  | PEND               | SKIPPED          |
+-------------------------------+--------------------+------------------+
| Red Hat Enterprise Linux 8.10 | PEND               | SKIPPED          |
+-------------------------------+--------------------+------------------+
| Ubuntu 20.04                  | PASS               | SKIPPED          |
+-------------------------------+--------------------+------------------+
| FreeBSD 14.2                  | PEND               | SKIPPED          |
+-------------------------------+--------------------+------------------+
| Ubuntu 22.04                  | PEND               | SKIPPED          |
+-------------------------------+--------------------+------------------+
| Alpine Linux 3.22.0           | PEND               | SKIPPED          |
+-------------------------------+--------------------+------------------+
| Ubuntu 24.04                  | PEND               | PEND             |
+-------------------------------+--------------------+------------------+


Fedora Linux 42
	Kernel: 5.15
	Compiler: clang gcc (GCC) 15.2.1 20250808 (Red Hat 15.2.1-1)

CentOS Stream 9
	Kernel: 5.15
	Compiler: gcc gcc (GCC) 11.5.0 20240719 (Red Hat 11.5.0-11)

CentOS Stream 10
	Kernel: 5.15
	Compiler: gcc gcc (GCC) 14.2.1 20250110 (Red Hat 14.2.1-8)

Debian GNU/Linux 12
	Kernel: 5.15
	Compiler: gcc gcc (Debian 12.2.0-14+deb12u1) 12.2.0

openSUSE Leap 15.6
	Kernel: 5.15
	Compiler: gcc gcc (SUSE Linux) 7.5.0

Red Hat Enterprise Linux 9.5
	Kernel: 5.15
	Compiler: gcc gcc (GCC) 11.5.0 20240719 (Red Hat 11.5.0-2)

Red Hat Enterprise Linux 8.10
	Kernel: 5.15
	Compiler: gcc gcc (GCC) 8.5.0 20210514 (Red Hat 8.5.0-22)

Ubuntu 20.04
	Kernel: 5.15
	Compiler: gcc gcc (Ubuntu 9.4.0-1ubuntu1~20.04.2) 9.4.0

FreeBSD 14.2
	Kernel: 14.2-RELEASE
	Compiler: clang 18.1.6

Ubuntu 22.04
	Kernel: 5.15
	Compiler: gcc gcc (Ubuntu 11.4.0-1ubuntu1~22.04) 11.4.0

Alpine Linux 3.22.0
	Kernel: 5.15
	Compiler: gcc gcc (Alpine 14.2.0) 14.2.0

Ubuntu 24.04
	Kernel: 5.15
	Compiler: gcc gcc (Ubuntu 13.3.0-6ubuntu2~24.04) 13.3.0

To view detailed results, visit:
https://lab.dpdk.org/results/dashboard/patchsets/34528/

UNH-IOL DPDK Community Lab

To manage your email subscriptions, visit: 
https://lab.dpdk.org/results/dashboard/preferences/subscriptions/

^ permalink raw reply	[flat|nested] 8+ messages in thread

* |SUCCESS| pw158644 [PATCH] [v2] net/mlx5: fix spurious CPU wakeups c
       [not found] <20251111034057.3177641-1-sivaprasad.tummala@amd.com>
                   ` (5 preceding siblings ...)
  2025-11-11  6:51 ` |PENDING| pw158644 [PATCH] [v2] net/mlx5: fix spurious CPU wakeups c dpdklab
@ 2025-11-11  6:54 ` dpdklab
  2025-11-11  6:54 ` |PENDING| " dpdklab
  7 siblings, 0 replies; 8+ messages in thread
From: dpdklab @ 2025-11-11  6:54 UTC (permalink / raw)
  To: Test Report; +Cc: dpdk-test-reports

Test-Label: iol-mellanox-Functional
Test-Status: SUCCESS
http://dpdk.org/patch/158644

_Functional Testing PASS_

Submitter: Sivaprasad Tummala <Sivaprasad.Tummala@amd.com>
Date: Tuesday, November 11 2025 03:40:57 
DPDK git baseline: Repo:dpdk-next-net-mlx
  Branch: master
  CommitID:9f99559f7b850add599b7cff247d8b4e28c9b71a

158644 --> functional testing pass

Upstream job id: Template-DPDK-DTS-Pipeline#3132

Test environment and result as below:

Ubuntu 24.04
Kernel: 6.8.0-55-generic
Compiler: gcc 13.3.0
NIC: Mellanox ConnectX-5 100000 Mbps

Aggregate Results by Test Suite
+---------------------------------+--------+
|           Test Suite            | Result |
+=================================+========+
| blocklist                       |  PASS  |
+---------------------------------+--------+
| promisc_support                 |  PASS  |
+---------------------------------+--------+
| uni_pkt                         |  PASS  |
+---------------------------------+--------+
| dynamic_config                  |  PASS  |
+---------------------------------+--------+
| hello_world                     |  PASS  |
+---------------------------------+--------+
| l2fwd                           |  PASS  |
+---------------------------------+--------+
| port_restart_config_persistency |  PASS  |
+---------------------------------+--------+
| softnic                         |  PASS  |
+---------------------------------+--------+
| vlan                            |  PASS  |
+---------------------------------+--------+


To view detailed results, visit:
https://lab.dpdk.org/results/dashboard/patchsets/34528/

UNH-IOL DPDK Community Lab

To manage your email subscriptions, visit: 
https://lab.dpdk.org/results/dashboard/preferences/subscriptions/

^ permalink raw reply	[flat|nested] 8+ messages in thread

* |PENDING| pw158644 [PATCH] [v2] net/mlx5: fix spurious CPU wakeups c
       [not found] <20251111034057.3177641-1-sivaprasad.tummala@amd.com>
                   ` (6 preceding siblings ...)
  2025-11-11  6:54 ` |SUCCESS| " dpdklab
@ 2025-11-11  6:54 ` dpdklab
  7 siblings, 0 replies; 8+ messages in thread
From: dpdklab @ 2025-11-11  6:54 UTC (permalink / raw)
  To: Test Report; +Cc: dpdk-test-reports

Test-Label: iol-unit-amd64-testing
Test-Status: PENDING
http://dpdk.org/patch/158644

_Testing pending_

Submitter: Sivaprasad Tummala <Sivaprasad.Tummala@amd.com>
Date: Tuesday, November 11 2025 03:40:57 
DPDK git baseline: Repo:dpdk-next-net-mlx
  Branch: master
  CommitID:9f99559f7b850add599b7cff247d8b4e28c9b71a

158644 --> testing pending

Upstream job id: Generic-Unit-Test-DPDK#390869

Test environment and result as below:

+-------------------------------+----------------+
|          Environment          | dpdk_unit_test |
+===============================+================+
| Ubuntu 20.04                  | PEND           |
+-------------------------------+----------------+
| Debian GNU/Linux 12           | PASS           |
+-------------------------------+----------------+
| Red Hat Enterprise Linux 9.5  | PEND           |
+-------------------------------+----------------+
| Fedora Linux 42               | PEND           |
+-------------------------------+----------------+
| Ubuntu 22.04                  | PEND           |
+-------------------------------+----------------+
| Fedora Linux 40               | PEND           |
+-------------------------------+----------------+
| CentOS Stream 10              | PEND           |
+-------------------------------+----------------+
| CentOS Stream 9               | PEND           |
+-------------------------------+----------------+
| Ubuntu 24.04                  | PEND           |
+-------------------------------+----------------+
| Fedora Linux 41               | PEND           |
+-------------------------------+----------------+
| Red Hat Enterprise Linux 8.10 | PEND           |
+-------------------------------+----------------+


Ubuntu 20.04
	Kernel: 5.15
	Compiler: gcc gcc (Ubuntu 9.4.0-1ubuntu1~20.04.2) 9.4.0

Debian GNU/Linux 12
	Kernel: 5.15
	Compiler: gcc gcc (Debian 12.2.0-14+deb12u1) 12.2.0

Red Hat Enterprise Linux 9.5
	Kernel: 5.15
	Compiler: gcc gcc (GCC) 11.5.0 20240719 (Red Hat 11.5.0-2)

Fedora Linux 42
	Kernel: 5.15
	Compiler: clang gcc (GCC) 15.2.1 20250808 (Red Hat 15.2.1-1)

Ubuntu 22.04
	Kernel: 5.15
	Compiler: gcc gcc (Ubuntu 11.4.0-1ubuntu1~22.04) 11.4.0

Fedora Linux 40
	Kernel: 5.15
	Compiler: gcc gcc (GCC) 14.2.1 20240912 (Red Hat 14.2.1-3)

CentOS Stream 10
	Kernel: 5.15
	Compiler: gcc gcc (GCC) 14.2.1 20250110 (Red Hat 14.2.1-8)

CentOS Stream 9
	Kernel: 5.15
	Compiler: gcc gcc (GCC) 11.5.0 20240719 (Red Hat 11.5.0-11)

Ubuntu 24.04
	Kernel: 5.15
	Compiler: gcc gcc (Ubuntu 13.3.0-6ubuntu2~24.04) 13.3.0

Fedora Linux 41
	Kernel: 5.15
	Compiler: gcc gcc (GCC) 14.3.1 20250523 (Red Hat 14.3.1-1)

Red Hat Enterprise Linux 8.10
	Kernel: 5.15
	Compiler: gcc gcc (GCC) 8.5.0 20210514 (Red Hat 8.5.0-22)

To view detailed results, visit:
https://lab.dpdk.org/results/dashboard/patchsets/34528/

UNH-IOL DPDK Community Lab

To manage your email subscriptions, visit: 
https://lab.dpdk.org/results/dashboard/preferences/subscriptions/

^ permalink raw reply	[flat|nested] 8+ messages in thread

end of thread, other threads:[~2025-11-11  6:54 UTC | newest]

Thread overview: 8+ messages (download: mbox.gz / follow: Atom feed)
-- links below jump to the message on this page --
     [not found] <20251111034057.3177641-1-sivaprasad.tummala@amd.com>
2025-11-11  3:07 ` |SUCCESS| pw158644 [PATCH v2] net/mlx5: fix spurious CPU wakeups caused by invalid CQE qemudev
2025-11-11  3:12 ` qemudev
2025-11-11  3:41 ` checkpatch
2025-11-11  4:44 ` 0-day Robot
2025-11-11  4:44 ` 0-day Robot
2025-11-11  6:51 ` |PENDING| pw158644 [PATCH] [v2] net/mlx5: fix spurious CPU wakeups c dpdklab
2025-11-11  6:54 ` |SUCCESS| " dpdklab
2025-11-11  6:54 ` |PENDING| " dpdklab

This is a public inbox, see mirroring instructions
for how to clone and mirror all data and code used for this inbox;
as well as URLs for NNTP newsgroup(s).