automatic DPDK test reports
 help / color / mirror / Atom feed
* |SUCCESS| pw158673-158675 [PATCH v5 3/3] ring: establish a safe partial order in rts-ring
       [not found] <20251111183720.833295-3-wathsala.vithanage@arm.com>
@ 2025-11-11 18:03 ` qemudev
  2025-11-11 18:08 ` qemudev
                   ` (10 subsequent siblings)
  11 siblings, 0 replies; 12+ messages in thread
From: qemudev @ 2025-11-11 18:03 UTC (permalink / raw)
  To: test-report

Test-Label: loongarch-compilation
Test-Status: SUCCESS
http://dpdk.org/patch/158675

_Compilation OK_

Submitter: Wathsala Vithanage <wathsala.vithanage@arm.com>
Date: Tue, 11 Nov 2025 18:37:17 +0000
DPDK git baseline: Repo:dpdk
  Branch: main
  CommitID: 994644dcbdca1490bd831e4fd1d7d5b0b79d1874

158673-158675 --> meson & ninja build successfully

Test environment and result as below:

+---------------------+----------------+
|     Environment     | compilation    |
+---------------------+----------------+
| Loongnix-Server 8.3 | PASS           |
+---------------------+----------------+

Loongnix-Server 8.3
    Kernel: 4.19.190+
    Compiler: gcc 8.3


^ permalink raw reply	[flat|nested] 12+ messages in thread

* |SUCCESS| pw158673-158675 [PATCH v5 3/3] ring: establish a safe partial order in rts-ring
       [not found] <20251111183720.833295-3-wathsala.vithanage@arm.com>
  2025-11-11 18:03 ` |SUCCESS| pw158673-158675 [PATCH v5 3/3] ring: establish a safe partial order in rts-ring qemudev
@ 2025-11-11 18:08 ` qemudev
  2025-11-11 18:37 ` |WARNING| pw158675 " checkpatch
                   ` (9 subsequent siblings)
  11 siblings, 0 replies; 12+ messages in thread
From: qemudev @ 2025-11-11 18:08 UTC (permalink / raw)
  To: test-report

Test-Label: loongarch-unit-testing
Test-Status: SUCCESS
http://dpdk.org/patch/158675

_Unit Testing PASS_

Submitter: Wathsala Vithanage <wathsala.vithanage@arm.com>
Date: Tue, 11 Nov 2025 18:37:17 +0000
DPDK git baseline: Repo:dpdk
  Branch: main
  CommitID: 994644dcbdca1490bd831e4fd1d7d5b0b79d1874

158673-158675 --> testing pass

Test environment and result as below:

+---------------------+----------------+
|     Environment     | dpdk_unit_test |
+---------------------+----------------+
| Loongnix-Server 8.3 | PASS           |
+---------------------+----------------+

Loongnix-Server 8.3
    Kernel: 4.19.190+
    Compiler: gcc 8.3


Test result details:
  1/120 DPDK:fast-tests / acl_autotest                            OK              3.22s
  2/120 DPDK:fast-tests / alarm_autotest                          OK              1.56s
  3/120 DPDK:fast-tests / argparse_autotest                       OK              0.54s
  4/120 DPDK:fast-tests / atomic_autotest                         OK              6.92s
  5/120 DPDK:fast-tests / bitcount_autotest                       OK              0.57s
  6/120 DPDK:fast-tests / bitmap_autotest                         OK              0.57s
  7/120 DPDK:fast-tests / bitops_autotest                         OK              2.09s
  8/120 DPDK:fast-tests / bitratestats_autotest                   OK              0.57s
  9/120 DPDK:fast-tests / bitset_autotest                         OK              3.30s
 10/120 DPDK:fast-tests / bpf_autotest                            OK              0.57s
 11/120 DPDK:fast-tests / bpf_convert_autotest                    OK              0.57s
 12/120 DPDK:fast-tests / byteorder_autotest                      OK              0.57s
 13/120 DPDK:fast-tests / cfgfile_autotest                        OK              0.57s
 14/120 DPDK:fast-tests / cksum_autotest                          OK              0.57s
 15/120 DPDK:fast-tests / cmdline_autotest                        OK              0.57s
 16/120 DPDK:fast-tests / common_autotest                         OK              1.40s
 17/120 DPDK:fast-tests / compressdev_autotest                    SKIP            0.06s   exit status 77
 18/120 DPDK:fast-tests / cpuflags_autotest                       OK              0.57s
 19/120 DPDK:fast-tests / crc_autotest                            OK              0.57s
 20/120 DPDK:fast-tests / user_delay_us                           OK              0.57s
 21/120 DPDK:fast-tests / debug_autotest                          OK             24.10s
 22/120 DPDK:fast-tests / devargs_autotest                        OK              0.57s
 23/120 DPDK:fast-tests / dispatcher_autotest                     OK              2.47s
 24/120 DPDK:fast-tests / distributor_autotest                    OK              1.20s
 25/120 DPDK:fast-tests / eal_flags_c_opt_autotest                OK              1.03s
 26/120 DPDK:fast-tests / eal_flags_main_opt_autotest             OK              0.26s
 27/120 DPDK:fast-tests / eal_flags_n_opt_autotest                OK              0.23s
 28/120 DPDK:fast-tests / eal_flags_hpet_autotest                 OK              0.15s
 29/120 DPDK:fast-tests / eal_flags_no_huge_autotest              OK              0.23s
 30/120 DPDK:fast-tests / eal_flags_a_opt_autotest                OK              0.38s
 31/120 DPDK:fast-tests / eal_flags_b_opt_autotest                OK              0.31s
 32/120 DPDK:fast-tests / eal_flags_vdev_opt_autotest             OK              0.23s
 33/120 DPDK:fast-tests / eal_flags_r_opt_autotest                OK              0.23s
 34/120 DPDK:fast-tests / eal_flags_mem_autotest                  OK              0.66s
 35/120 DPDK:fast-tests / eal_flags_file_prefix_autotest          OK             22.28s
 36/120 DPDK:fast-tests / eal_flags_misc_autotest                 OK              1.25s
 37/120 DPDK:fast-tests / eal_fs_autotest                         OK              0.50s
 38/120 DPDK:fast-tests / errno_autotest                          OK              0.51s
 39/120 DPDK:fast-tests / ethdev_link_status                      OK              0.51s
 40/120 DPDK:fast-tests / event_eth_tx_adapter_autotest           OK              1.69s
 41/120 DPDK:fast-tests / event_ring_autotest                     OK              0.50s
 42/120 DPDK:fast-tests / eventdev_common_autotest                OK              0.50s
 43/120 DPDK:fast-tests / eventdev_selftest_sw                    OK              7.53s
 44/120 DPDK:fast-tests / fbarray_autotest                        OK              0.50s
 45/120 DPDK:fast-tests / fib_autotest                            OK              1.35s
 46/120 DPDK:fast-tests / fib6_autotest                           OK              1.34s
 47/120 DPDK:fast-tests / func_reentrancy_autotest                OK              2.24s
 48/120 DPDK:fast-tests / graph_autotest                          OK              0.50s
 49/120 DPDK:fast-tests / node_list_dump                          OK              0.50s
 50/120 DPDK:fast-tests / graph_feature_arc_autotest              OK              0.50s
 51/120 DPDK:fast-tests / hash_autotest                           OK              1.12s
 52/120 DPDK:fast-tests / hash_readwrite_func_autotest            OK              0.11s
 53/120 DPDK:fast-tests / interrupt_autotest                      OK              1.82s
 54/120 DPDK:fast-tests / ipfrag_autotest                         OK              0.08s
 55/120 DPDK:fast-tests / ipsec_autotest                          SKIP            0.52s   exit status 77
 56/120 DPDK:fast-tests / kvargs_autotest                         OK              0.52s
 57/120 DPDK:fast-tests / latencystats_autotest                   OK              0.53s
 58/120 DPDK:fast-tests / lcore_var_autotest                      OK              0.67s
 59/120 DPDK:fast-tests / lcores_autotest                         OK              5.33s
 60/120 DPDK:fast-tests / logs_autotest                           OK              0.52s
 61/120 DPDK:fast-tests / lpm_autotest                            OK              2.57s
 62/120 DPDK:fast-tests / lpm6_autotest                           OK              5.72s
 63/120 DPDK:fast-tests / malloc_autotest                         OK             62.90s
 64/120 DPDK:fast-tests / mbuf_autotest                           OK              4.37s
 65/120 DPDK:fast-tests / mcslock_autotest                        OK              3.13s
 66/120 DPDK:fast-tests / member_autotest                         OK              1.68s
 67/120 DPDK:fast-tests / memcpy_autotest                         OK              7.03s
 68/120 DPDK:fast-tests / memory_autotest                         OK              0.09s
 69/120 DPDK:fast-tests / mempool_autotest                        OK              0.43s
 70/120 DPDK:fast-tests / memzone_autotest                        OK              0.14s
 71/120 DPDK:fast-tests / meter_autotest                          OK              0.50s
 72/120 DPDK:fast-tests / metrics_autotest                        OK              0.50s
 73/120 DPDK:fast-tests / multiprocess_autotest                   OK              0.22s
 74/120 DPDK:fast-tests / net_ether_autotest                      OK              1.18s
 75/120 DPDK:fast-tests / net_ipv6_autotest                       OK              0.52s
 76/120 DPDK:fast-tests / pcapng_autotest                         OK              6.36s
 77/120 DPDK:fast-tests / pdcp_autotest                           SKIP            0.07s   exit status 77
 78/120 DPDK:fast-tests / pdump_autotest                          OK              0.65s
 79/120 DPDK:fast-tests / per_lcore_autotest                      OK              0.63s
 80/120 DPDK:fast-tests / pflock_autotest                         OK              1.34s
 81/120 DPDK:fast-tests / pie_autotest                            OK              0.53s
 82/120 DPDK:fast-tests / ring_pmd_autotest                       OK              0.53s
 83/120 DPDK:fast-tests / power_autotest                          OK              0.53s
 84/120 DPDK:fast-tests / power_cpufreq_autotest                  SKIP            0.07s   exit status 77
 85/120 DPDK:fast-tests / power_intel_uncore_autotest             SKIP            0.53s   exit status 77
 86/120 DPDK:fast-tests / power_kvm_vm_autotest                   SKIP            0.07s   exit status 77
 87/120 DPDK:fast-tests / prefetch_autotest                       OK              0.54s
 88/120 DPDK:fast-tests / ptr_compress_autotest                   OK              0.54s
 89/120 DPDK:fast-tests / rawdev_autotest                         OK              0.54s
 90/120 DPDK:fast-tests / rcu_qsbr_autotest                       OK              1.06s
 91/120 DPDK:fast-tests / reorder_autotest                        OK              0.60s
 92/120 DPDK:fast-tests / rib_autotest                            OK              9.20s
 93/120 DPDK:fast-tests / rib6_autotest                           OK              9.19s
 94/120 DPDK:fast-tests / ring_autotest                           OK              0.57s
 95/120 DPDK:fast-tests / rwlock_test1_autotest                   OK              1.29s
 96/120 DPDK:fast-tests / rwlock_rda_autotest                     OK              5.55s
 97/120 DPDK:fast-tests / rwlock_rds_wrm_autotest                 OK              5.54s
 98/120 DPDK:fast-tests / rwlock_rde_wro_autotest                 OK              5.55s
 99/120 DPDK:fast-tests / sched_autotest                          OK              0.55s
100/120 DPDK:fast-tests / security_autotest                       OK              0.07s
101/120 DPDK:fast-tests / seqlock_autotest                        OK              2.52s
102/120 DPDK:fast-tests / service_autotest                        OK              3.23s
103/120 DPDK:fast-tests / soring_autotest                         OK              0.53s
104/120 DPDK:fast-tests / spinlock_autotest                       OK              0.60s
105/120 DPDK:fast-tests / stack_autotest                          OK              0.87s
106/120 DPDK:fast-tests / stack_lf_autotest                       SKIP            0.06s   exit status 77
107/120 DPDK:fast-tests / string_autotest                         OK              0.52s
108/120 DPDK:fast-tests / table_autotest                          OK              8.07s
109/120 DPDK:fast-tests / tailq_autotest                          OK              0.52s
110/120 DPDK:fast-tests / telemetry_data_autotest                 OK              0.53s
111/120 DPDK:fast-tests / telemetry_json_autotest                 OK              0.52s
112/120 DPDK:fast-tests / thash_autotest                          OK              0.54s
113/120 DPDK:fast-tests / threads_autotest                        OK              0.71s
114/120 DPDK:fast-tests / ticketlock_autotest                     OK              0.68s
115/120 DPDK:fast-tests / timer_autotest                          OK              3.89s
116/120 DPDK:fast-tests / trace_autotest                          OK              0.53s
117/120 DPDK:fast-tests / trace_autotest_with_traces              OK              0.54s
118/120 DPDK:fast-tests / vdev_autotest                           OK              0.53s
119/120 DPDK:fast-tests / version_autotest                        OK              0.54s
120/120 DPDK:fast-tests / telemetry_all                           OK             19.68s


Ok:                 113
Expected Fail:      0
Fail:               0
Unexpected Pass:    0
Skipped:            7
Timeout:            0


^ permalink raw reply	[flat|nested] 12+ messages in thread

* |WARNING| pw158675 [PATCH v5 3/3] ring: establish a safe partial order in rts-ring
       [not found] <20251111183720.833295-3-wathsala.vithanage@arm.com>
  2025-11-11 18:03 ` |SUCCESS| pw158673-158675 [PATCH v5 3/3] ring: establish a safe partial order in rts-ring qemudev
  2025-11-11 18:08 ` qemudev
@ 2025-11-11 18:37 ` checkpatch
  2025-11-11 19:25 ` |SUCCESS| " 0-day Robot
                   ` (8 subsequent siblings)
  11 siblings, 0 replies; 12+ messages in thread
From: checkpatch @ 2025-11-11 18:37 UTC (permalink / raw)
  To: test-report; +Cc: Wathsala Vithanage

Test-Label: checkpatch
Test-Status: WARNING
http://dpdk.org/patch/158675

_coding style issues_


WARNING:TYPO_SPELLING: 'CAS' may be misspelled - perhaps 'CASE'?
#52: 
Enforce a safe partial order by making the CAS and the preceding head
                                           ^^^

WARNING:TYPO_SPELLING: 'CAS' may be misspelled - perhaps 'CASE'?
#82: FILE: lib/ring/rte_ring_rts_elem_pvt.h:35:
+	 * A0 = {A0.a, A0.b}: Synchronizes with the CAS at R0.
 	                                            ^^^

WARNING:TYPO_SPELLING: 'CAS' may be misspelled - perhaps 'CASE'?
#83: FILE: lib/ring/rte_ring_rts_elem_pvt.h:36:
+	 * The CAS at R0 in same typed thread establishes a happens-before
 	       ^^^

WARNING:TYPO_SPELLING: 'CAS' may be misspelled - perhaps 'CASE'?
#89: FILE: lib/ring/rte_ring_rts_elem_pvt.h:42:
+	 * holds when CAS succeeds and A0.b when it fails.
 	              ^^^

WARNING:TYPO_SPELLING: 'CAS' may be misspelled - perhaps 'CASE'?
#156: FILE: lib/ring/rte_ring_rts_elem_pvt.h:128:
+		 * A1 Synchronizes with the CAS at R1.
 		                            ^^^

total: 0 errors, 5 warnings, 120 lines checked

^ permalink raw reply	[flat|nested] 12+ messages in thread

* |SUCCESS| pw158675 [PATCH v5 3/3] ring: establish a safe partial order in rts-ring
       [not found] <20251111183720.833295-3-wathsala.vithanage@arm.com>
                   ` (2 preceding siblings ...)
  2025-11-11 18:37 ` |WARNING| pw158675 " checkpatch
@ 2025-11-11 19:25 ` 0-day Robot
  2025-11-11 19:25 ` 0-day Robot
                   ` (7 subsequent siblings)
  11 siblings, 0 replies; 12+ messages in thread
From: 0-day Robot @ 2025-11-11 19:25 UTC (permalink / raw)
  To: test-report; +Cc: robot

From: robot@bytheb.org

Test-Label: github-robot: build
Test-Status: SUCCESS
http://patchwork.dpdk.org/patch/158675/

_github build: passed_
Build URL: https://github.com/ovsrobot/dpdk/actions/runs/19275415494

^ permalink raw reply	[flat|nested] 12+ messages in thread

* |SUCCESS| pw158675 [PATCH v5 3/3] ring: establish a safe partial order in rts-ring
       [not found] <20251111183720.833295-3-wathsala.vithanage@arm.com>
                   ` (3 preceding siblings ...)
  2025-11-11 19:25 ` |SUCCESS| " 0-day Robot
@ 2025-11-11 19:25 ` 0-day Robot
  2025-11-11 19:36 ` |SUCCESS| pw158673-158675 [PATCH] [v5,3/3] ring: establish a safe pa dpdklab
                   ` (6 subsequent siblings)
  11 siblings, 0 replies; 12+ messages in thread
From: 0-day Robot @ 2025-11-11 19:25 UTC (permalink / raw)
  To: test-report; +Cc: robot

From: robot@bytheb.org

Test-Label: github-robot-post
Test-Status: SUCCESS
http://patchwork.dpdk.org/patch/158675/

_github post: success_
HTML Link: https://github.com/ovsrobot/dpdk/pull/383

^ permalink raw reply	[flat|nested] 12+ messages in thread

* |SUCCESS| pw158673-158675 [PATCH] [v5,3/3] ring: establish a safe pa
       [not found] <20251111183720.833295-3-wathsala.vithanage@arm.com>
                   ` (4 preceding siblings ...)
  2025-11-11 19:25 ` 0-day Robot
@ 2025-11-11 19:36 ` dpdklab
  2025-11-11 19:37 ` |PENDING| " dpdklab
                   ` (5 subsequent siblings)
  11 siblings, 0 replies; 12+ messages in thread
From: dpdklab @ 2025-11-11 19:36 UTC (permalink / raw)
  To: Test Report; +Cc: dpdk-test-reports

Test-Label: iol-mellanox-Functional
Test-Status: SUCCESS
http://dpdk.org/patch/158675

_Functional Testing PASS_

Submitter: Wathsala Vithanage <wathsala.vithanage@arm.com>
Date: Tuesday, November 11 2025 18:37:19 
DPDK git baseline: Repo:dpdk
  Branch: master
  CommitID:2f8d3fda56754b13a09098fac1140d781366672f

158673-158675 --> functional testing pass

Upstream job id: Template-DPDK-DTS-Pipeline#3162

Test environment and result as below:

Ubuntu 24.04
Kernel: 6.8.0-55-generic
Compiler: gcc 13.3.0
NIC: Mellanox ConnectX-5 100000 Mbps

Aggregate Results by Test Suite
+---------------------------------+--------+
|           Test Suite            | Result |
+=================================+========+
| blocklist                       |  PASS  |
+---------------------------------+--------+
| promisc_support                 |  PASS  |
+---------------------------------+--------+
| uni_pkt                         |  PASS  |
+---------------------------------+--------+
| dynamic_config                  |  PASS  |
+---------------------------------+--------+
| hello_world                     |  PASS  |
+---------------------------------+--------+
| l2fwd                           |  PASS  |
+---------------------------------+--------+
| port_restart_config_persistency |  PASS  |
+---------------------------------+--------+
| softnic                         |  PASS  |
+---------------------------------+--------+
| vlan                            |  PASS  |
+---------------------------------+--------+


To view detailed results, visit:
https://lab.dpdk.org/results/dashboard/patchsets/34539/

UNH-IOL DPDK Community Lab

To manage your email subscriptions, visit: 
https://lab.dpdk.org/results/dashboard/preferences/subscriptions/

^ permalink raw reply	[flat|nested] 12+ messages in thread

* |PENDING| pw158673-158675 [PATCH] [v5,3/3] ring: establish a safe pa
       [not found] <20251111183720.833295-3-wathsala.vithanage@arm.com>
                   ` (5 preceding siblings ...)
  2025-11-11 19:36 ` |SUCCESS| pw158673-158675 [PATCH] [v5,3/3] ring: establish a safe pa dpdklab
@ 2025-11-11 19:37 ` dpdklab
  2025-11-11 19:40 ` |SUCCESS| " dpdklab
                   ` (4 subsequent siblings)
  11 siblings, 0 replies; 12+ messages in thread
From: dpdklab @ 2025-11-11 19:37 UTC (permalink / raw)
  To: Test Report; +Cc: dpdk-test-reports

Test-Label: iol-compile-amd64-testing
Test-Status: PENDING
http://dpdk.org/patch/158675

_Testing pending_

Submitter: Wathsala Vithanage <wathsala.vithanage@arm.com>
Date: Tuesday, November 11 2025 18:37:19 
DPDK git baseline: Repo:dpdk
  Branch: master
  CommitID:2f8d3fda56754b13a09098fac1140d781366672f

158673-158675 --> testing pending

Upstream job id: Generic-VM-DPDK-Compile-Meson#39660

Test environment and result as below:

+-------------------------------+--------------------+------------------+
|          Environment          | dpdk_meson_compile | dpdk_compile_ovs |
+===============================+====================+==================+
| CentOS Stream 9               | PEND               | SKIPPED          |
+-------------------------------+--------------------+------------------+
| openSUSE Leap 15.6            | PEND               | SKIPPED          |
+-------------------------------+--------------------+------------------+
| Fedora Linux 42               | PEND               | PEND             |
+-------------------------------+--------------------+------------------+
| Ubuntu 22.04                  | PEND               | SKIPPED          |
+-------------------------------+--------------------+------------------+
| Debian GNU/Linux 12           | PEND               | SKIPPED          |
+-------------------------------+--------------------+------------------+
| CentOS Stream 10              | PEND               | SKIPPED          |
+-------------------------------+--------------------+------------------+
| Ubuntu 20.04                  | PASS               | SKIPPED          |
+-------------------------------+--------------------+------------------+
| Red Hat Enterprise Linux 8.10 | PEND               | SKIPPED          |
+-------------------------------+--------------------+------------------+
| Ubuntu 24.04                  | PEND               | PEND             |
+-------------------------------+--------------------+------------------+
| Red Hat Enterprise Linux 9.5  | PEND               | SKIPPED          |
+-------------------------------+--------------------+------------------+
| Alpine Linux 3.22.0           | PEND               | SKIPPED          |
+-------------------------------+--------------------+------------------+
| FreeBSD 14.2                  | PEND               | SKIPPED          |
+-------------------------------+--------------------+------------------+


CentOS Stream 9
	Kernel: 5.15
	Compiler: gcc gcc (GCC) 11.5.0 20240719 (Red Hat 11.5.0-11)

openSUSE Leap 15.6
	Kernel: 5.15
	Compiler: gcc gcc (SUSE Linux) 7.5.0

Fedora Linux 42
	Kernel: 5.15
	Compiler: clang gcc (GCC) 15.2.1 20250808 (Red Hat 15.2.1-1)

Ubuntu 22.04
	Kernel: 5.15
	Compiler: gcc gcc (Ubuntu 11.4.0-1ubuntu1~22.04) 11.4.0

Debian GNU/Linux 12
	Kernel: 5.15
	Compiler: gcc gcc (Debian 12.2.0-14+deb12u1) 12.2.0

CentOS Stream 10
	Kernel: 5.15
	Compiler: gcc gcc (GCC) 14.2.1 20250110 (Red Hat 14.2.1-8)

Ubuntu 20.04
	Kernel: 5.15
	Compiler: gcc gcc (Ubuntu 9.4.0-1ubuntu1~20.04.2) 9.4.0

Red Hat Enterprise Linux 8.10
	Kernel: 5.15
	Compiler: gcc gcc (GCC) 8.5.0 20210514 (Red Hat 8.5.0-22)

Ubuntu 24.04
	Kernel: 5.15
	Compiler: gcc gcc (Ubuntu 13.3.0-6ubuntu2~24.04) 13.3.0

Red Hat Enterprise Linux 9.5
	Kernel: 5.15
	Compiler: gcc gcc (GCC) 11.5.0 20240719 (Red Hat 11.5.0-2)

Alpine Linux 3.22.0
	Kernel: 5.15
	Compiler: gcc gcc (Alpine 14.2.0) 14.2.0

FreeBSD 14.2
	Kernel: 14.2-RELEASE
	Compiler: clang 18.1.6

To view detailed results, visit:
https://lab.dpdk.org/results/dashboard/patchsets/34539/

UNH-IOL DPDK Community Lab

To manage your email subscriptions, visit: 
https://lab.dpdk.org/results/dashboard/preferences/subscriptions/

^ permalink raw reply	[flat|nested] 12+ messages in thread

* |SUCCESS| pw158673-158675 [PATCH] [v5,3/3] ring: establish a safe pa
       [not found] <20251111183720.833295-3-wathsala.vithanage@arm.com>
                   ` (6 preceding siblings ...)
  2025-11-11 19:37 ` |PENDING| " dpdklab
@ 2025-11-11 19:40 ` dpdklab
  2025-11-11 19:58 ` dpdklab
                   ` (3 subsequent siblings)
  11 siblings, 0 replies; 12+ messages in thread
From: dpdklab @ 2025-11-11 19:40 UTC (permalink / raw)
  To: Test Report; +Cc: dpdk-test-reports

Test-Label: iol-marvell-Functional
Test-Status: SUCCESS
http://dpdk.org/patch/158675

_Functional Testing PASS_

Submitter: Wathsala Vithanage <wathsala.vithanage@arm.com>
Date: Tuesday, November 11 2025 18:37:19 
DPDK git baseline: Repo:dpdk
  Branch: master
  CommitID:2f8d3fda56754b13a09098fac1140d781366672f

158673-158675 --> functional testing pass

Upstream job id: Template-DTS-Pipeline#254150

Test environment and result as below:

Ubuntu 20.04.6
Kernel: 5.4.105
Compiler: gcc 9.4
NIC: Marvell CN106XX 50000 Mbps
Target: arm64-native-linuxapp-gcc

Aggregate Results by Test Suite
+----------------+--------+
|   Test Suite   | Result |
+================+========+
| cmdline        |  PASS  |
+----------------+--------+
| rxtx_callbacks |  PASS  |
+----------------+--------+


To view detailed results, visit:
https://lab.dpdk.org/results/dashboard/patchsets/34539/

UNH-IOL DPDK Community Lab

To manage your email subscriptions, visit: 
https://lab.dpdk.org/results/dashboard/preferences/subscriptions/

^ permalink raw reply	[flat|nested] 12+ messages in thread

* |SUCCESS| pw158673-158675 [PATCH] [v5,3/3] ring: establish a safe pa
       [not found] <20251111183720.833295-3-wathsala.vithanage@arm.com>
                   ` (7 preceding siblings ...)
  2025-11-11 19:40 ` |SUCCESS| " dpdklab
@ 2025-11-11 19:58 ` dpdklab
  2025-11-11 20:11 ` dpdklab
                   ` (2 subsequent siblings)
  11 siblings, 0 replies; 12+ messages in thread
From: dpdklab @ 2025-11-11 19:58 UTC (permalink / raw)
  To: Test Report; +Cc: dpdk-test-reports

Test-Label: iol-intel-Functional
Test-Status: SUCCESS
http://dpdk.org/patch/158675

_Functional Testing PASS_

Submitter: Wathsala Vithanage <wathsala.vithanage@arm.com>
Date: Tuesday, November 11 2025 18:37:19 
DPDK git baseline: Repo:dpdk
  Branch: master
  CommitID:2f8d3fda56754b13a09098fac1140d781366672f

158673-158675 --> functional testing pass

Upstream job id: Template-DTS-Pipeline#254147

Test environment and result as below:

Ubuntu 20.04
Kernel: 5.4
Compiler: gcc gcc (Ubuntu 9.4.0-1ubuntu1~20.04.1) 9.4.0
NIC: Intel Corporation Ethernet Converged Network Adapter XL710-QDA2 40000 Mbps

Aggregate Results by Test Suite
+-----------------------------+--------+
|         Test Suite          | Result |
+=============================+========+
| unit_tests_mbuf             |  PASS  |
+-----------------------------+--------+
| vhost_virtio_user_interrupt |  PASS  |
+-----------------------------+--------+
| virtio_smoke                |  PASS  |
+-----------------------------+--------+


To view detailed results, visit:
https://lab.dpdk.org/results/dashboard/patchsets/34539/

UNH-IOL DPDK Community Lab

To manage your email subscriptions, visit: 
https://lab.dpdk.org/results/dashboard/preferences/subscriptions/

^ permalink raw reply	[flat|nested] 12+ messages in thread

* |SUCCESS| pw158673-158675 [PATCH] [v5,3/3] ring: establish a safe pa
       [not found] <20251111183720.833295-3-wathsala.vithanage@arm.com>
                   ` (8 preceding siblings ...)
  2025-11-11 19:58 ` dpdklab
@ 2025-11-11 20:11 ` dpdklab
  2025-11-11 20:14 ` |PENDING| " dpdklab
  2025-11-11 20:22 ` dpdklab
  11 siblings, 0 replies; 12+ messages in thread
From: dpdklab @ 2025-11-11 20:11 UTC (permalink / raw)
  To: Test Report; +Cc: dpdk-test-reports

Test-Label: iol-sample-apps-testing
Test-Status: SUCCESS
http://dpdk.org/patch/158675

_Testing PASS_

Submitter: Wathsala Vithanage <wathsala.vithanage@arm.com>
Date: Tuesday, November 11 2025 18:37:19 
DPDK git baseline: Repo:dpdk
  Branch: master
  CommitID:2f8d3fda56754b13a09098fac1140d781366672f

158673-158675 --> testing pass

Upstream job id: Template-DTS-Pipeline#254152

Test environment and result as below:

+--------------+----------------------+
| Environment  | compressdev_zlib_pmd |
+==============+======================+
| Ubuntu 22.04 | PASS                 |
+--------------+----------------------+


Ubuntu 22.04
	Kernel: 5.15
	Compiler: gcc gcc (Ubuntu 11.4.0-1ubuntu1~22.04.2) 11.4.0

To view detailed results, visit:
https://lab.dpdk.org/results/dashboard/patchsets/34539/

UNH-IOL DPDK Community Lab

To manage your email subscriptions, visit: 
https://lab.dpdk.org/results/dashboard/preferences/subscriptions/

^ permalink raw reply	[flat|nested] 12+ messages in thread

* |PENDING| pw158673-158675 [PATCH] [v5,3/3] ring: establish a safe pa
       [not found] <20251111183720.833295-3-wathsala.vithanage@arm.com>
                   ` (9 preceding siblings ...)
  2025-11-11 20:11 ` dpdklab
@ 2025-11-11 20:14 ` dpdklab
  2025-11-11 20:22 ` dpdklab
  11 siblings, 0 replies; 12+ messages in thread
From: dpdklab @ 2025-11-11 20:14 UTC (permalink / raw)
  To: Test Report; +Cc: dpdk-test-reports

Test-Label: iol-unit-arm64-testing
Test-Status: PENDING
http://dpdk.org/patch/158675

_Testing pending_

Submitter: Wathsala Vithanage <wathsala.vithanage@arm.com>
Date: Tuesday, November 11 2025 18:37:19 
DPDK git baseline: Repo:dpdk
  Branch: master
  CommitID:2f8d3fda56754b13a09098fac1140d781366672f

158673-158675 --> testing pending

Upstream job id: Aarch32-Unit-Test#8177

Test environment and result as below:

+------------------------------+----------------+--------------+---------------------------+------------------------------+
|         Environment          | dpdk_unit_test | lpm_autotest | cryptodev_sw_zuc_autotest | cryptodev_sw_snow3g_autotest |
+==============================+================+==============+===========================+==============================+
| Fedora Linux 40              | PEND           | SKIPPED      | SKIPPED                   | SKIPPED                      |
+------------------------------+----------------+--------------+---------------------------+------------------------------+
| CentOS Stream 10             | PEND           | SKIPPED      | SKIPPED                   | SKIPPED                      |
+------------------------------+----------------+--------------+---------------------------+------------------------------+
| Debian GNU/Linux 12          | PEND           | SKIPPED      | SKIPPED                   | SKIPPED                      |
+------------------------------+----------------+--------------+---------------------------+------------------------------+
| CentOS Stream 9              | PEND           | SKIPPED      | SKIPPED                   | SKIPPED                      |
+------------------------------+----------------+--------------+---------------------------+------------------------------+
| Fedora Linux 41              | PEND           | SKIPPED      | SKIPPED                   | SKIPPED                      |
+------------------------------+----------------+--------------+---------------------------+------------------------------+
| Fedora Linux 42              | PEND           | SKIPPED      | SKIPPED                   | SKIPPED                      |
+------------------------------+----------------+--------------+---------------------------+------------------------------+
| Red Hat Enterprise Linux 9.5 | PEND           | SKIPPED      | SKIPPED                   | SKIPPED                      |
+------------------------------+----------------+--------------+---------------------------+------------------------------+
| Ubuntu 20.04                 | PEND           | PEND         | SKIPPED                   | SKIPPED                      |
+------------------------------+----------------+--------------+---------------------------+------------------------------+
| Ubuntu 24.04                 | PEND           | SKIPPED      | SKIPPED                   | SKIPPED                      |
+------------------------------+----------------+--------------+---------------------------+------------------------------+
| Ubuntu 22.04                 | PASS           | SKIPPED      | SKIPPED                   | SKIPPED                      |
+------------------------------+----------------+--------------+---------------------------+------------------------------+
| Debian 12 (arm)              | SKIPPED        | SKIPPED      | PEND                      | PEND                         |
+------------------------------+----------------+--------------+---------------------------+------------------------------+


Fedora Linux 40
	Kernel: 5.4
	Compiler: gcc gcc (GCC) 14.2.1 20240912 (Red Hat 14.2.1-3)

CentOS Stream 10
	Kernel: 5.4
	Compiler: gcc gcc (GCC) 14.2.1 20250110 (Red Hat 14.2.1-8)

Debian GNU/Linux 12
	Kernel: 5.4
	Compiler: gcc gcc (Debian 12.2.0-14+deb12u1) 12.2.0

CentOS Stream 9
	Kernel: 5.4
	Compiler: gcc gcc (GCC) 11.5.0 20240719 (Red Hat 11.5.0-11)

Fedora Linux 41
	Kernel: 5.4
	Compiler: clang gcc (GCC) 14.3.1 20250523 (Red Hat 14.3.1-1)

Fedora Linux 42
	Kernel: 5.4
	Compiler: gcc gcc (GCC) 15.2.1 20250808 (Red Hat 15.2.1-1)

Red Hat Enterprise Linux 9.5
	Kernel: 5.4
	Compiler: gcc gcc (GCC) 11.5.0 20240719 (Red Hat 11.5.0-2)

Ubuntu 20.04
	Kernel: 5.4
	Compiler: gcc gcc (Ubuntu 9.4.0-1ubuntu1~20.04.2) 9.4.0

Ubuntu 24.04
	Kernel: 5.4
	Compiler: gcc gcc (Ubuntu 13.3.0-6ubuntu2~24.04) 13.3.0

Ubuntu 22.04
	Kernel: 5.4
	Compiler: gcc gcc (Ubuntu 11.4.0-1ubuntu1~22.04) 11.4.0

Debian 12 (arm)
	Kernel: Depends on container host
	Compiler: gcc (Debian 12.2.0-14) 12.2.0

To view detailed results, visit:
https://lab.dpdk.org/results/dashboard/patchsets/34539/

UNH-IOL DPDK Community Lab

To manage your email subscriptions, visit: 
https://lab.dpdk.org/results/dashboard/preferences/subscriptions/

^ permalink raw reply	[flat|nested] 12+ messages in thread

* |PENDING| pw158673-158675 [PATCH] [v5,3/3] ring: establish a safe pa
       [not found] <20251111183720.833295-3-wathsala.vithanage@arm.com>
                   ` (10 preceding siblings ...)
  2025-11-11 20:14 ` |PENDING| " dpdklab
@ 2025-11-11 20:22 ` dpdklab
  11 siblings, 0 replies; 12+ messages in thread
From: dpdklab @ 2025-11-11 20:22 UTC (permalink / raw)
  To: Test Report; +Cc: dpdk-test-reports

Test-Label: iol-compile-arm64-testing
Test-Status: PENDING
http://dpdk.org/patch/158675

_Testing pending_

Submitter: Wathsala Vithanage <wathsala.vithanage@arm.com>
Date: Tuesday, November 11 2025 18:37:19 
DPDK git baseline: Repo:dpdk
  Branch: master
  CommitID:2f8d3fda56754b13a09098fac1140d781366672f

158673-158675 --> testing pending

Upstream job id: Generic-DPDK-Compile-Meson#443135

Test environment and result as below:

+------------------------------+--------------------+
|         Environment          | dpdk_meson_compile |
+==============================+====================+
| Red Hat Enterprise Linux 9.5 | PEND               |
+------------------------------+--------------------+
| Ubuntu 20.04                 | PEND               |
+------------------------------+--------------------+
| Debian GNU/Linux 12          | PEND               |
+------------------------------+--------------------+
| Fedora Linux 42              | PEND               |
+------------------------------+--------------------+
| CentOS Stream 9              | PEND               |
+------------------------------+--------------------+
| Ubuntu 24.04                 | PEND               |
+------------------------------+--------------------+
| Ubuntu 22.04                 | PEND               |
+------------------------------+--------------------+
| CentOS Stream 10             | PEND               |
+------------------------------+--------------------+


Red Hat Enterprise Linux 9.5
	Kernel: 5.4
	Compiler: gcc gcc (GCC) 11.5.0 20240719 (Red Hat 11.5.0-2)

Ubuntu 20.04
	Kernel: 5.4
	Compiler: gcc gcc (Ubuntu 9.4.0-1ubuntu1~20.04.2) 9.4.0

Debian GNU/Linux 12
	Kernel: 5.4
	Compiler: gcc gcc (Debian 12.2.0-14+deb12u1) 12.2.0

Fedora Linux 42
	Kernel: 5.4
	Compiler: clang gcc (GCC) 15.2.1 20250808 (Red Hat 15.2.1-1)

CentOS Stream 9
	Kernel: 5.4
	Compiler: gcc gcc (GCC) 11.5.0 20240719 (Red Hat 11.5.0-11)

Ubuntu 24.04
	Kernel: 5.4
	Compiler: gcc gcc (Ubuntu 13.3.0-6ubuntu2~24.04) 13.3.0

Ubuntu 22.04
	Kernel: 5.4
	Compiler: gcc gcc (Ubuntu 11.4.0-1ubuntu1~22.04) 11.4.0

CentOS Stream 10
	Kernel: 5.4
	Compiler: gcc gcc (GCC) 14.2.1 20250110 (Red Hat 14.2.1-8)

To view detailed results, visit:
https://lab.dpdk.org/results/dashboard/patchsets/34539/

UNH-IOL DPDK Community Lab

To manage your email subscriptions, visit: 
https://lab.dpdk.org/results/dashboard/preferences/subscriptions/

^ permalink raw reply	[flat|nested] 12+ messages in thread

end of thread, other threads:[~2025-11-11 20:22 UTC | newest]

Thread overview: 12+ messages (download: mbox.gz / follow: Atom feed)
-- links below jump to the message on this page --
     [not found] <20251111183720.833295-3-wathsala.vithanage@arm.com>
2025-11-11 18:03 ` |SUCCESS| pw158673-158675 [PATCH v5 3/3] ring: establish a safe partial order in rts-ring qemudev
2025-11-11 18:08 ` qemudev
2025-11-11 18:37 ` |WARNING| pw158675 " checkpatch
2025-11-11 19:25 ` |SUCCESS| " 0-day Robot
2025-11-11 19:25 ` 0-day Robot
2025-11-11 19:36 ` |SUCCESS| pw158673-158675 [PATCH] [v5,3/3] ring: establish a safe pa dpdklab
2025-11-11 19:37 ` |PENDING| " dpdklab
2025-11-11 19:40 ` |SUCCESS| " dpdklab
2025-11-11 19:58 ` dpdklab
2025-11-11 20:11 ` dpdklab
2025-11-11 20:14 ` |PENDING| " dpdklab
2025-11-11 20:22 ` dpdklab

This is a public inbox, see mirroring instructions
for how to clone and mirror all data and code used for this inbox;
as well as URLs for NNTP newsgroup(s).