automatic DPDK test reports
 help / color / mirror / Atom feed
* |SUCCESS| pw158684-158685 [PATCH v6 2/2] bpf: add test for Rx and Tx filtering
       [not found] <20251111225719.540140-3-stephen@networkplumber.org>
@ 2025-11-11 22:39 ` qemudev
  2025-11-11 22:44 ` qemudev
                   ` (3 subsequent siblings)
  4 siblings, 0 replies; 5+ messages in thread
From: qemudev @ 2025-11-11 22:39 UTC (permalink / raw)
  To: test-report

Test-Label: loongarch-compilation
Test-Status: SUCCESS
http://dpdk.org/patch/158685

_Compilation OK_

Submitter: Stephen Hemminger <stephen@networkplumber.org>
Date: Tue, 11 Nov 2025 14:55:46 -0800
DPDK git baseline: Repo:dpdk
  Branch: main
  CommitID: be0112878b4fc3a1b918370ed2fe615c52039d77

158684-158685 --> meson & ninja build successfully

Test environment and result as below:

+---------------------+----------------+
|     Environment     | compilation    |
+---------------------+----------------+
| Loongnix-Server 8.3 | PASS           |
+---------------------+----------------+

Loongnix-Server 8.3
    Kernel: 4.19.190+
    Compiler: gcc 8.3


^ permalink raw reply	[flat|nested] 5+ messages in thread

* |SUCCESS| pw158684-158685 [PATCH v6 2/2] bpf: add test for Rx and Tx filtering
       [not found] <20251111225719.540140-3-stephen@networkplumber.org>
  2025-11-11 22:39 ` |SUCCESS| pw158684-158685 [PATCH v6 2/2] bpf: add test for Rx and Tx filtering qemudev
@ 2025-11-11 22:44 ` qemudev
  2025-11-11 22:57 ` |WARNING| pw158685 " checkpatch
                   ` (2 subsequent siblings)
  4 siblings, 0 replies; 5+ messages in thread
From: qemudev @ 2025-11-11 22:44 UTC (permalink / raw)
  To: test-report

Test-Label: loongarch-unit-testing
Test-Status: SUCCESS
http://dpdk.org/patch/158685

_Unit Testing PASS_

Submitter: Stephen Hemminger <stephen@networkplumber.org>
Date: Tue, 11 Nov 2025 14:55:46 -0800
DPDK git baseline: Repo:dpdk
  Branch: main
  CommitID: be0112878b4fc3a1b918370ed2fe615c52039d77

158684-158685 --> testing pass

Test environment and result as below:

+---------------------+----------------+
|     Environment     | dpdk_unit_test |
+---------------------+----------------+
| Loongnix-Server 8.3 | PASS           |
+---------------------+----------------+

Loongnix-Server 8.3
    Kernel: 4.19.190+
    Compiler: gcc 8.3


Test result details:
  1/121 DPDK:fast-tests / acl_autotest                            OK              3.25s
  2/121 DPDK:fast-tests / alarm_autotest                          OK              1.56s
  3/121 DPDK:fast-tests / argparse_autotest                       OK              0.56s
  4/121 DPDK:fast-tests / atomic_autotest                         OK              6.90s
  5/121 DPDK:fast-tests / bitcount_autotest                       OK              0.43s
  6/121 DPDK:fast-tests / bitmap_autotest                         OK              0.43s
  7/121 DPDK:fast-tests / bitops_autotest                         OK              1.93s
  8/121 DPDK:fast-tests / bitratestats_autotest                   OK              0.43s
  9/121 DPDK:fast-tests / bitset_autotest                         OK              3.14s
 10/121 DPDK:fast-tests / bpf_autotest                            OK              0.43s
 11/121 DPDK:fast-tests / bpf_elf_autotest                        SKIP            0.43s   exit status 77
 12/121 DPDK:fast-tests / bpf_convert_autotest                    OK              0.44s
 13/121 DPDK:fast-tests / byteorder_autotest                      OK              0.43s
 14/121 DPDK:fast-tests / cfgfile_autotest                        OK              0.43s
 15/121 DPDK:fast-tests / cksum_autotest                          OK              0.43s
 16/121 DPDK:fast-tests / cmdline_autotest                        OK              0.43s
 17/121 DPDK:fast-tests / common_autotest                         OK              1.32s
 18/121 DPDK:fast-tests / compressdev_autotest                    SKIP            0.07s   exit status 77
 19/121 DPDK:fast-tests / cpuflags_autotest                       OK              0.43s
 20/121 DPDK:fast-tests / crc_autotest                            OK              0.43s
 21/121 DPDK:fast-tests / user_delay_us                           OK              0.43s
 22/121 DPDK:fast-tests / debug_autotest                          OK             24.17s
 23/121 DPDK:fast-tests / devargs_autotest                        OK              0.44s
 24/121 DPDK:fast-tests / dispatcher_autotest                     OK              2.49s
 25/121 DPDK:fast-tests / distributor_autotest                    OK              1.21s
 26/121 DPDK:fast-tests / eal_flags_c_opt_autotest                OK              1.10s
 27/121 DPDK:fast-tests / eal_flags_main_opt_autotest             OK              0.28s
 28/121 DPDK:fast-tests / eal_flags_n_opt_autotest                OK              0.25s
 29/121 DPDK:fast-tests / eal_flags_hpet_autotest                 OK              0.16s
 30/121 DPDK:fast-tests / eal_flags_no_huge_autotest              OK              0.26s
 31/121 DPDK:fast-tests / eal_flags_a_opt_autotest                OK              0.41s
 32/121 DPDK:fast-tests / eal_flags_b_opt_autotest                OK              0.33s
 33/121 DPDK:fast-tests / eal_flags_vdev_opt_autotest             OK              0.24s
 34/121 DPDK:fast-tests / eal_flags_r_opt_autotest                OK              0.24s
 35/121 DPDK:fast-tests / eal_flags_mem_autotest                  OK              0.69s
 36/121 DPDK:fast-tests / eal_flags_file_prefix_autotest          OK             22.33s
 37/121 DPDK:fast-tests / eal_flags_misc_autotest                 OK              1.33s
 38/121 DPDK:fast-tests / eal_fs_autotest                         OK              0.43s
 39/121 DPDK:fast-tests / errno_autotest                          OK              0.44s
 40/121 DPDK:fast-tests / ethdev_link_status                      OK              0.43s
 41/121 DPDK:fast-tests / event_eth_tx_adapter_autotest           OK              1.70s
 42/121 DPDK:fast-tests / event_ring_autotest                     OK              0.44s
 43/121 DPDK:fast-tests / eventdev_common_autotest                OK              0.44s
 44/121 DPDK:fast-tests / eventdev_selftest_sw                    OK              7.46s
 45/121 DPDK:fast-tests / fbarray_autotest                        OK              0.44s
 46/121 DPDK:fast-tests / fib_autotest                            OK              1.27s
 47/121 DPDK:fast-tests / fib6_autotest                           OK              1.26s
 48/121 DPDK:fast-tests / func_reentrancy_autotest                OK              2.17s
 49/121 DPDK:fast-tests / graph_autotest                          OK              0.44s
 50/121 DPDK:fast-tests / node_list_dump                          OK              0.43s
 51/121 DPDK:fast-tests / graph_feature_arc_autotest              OK              0.44s
 52/121 DPDK:fast-tests / hash_autotest                           OK              1.06s
 53/121 DPDK:fast-tests / hash_readwrite_func_autotest            OK              0.12s
 54/121 DPDK:fast-tests / interrupt_autotest                      OK              1.74s
 55/121 DPDK:fast-tests / ipfrag_autotest                         OK              0.08s
 56/121 DPDK:fast-tests / ipsec_autotest                          SKIP            0.44s   exit status 77
 57/121 DPDK:fast-tests / kvargs_autotest                         OK              0.44s
 58/121 DPDK:fast-tests / latencystats_autotest                   OK              0.44s
 59/121 DPDK:fast-tests / lcore_var_autotest                      OK              0.57s
 60/121 DPDK:fast-tests / lcores_autotest                         OK              5.25s
 61/121 DPDK:fast-tests / logs_autotest                           OK              0.44s
 62/121 DPDK:fast-tests / lpm_autotest                            OK              2.48s
 63/121 DPDK:fast-tests / lpm6_autotest                           OK              5.64s
 64/121 DPDK:fast-tests / malloc_autotest                         OK             61.39s
 65/121 DPDK:fast-tests / mbuf_autotest                           OK              4.79s
 66/121 DPDK:fast-tests / mcslock_autotest                        OK              3.33s
 67/121 DPDK:fast-tests / member_autotest                         OK              1.80s
 68/121 DPDK:fast-tests / memcpy_autotest                         OK              7.03s
 69/121 DPDK:fast-tests / memory_autotest                         OK              0.09s
 70/121 DPDK:fast-tests / mempool_autotest                        OK              0.44s
 71/121 DPDK:fast-tests / memzone_autotest                        OK              0.15s
 72/121 DPDK:fast-tests / meter_autotest                          OK              0.43s
 73/121 DPDK:fast-tests / metrics_autotest                        OK              0.44s
 74/121 DPDK:fast-tests / multiprocess_autotest                   OK              0.23s
 75/121 DPDK:fast-tests / net_ether_autotest                      OK              1.10s
 76/121 DPDK:fast-tests / net_ipv6_autotest                       OK              0.43s
 77/121 DPDK:fast-tests / pcapng_autotest                         OK              6.84s
 78/121 DPDK:fast-tests / pdcp_autotest                           SKIP            0.07s   exit status 77
 79/121 DPDK:fast-tests / pdump_autotest                          OK              0.54s
 80/121 DPDK:fast-tests / per_lcore_autotest                      OK              0.54s
 81/121 DPDK:fast-tests / pflock_autotest                         OK              1.26s
 82/121 DPDK:fast-tests / pie_autotest                            OK              0.43s
 83/121 DPDK:fast-tests / ring_pmd_autotest                       OK              0.44s
 84/121 DPDK:fast-tests / power_autotest                          OK              0.43s
 85/121 DPDK:fast-tests / power_cpufreq_autotest                  SKIP            0.07s   exit status 77
 86/121 DPDK:fast-tests / power_intel_uncore_autotest             SKIP            0.43s   exit status 77
 87/121 DPDK:fast-tests / power_kvm_vm_autotest                   SKIP            0.07s   exit status 77
 88/121 DPDK:fast-tests / prefetch_autotest                       OK              0.43s
 89/121 DPDK:fast-tests / ptr_compress_autotest                   OK              0.43s
 90/121 DPDK:fast-tests / rawdev_autotest                         OK              0.44s
 91/121 DPDK:fast-tests / rcu_qsbr_autotest                       OK              0.96s
 92/121 DPDK:fast-tests / reorder_autotest                        OK              0.49s
 93/121 DPDK:fast-tests / rib_autotest                            OK              9.10s
 94/121 DPDK:fast-tests / rib6_autotest                           OK              9.08s
 95/121 DPDK:fast-tests / ring_autotest                           OK              0.46s
 96/121 DPDK:fast-tests / rwlock_test1_autotest                   OK              1.21s
 97/121 DPDK:fast-tests / rwlock_rda_autotest                     OK              5.44s
 98/121 DPDK:fast-tests / rwlock_rds_wrm_autotest                 OK              5.44s
 99/121 DPDK:fast-tests / rwlock_rde_wro_autotest                 OK              5.44s
100/121 DPDK:fast-tests / sched_autotest                          OK              0.44s
101/121 DPDK:fast-tests / security_autotest                       OK              0.07s
102/121 DPDK:fast-tests / seqlock_autotest                        OK              2.44s
103/121 DPDK:fast-tests / service_autotest                        OK              3.14s
104/121 DPDK:fast-tests / soring_autotest                         OK              0.44s
105/121 DPDK:fast-tests / spinlock_autotest                       OK              0.52s
106/121 DPDK:fast-tests / stack_autotest                          OK              0.87s
107/121 DPDK:fast-tests / stack_lf_autotest                       SKIP            0.06s   exit status 77
108/121 DPDK:fast-tests / string_autotest                         OK              0.43s
109/121 DPDK:fast-tests / table_autotest                          OK              8.09s
110/121 DPDK:fast-tests / tailq_autotest                          OK              0.54s
111/121 DPDK:fast-tests / telemetry_data_autotest                 OK              0.54s
112/121 DPDK:fast-tests / telemetry_json_autotest                 OK              0.54s
113/121 DPDK:fast-tests / thash_autotest                          OK              0.55s
114/121 DPDK:fast-tests / threads_autotest                        OK              0.72s
115/121 DPDK:fast-tests / ticketlock_autotest                     OK              0.71s
116/121 DPDK:fast-tests / timer_autotest                          OK              3.98s
117/121 DPDK:fast-tests / trace_autotest                          OK              0.43s
118/121 DPDK:fast-tests / trace_autotest_with_traces              OK              0.44s
119/121 DPDK:fast-tests / vdev_autotest                           OK              0.43s
120/121 DPDK:fast-tests / version_autotest                        OK              0.44s
121/121 DPDK:fast-tests / telemetry_all                           OK             19.51s


Ok:                 113
Expected Fail:      0
Fail:               0
Unexpected Pass:    0
Skipped:            8
Timeout:            0


^ permalink raw reply	[flat|nested] 5+ messages in thread

* |WARNING| pw158685 [PATCH v6 2/2] bpf: add test for Rx and Tx filtering
       [not found] <20251111225719.540140-3-stephen@networkplumber.org>
  2025-11-11 22:39 ` |SUCCESS| pw158684-158685 [PATCH v6 2/2] bpf: add test for Rx and Tx filtering qemudev
  2025-11-11 22:44 ` qemudev
@ 2025-11-11 22:57 ` checkpatch
  2025-11-11 23:44 ` |SUCCESS| " 0-day Robot
  2025-11-11 23:44 ` 0-day Robot
  4 siblings, 0 replies; 5+ messages in thread
From: checkpatch @ 2025-11-11 22:57 UTC (permalink / raw)
  To: test-report; +Cc: Stephen Hemminger

Test-Label: checkpatch
Test-Status: WARNING
http://dpdk.org/patch/158685

_coding style issues_


WARNING:PREFER_DEFINED_ATTRIBUTE_MACRO: Prefer __section("filter") over __attribute__((section("filter")))
#134: FILE: app/test/bpf/filter.c:21:
+__attribute__((section("filter"), used))

WARNING:PREFER_DEFINED_ATTRIBUTE_MACRO: Prefer __used over __attribute__((used))
#134: FILE: app/test/bpf/filter.c:21:
+__attribute__((section("filter"), used))

WARNING:PREFER_DEFINED_ATTRIBUTE_MACRO: Prefer __section("drop") over __attribute__((section("drop")))
#152: FILE: app/test/bpf/filter.c:39:
+__attribute__((section("drop"), used))

WARNING:PREFER_DEFINED_ATTRIBUTE_MACRO: Prefer __used over __attribute__((used))
#152: FILE: app/test/bpf/filter.c:39:
+__attribute__((section("drop"), used))

WARNING:PREFER_DEFINED_ATTRIBUTE_MACRO: Prefer __section("allow") over __attribute__((section("allow")))
#160: FILE: app/test/bpf/filter.c:47:
+__attribute__((section("allow"), used))

WARNING:PREFER_DEFINED_ATTRIBUTE_MACRO: Prefer __used over __attribute__((used))
#160: FILE: app/test/bpf/filter.c:47:
+__attribute__((section("allow"), used))

total: 0 errors, 6 warnings, 396 lines checked
Warning in app/test/bpf/filter.c:
Using compiler attribute directly

^ permalink raw reply	[flat|nested] 5+ messages in thread

* |SUCCESS| pw158685 [PATCH v6 2/2] bpf: add test for Rx and Tx filtering
       [not found] <20251111225719.540140-3-stephen@networkplumber.org>
                   ` (2 preceding siblings ...)
  2025-11-11 22:57 ` |WARNING| pw158685 " checkpatch
@ 2025-11-11 23:44 ` 0-day Robot
  2025-11-11 23:44 ` 0-day Robot
  4 siblings, 0 replies; 5+ messages in thread
From: 0-day Robot @ 2025-11-11 23:44 UTC (permalink / raw)
  To: test-report; +Cc: robot

From: robot@bytheb.org

Test-Label: github-robot: build
Test-Status: SUCCESS
http://patchwork.dpdk.org/patch/158685/

_github build: passed_
Build URL: https://github.com/ovsrobot/dpdk/actions/runs/19280938826

^ permalink raw reply	[flat|nested] 5+ messages in thread

* |SUCCESS| pw158685 [PATCH v6 2/2] bpf: add test for Rx and Tx filtering
       [not found] <20251111225719.540140-3-stephen@networkplumber.org>
                   ` (3 preceding siblings ...)
  2025-11-11 23:44 ` |SUCCESS| " 0-day Robot
@ 2025-11-11 23:44 ` 0-day Robot
  4 siblings, 0 replies; 5+ messages in thread
From: 0-day Robot @ 2025-11-11 23:44 UTC (permalink / raw)
  To: test-report; +Cc: robot

From: robot@bytheb.org

Test-Label: github-robot-post
Test-Status: SUCCESS
http://patchwork.dpdk.org/patch/158685/

_github post: success_
HTML Link: https://github.com/ovsrobot/dpdk/pull/385

^ permalink raw reply	[flat|nested] 5+ messages in thread

end of thread, other threads:[~2025-11-11 23:44 UTC | newest]

Thread overview: 5+ messages (download: mbox.gz / follow: Atom feed)
-- links below jump to the message on this page --
     [not found] <20251111225719.540140-3-stephen@networkplumber.org>
2025-11-11 22:39 ` |SUCCESS| pw158684-158685 [PATCH v6 2/2] bpf: add test for Rx and Tx filtering qemudev
2025-11-11 22:44 ` qemudev
2025-11-11 22:57 ` |WARNING| pw158685 " checkpatch
2025-11-11 23:44 ` |SUCCESS| " 0-day Robot
2025-11-11 23:44 ` 0-day Robot

This is a public inbox, see mirroring instructions
for how to clone and mirror all data and code used for this inbox;
as well as URLs for NNTP newsgroup(s).