automatic DPDK test reports
 help / color / mirror / Atom feed
* |SUCCESS| pw158746 [PATCH] app/proc-info: allow overriding defaults options
       [not found] <20251112130326.2674728-1-mprajapat@marvell.com>
@ 2025-11-13  7:06 ` qemudev
  2025-11-13  7:11 ` qemudev
                   ` (8 subsequent siblings)
  9 siblings, 0 replies; 10+ messages in thread
From: qemudev @ 2025-11-13  7:06 UTC (permalink / raw)
  To: test-report

Test-Label: loongarch-compilation
Test-Status: SUCCESS
http://dpdk.org/patch/158746

_Compilation OK_

Submitter: Mohit Kumar Parjapat <mprajapat@marvell.com>
Date: Wed, 12 Nov 2025 18:33:13 +0530
DPDK git baseline: Repo:dpdk
  Branch: main
  CommitID: be0112878b4fc3a1b918370ed2fe615c52039d77

158746 --> meson & ninja build successfully

Test environment and result as below:

+---------------------+----------------+
|     Environment     | compilation    |
+---------------------+----------------+
| Loongnix-Server 8.3 | PASS           |
+---------------------+----------------+

Loongnix-Server 8.3
    Kernel: 4.19.190+
    Compiler: gcc 8.3


^ permalink raw reply	[flat|nested] 10+ messages in thread

* |SUCCESS| pw158746 [PATCH] app/proc-info: allow overriding defaults options
       [not found] <20251112130326.2674728-1-mprajapat@marvell.com>
  2025-11-13  7:06 ` |SUCCESS| pw158746 [PATCH] app/proc-info: allow overriding defaults options qemudev
@ 2025-11-13  7:11 ` qemudev
  2025-11-13  7:39 ` checkpatch
                   ` (7 subsequent siblings)
  9 siblings, 0 replies; 10+ messages in thread
From: qemudev @ 2025-11-13  7:11 UTC (permalink / raw)
  To: test-report

Test-Label: loongarch-unit-testing
Test-Status: SUCCESS
http://dpdk.org/patch/158746

_Unit Testing PASS_

Submitter: Mohit Kumar Parjapat <mprajapat@marvell.com>
Date: Wed, 12 Nov 2025 18:33:13 +0530
DPDK git baseline: Repo:dpdk
  Branch: main
  CommitID: be0112878b4fc3a1b918370ed2fe615c52039d77

158746 --> testing pass

Test environment and result as below:

+---------------------+----------------+
|     Environment     | dpdk_unit_test |
+---------------------+----------------+
| Loongnix-Server 8.3 | PASS           |
+---------------------+----------------+

Loongnix-Server 8.3
    Kernel: 4.19.190+
    Compiler: gcc 8.3


Test result details:
  1/120 DPDK:fast-tests / acl_autotest                            OK              3.14s
  2/120 DPDK:fast-tests / alarm_autotest                          OK              1.44s
  3/120 DPDK:fast-tests / argparse_autotest                       OK              0.44s
  4/120 DPDK:fast-tests / atomic_autotest                         OK              6.93s
  5/120 DPDK:fast-tests / bitcount_autotest                       OK              0.44s
  6/120 DPDK:fast-tests / bitmap_autotest                         OK              0.44s
  7/120 DPDK:fast-tests / bitops_autotest                         OK              1.94s
  8/120 DPDK:fast-tests / bitratestats_autotest                   OK              0.54s
  9/120 DPDK:fast-tests / bitset_autotest                         OK              3.19s
 10/120 DPDK:fast-tests / bpf_autotest                            OK              0.44s
 11/120 DPDK:fast-tests / bpf_convert_autotest                    OK              0.44s
 12/120 DPDK:fast-tests / byteorder_autotest                      OK              0.44s
 13/120 DPDK:fast-tests / cfgfile_autotest                        OK              0.43s
 14/120 DPDK:fast-tests / cksum_autotest                          OK              0.44s
 15/120 DPDK:fast-tests / cmdline_autotest                        OK              0.44s
 16/120 DPDK:fast-tests / common_autotest                         OK              1.32s
 17/120 DPDK:fast-tests / compressdev_autotest                    SKIP            0.07s   exit status 77
 18/120 DPDK:fast-tests / cpuflags_autotest                       OK              0.44s
 19/120 DPDK:fast-tests / crc_autotest                            OK              0.44s
 20/120 DPDK:fast-tests / user_delay_us                           OK              0.44s
 21/120 DPDK:fast-tests / debug_autotest                          OK             20.68s
 22/120 DPDK:fast-tests / devargs_autotest                        OK              0.44s
 23/120 DPDK:fast-tests / dispatcher_autotest                     OK              2.54s
 24/120 DPDK:fast-tests / distributor_autotest                    OK              1.21s
 25/120 DPDK:fast-tests / eal_flags_c_opt_autotest                OK              1.06s
 26/120 DPDK:fast-tests / eal_flags_main_opt_autotest             OK              0.27s
 27/120 DPDK:fast-tests / eal_flags_n_opt_autotest                OK              0.24s
 28/120 DPDK:fast-tests / eal_flags_hpet_autotest                 OK              0.16s
 29/120 DPDK:fast-tests / eal_flags_no_huge_autotest              OK              0.25s
 30/120 DPDK:fast-tests / eal_flags_a_opt_autotest                OK              0.39s
 31/120 DPDK:fast-tests / eal_flags_b_opt_autotest                OK              0.32s
 32/120 DPDK:fast-tests / eal_flags_vdev_opt_autotest             OK              0.24s
 33/120 DPDK:fast-tests / eal_flags_r_opt_autotest                OK              0.24s
 34/120 DPDK:fast-tests / eal_flags_mem_autotest                  OK              0.67s
 35/120 DPDK:fast-tests / eal_flags_file_prefix_autotest          OK             22.27s
 36/120 DPDK:fast-tests / eal_flags_misc_autotest                 OK              1.27s
 37/120 DPDK:fast-tests / eal_fs_autotest                         OK              0.62s
 38/120 DPDK:fast-tests / errno_autotest                          OK              0.62s
 39/120 DPDK:fast-tests / ethdev_link_status                      OK              0.61s
 40/120 DPDK:fast-tests / event_eth_tx_adapter_autotest           OK              1.70s
 41/120 DPDK:fast-tests / event_ring_autotest                     OK              0.67s
 42/120 DPDK:fast-tests / eventdev_common_autotest                OK              0.67s
 43/120 DPDK:fast-tests / eventdev_selftest_sw                    OK              7.56s
 44/120 DPDK:fast-tests / fbarray_autotest                        OK              0.68s
 45/120 DPDK:fast-tests / fib_autotest                            OK              1.54s
 46/120 DPDK:fast-tests / fib6_autotest                           OK              1.50s
 47/120 DPDK:fast-tests / func_reentrancy_autotest                OK              2.19s
 48/120 DPDK:fast-tests / graph_autotest                          OK              0.68s
 49/120 DPDK:fast-tests / node_list_dump                          OK              0.68s
 50/120 DPDK:fast-tests / graph_feature_arc_autotest              OK              0.68s
 51/120 DPDK:fast-tests / hash_autotest                           OK              1.29s
 52/120 DPDK:fast-tests / hash_readwrite_func_autotest            OK              0.12s
 53/120 DPDK:fast-tests / interrupt_autotest                      OK              2.00s
 54/120 DPDK:fast-tests / ipfrag_autotest                         OK              0.09s
 55/120 DPDK:fast-tests / ipsec_autotest                          SKIP            0.72s   exit status 77
 56/120 DPDK:fast-tests / kvargs_autotest                         OK              0.72s
 57/120 DPDK:fast-tests / latencystats_autotest                   OK              0.72s
 58/120 DPDK:fast-tests / lcore_var_autotest                      OK              0.86s
 59/120 DPDK:fast-tests / lcores_autotest                         OK              5.52s
 60/120 DPDK:fast-tests / logs_autotest                           OK              0.71s
 61/120 DPDK:fast-tests / lpm_autotest                            OK              2.78s
 62/120 DPDK:fast-tests / lpm6_autotest                           OK              5.87s
 63/120 DPDK:fast-tests / malloc_autotest                         OK             62.55s
 64/120 DPDK:fast-tests / mbuf_autotest                           OK              5.49s
 65/120 DPDK:fast-tests / mcslock_autotest                        OK              4.30s
 66/120 DPDK:fast-tests / member_autotest                         OK              1.88s
 67/120 DPDK:fast-tests / memcpy_autotest                         OK              7.19s
 68/120 DPDK:fast-tests / memory_autotest                         OK              0.10s
 69/120 DPDK:fast-tests / mempool_autotest                        OK              0.45s
 70/120 DPDK:fast-tests / memzone_autotest                        OK              0.15s
 71/120 DPDK:fast-tests / meter_autotest                          OK              0.72s
 72/120 DPDK:fast-tests / metrics_autotest                        OK              0.72s
 73/120 DPDK:fast-tests / multiprocess_autotest                   OK              0.23s
 74/120 DPDK:fast-tests / net_ether_autotest                      OK              1.41s
 75/120 DPDK:fast-tests / net_ipv6_autotest                       OK              0.75s
 76/120 DPDK:fast-tests / pcapng_autotest                         OK              6.73s
 77/120 DPDK:fast-tests / pdcp_autotest                           SKIP            0.08s   exit status 77
 78/120 DPDK:fast-tests / pdump_autotest                          OK              0.87s
 79/120 DPDK:fast-tests / per_lcore_autotest                      OK              0.85s
 80/120 DPDK:fast-tests / pflock_autotest                         OK              1.56s
 81/120 DPDK:fast-tests / pie_autotest                            OK              0.75s
 82/120 DPDK:fast-tests / ring_pmd_autotest                       OK              0.75s
 83/120 DPDK:fast-tests / power_autotest                          OK              0.75s
 84/120 DPDK:fast-tests / power_cpufreq_autotest                  SKIP            0.08s   exit status 77
 85/120 DPDK:fast-tests / power_intel_uncore_autotest             SKIP            0.74s   exit status 77
 86/120 DPDK:fast-tests / power_kvm_vm_autotest                   SKIP            0.08s   exit status 77
 87/120 DPDK:fast-tests / prefetch_autotest                       OK              0.74s
 88/120 DPDK:fast-tests / ptr_compress_autotest                   OK              0.74s
 89/120 DPDK:fast-tests / rawdev_autotest                         OK              0.74s
 90/120 DPDK:fast-tests / rcu_qsbr_autotest                       OK              1.26s
 91/120 DPDK:fast-tests / reorder_autotest                        OK              0.79s
 92/120 DPDK:fast-tests / rib_autotest                            OK              9.38s
 93/120 DPDK:fast-tests / rib6_autotest                           OK              9.39s
 94/120 DPDK:fast-tests / ring_autotest                           OK              0.76s
 95/120 DPDK:fast-tests / rwlock_test1_autotest                   OK              1.50s
 96/120 DPDK:fast-tests / rwlock_rda_autotest                     OK              5.74s
 97/120 DPDK:fast-tests / rwlock_rds_wrm_autotest                 OK              5.74s
 98/120 DPDK:fast-tests / rwlock_rde_wro_autotest                 OK              5.74s
 99/120 DPDK:fast-tests / sched_autotest                          OK              0.74s
100/120 DPDK:fast-tests / security_autotest                       OK              0.08s
101/120 DPDK:fast-tests / seqlock_autotest                        OK              2.74s
102/120 DPDK:fast-tests / service_autotest                        OK              3.45s
103/120 DPDK:fast-tests / soring_autotest                         OK              0.74s
104/120 DPDK:fast-tests / spinlock_autotest                       OK              0.82s
105/120 DPDK:fast-tests / stack_autotest                          OK              0.88s
106/120 DPDK:fast-tests / stack_lf_autotest                       SKIP            0.07s   exit status 77
107/120 DPDK:fast-tests / string_autotest                         OK              0.73s
108/120 DPDK:fast-tests / table_autotest                          OK              7.84s
109/120 DPDK:fast-tests / tailq_autotest                          OK              0.73s
110/120 DPDK:fast-tests / telemetry_data_autotest                 OK              0.74s
111/120 DPDK:fast-tests / telemetry_json_autotest                 OK              0.73s
112/120 DPDK:fast-tests / thash_autotest                          OK              0.74s
113/120 DPDK:fast-tests / threads_autotest                        OK              0.92s
114/120 DPDK:fast-tests / ticketlock_autotest                     OK              0.87s
115/120 DPDK:fast-tests / timer_autotest                          OK              3.92s
116/120 DPDK:fast-tests / trace_autotest                          OK              0.71s
117/120 DPDK:fast-tests / trace_autotest_with_traces              OK              0.72s
118/120 DPDK:fast-tests / vdev_autotest                           OK              0.72s
119/120 DPDK:fast-tests / version_autotest                        OK              0.73s
120/120 DPDK:fast-tests / telemetry_all                           OK             20.01s


Ok:                 113
Expected Fail:      0
Fail:               0
Unexpected Pass:    0
Skipped:            7
Timeout:            0


^ permalink raw reply	[flat|nested] 10+ messages in thread

* |SUCCESS| pw158746 [PATCH] app/proc-info: allow overriding defaults options
       [not found] <20251112130326.2674728-1-mprajapat@marvell.com>
  2025-11-13  7:06 ` |SUCCESS| pw158746 [PATCH] app/proc-info: allow overriding defaults options qemudev
  2025-11-13  7:11 ` qemudev
@ 2025-11-13  7:39 ` checkpatch
  2025-11-13 10:30 ` |PENDING| pw158746 [PATCH] app/proc-info: allow overriding defaults dpdklab
                   ` (6 subsequent siblings)
  9 siblings, 0 replies; 10+ messages in thread
From: checkpatch @ 2025-11-13  7:39 UTC (permalink / raw)
  To: test-report

Test-Label: checkpatch
Test-Status: SUCCESS
http://dpdk.org/patch/158746

_coding style OK_



^ permalink raw reply	[flat|nested] 10+ messages in thread

* |PENDING| pw158746 [PATCH] app/proc-info: allow overriding defaults
       [not found] <20251112130326.2674728-1-mprajapat@marvell.com>
                   ` (2 preceding siblings ...)
  2025-11-13  7:39 ` checkpatch
@ 2025-11-13 10:30 ` dpdklab
  2025-11-13 10:37 ` |SUCCESS| " dpdklab
                   ` (5 subsequent siblings)
  9 siblings, 0 replies; 10+ messages in thread
From: dpdklab @ 2025-11-13 10:30 UTC (permalink / raw)
  To: Test Report; +Cc: dpdk-test-reports

Test-Label: iol-compile-amd64-testing
Test-Status: PENDING
http://dpdk.org/patch/158746

_Testing pending_

Submitter: Mohit Kumar Parjapat <mprajapat@marvell.com>
Date: Wednesday, November 12 2025 13:03:13 
DPDK git baseline: Repo:dpdk
  Branch: master
  CommitID:be0112878b4fc3a1b918370ed2fe615c52039d77

158746 --> testing pending

Upstream job id: Generic-VM-DPDK-Compile-Meson#39714

Test environment and result as below:

+--------------+--------------------+
| Environment  | dpdk_meson_compile |
+==============+====================+
| Ubuntu 20.04 | PASS               |
+--------------+--------------------+
| FreeBSD 14.2 | PEND               |
+--------------+--------------------+


Ubuntu 20.04
	Kernel: 4.19
	Compiler: gcc gcc (Ubuntu 9.4.0-1ubuntu1~20.04.2) 9.4.0

FreeBSD 14.2
	Kernel: 14.2-RELEASE
	Compiler: clang 18.1.6

To view detailed results, visit:
https://lab.dpdk.org/results/dashboard/patchsets/34566/

UNH-IOL DPDK Community Lab

To manage your email subscriptions, visit: 
https://lab.dpdk.org/results/dashboard/preferences/subscriptions/

^ permalink raw reply	[flat|nested] 10+ messages in thread

* |SUCCESS| pw158746 [PATCH] app/proc-info: allow overriding defaults
       [not found] <20251112130326.2674728-1-mprajapat@marvell.com>
                   ` (3 preceding siblings ...)
  2025-11-13 10:30 ` |PENDING| pw158746 [PATCH] app/proc-info: allow overriding defaults dpdklab
@ 2025-11-13 10:37 ` dpdklab
  2025-11-13 10:37 ` dpdklab
                   ` (4 subsequent siblings)
  9 siblings, 0 replies; 10+ messages in thread
From: dpdklab @ 2025-11-13 10:37 UTC (permalink / raw)
  To: Test Report; +Cc: dpdk-test-reports

Test-Label: iol-compile-amd64-testing
Test-Status: SUCCESS
http://dpdk.org/patch/158746

_Testing PASS_

Submitter: Mohit Kumar Parjapat <mprajapat@marvell.com>
Date: Wednesday, November 12 2025 13:03:13 
DPDK git baseline: Repo:dpdk
  Branch: master
  CommitID:be0112878b4fc3a1b918370ed2fe615c52039d77

158746 --> testing pass

Upstream job id: Generic-VM-DPDK-Compile-Meson#39715

Test environment and result as below:

+--------------+--------------------+
| Environment  | dpdk_meson_compile |
+==============+====================+
| Ubuntu 20.04 | PASS               |
+--------------+--------------------+
| FreeBSD 14.2 | PASS               |
+--------------+--------------------+


Ubuntu 20.04
	Kernel: 4.19
	Compiler: gcc gcc (Ubuntu 9.4.0-1ubuntu1~20.04.2) 9.4.0

FreeBSD 14.2
	Kernel: 14.2-RELEASE
	Compiler: clang 18.1.6

To view detailed results, visit:
https://lab.dpdk.org/results/dashboard/patchsets/34566/

UNH-IOL DPDK Community Lab

To manage your email subscriptions, visit: 
https://lab.dpdk.org/results/dashboard/preferences/subscriptions/

^ permalink raw reply	[flat|nested] 10+ messages in thread

* |SUCCESS| pw158746 [PATCH] app/proc-info: allow overriding defaults
       [not found] <20251112130326.2674728-1-mprajapat@marvell.com>
                   ` (4 preceding siblings ...)
  2025-11-13 10:37 ` |SUCCESS| " dpdklab
@ 2025-11-13 10:37 ` dpdklab
  2025-11-13 10:38 ` dpdklab
                   ` (3 subsequent siblings)
  9 siblings, 0 replies; 10+ messages in thread
From: dpdklab @ 2025-11-13 10:37 UTC (permalink / raw)
  To: Test Report; +Cc: dpdk-test-reports

Test-Label: iol-marvell-Functional
Test-Status: SUCCESS
http://dpdk.org/patch/158746

_Functional Testing PASS_

Submitter: Mohit Kumar Parjapat <mprajapat@marvell.com>
Date: Wednesday, November 12 2025 13:03:13 
DPDK git baseline: Repo:dpdk
  Branch: master
  CommitID:be0112878b4fc3a1b918370ed2fe615c52039d77

158746 --> functional testing pass

Upstream job id: Template-DTS-Pipeline#254528

Test environment and result as below:

Ubuntu 20.04.6
Kernel: 5.4.105
Compiler: gcc 9.4
NIC: Marvell CN106XX 50000 Mbps
Target: arm64-native-linuxapp-gcc

Aggregate Results by Test Suite
+----------------+--------+
|   Test Suite   | Result |
+================+========+
| cmdline        |  PASS  |
+----------------+--------+
| rxtx_callbacks |  PASS  |
+----------------+--------+


To view detailed results, visit:
https://lab.dpdk.org/results/dashboard/patchsets/34566/

UNH-IOL DPDK Community Lab

To manage your email subscriptions, visit: 
https://lab.dpdk.org/results/dashboard/preferences/subscriptions/

^ permalink raw reply	[flat|nested] 10+ messages in thread

* |SUCCESS| pw158746 [PATCH] app/proc-info: allow overriding defaults
       [not found] <20251112130326.2674728-1-mprajapat@marvell.com>
                   ` (5 preceding siblings ...)
  2025-11-13 10:37 ` dpdklab
@ 2025-11-13 10:38 ` dpdklab
  2025-11-13 10:41 ` |PENDING| " dpdklab
                   ` (2 subsequent siblings)
  9 siblings, 0 replies; 10+ messages in thread
From: dpdklab @ 2025-11-13 10:38 UTC (permalink / raw)
  To: Test Report; +Cc: dpdk-test-reports

Test-Label: iol-mellanox-Functional
Test-Status: SUCCESS
http://dpdk.org/patch/158746

_Functional Testing PASS_

Submitter: Mohit Kumar Parjapat <mprajapat@marvell.com>
Date: Wednesday, November 12 2025 13:03:13 
DPDK git baseline: Repo:dpdk
  Branch: master
  CommitID:be0112878b4fc3a1b918370ed2fe615c52039d77

158746 --> functional testing pass

Upstream job id: Template-DPDK-DTS-Pipeline#3225

Test environment and result as below:

Ubuntu 24.04
Kernel: 6.8.0-55-generic
Compiler: gcc 13.3.0
NIC: Mellanox ConnectX-5 100000 Mbps

Aggregate Results by Test Suite
+---------------------------------+--------+
|           Test Suite            | Result |
+=================================+========+
| blocklist                       |  PASS  |
+---------------------------------+--------+
| promisc_support                 |  PASS  |
+---------------------------------+--------+
| uni_pkt                         |  PASS  |
+---------------------------------+--------+
| dynamic_config                  |  PASS  |
+---------------------------------+--------+
| hello_world                     |  PASS  |
+---------------------------------+--------+
| l2fwd                           |  PASS  |
+---------------------------------+--------+
| port_restart_config_persistency |  PASS  |
+---------------------------------+--------+
| softnic                         |  PASS  |
+---------------------------------+--------+
| vlan                            |  PASS  |
+---------------------------------+--------+


To view detailed results, visit:
https://lab.dpdk.org/results/dashboard/patchsets/34566/

UNH-IOL DPDK Community Lab

To manage your email subscriptions, visit: 
https://lab.dpdk.org/results/dashboard/preferences/subscriptions/

^ permalink raw reply	[flat|nested] 10+ messages in thread

* |PENDING| pw158746 [PATCH] app/proc-info: allow overriding defaults
       [not found] <20251112130326.2674728-1-mprajapat@marvell.com>
                   ` (6 preceding siblings ...)
  2025-11-13 10:38 ` dpdklab
@ 2025-11-13 10:41 ` dpdklab
  2025-11-13 10:44 ` |SUCCESS| " dpdklab
  2025-11-13 10:54 ` dpdklab
  9 siblings, 0 replies; 10+ messages in thread
From: dpdklab @ 2025-11-13 10:41 UTC (permalink / raw)
  To: Test Report; +Cc: dpdk-test-reports

Test-Label: iol-unit-arm64-testing
Test-Status: PENDING
http://dpdk.org/patch/158746

_Testing pending_

Submitter: Mohit Kumar Parjapat <mprajapat@marvell.com>
Date: Wednesday, November 12 2025 13:03:13 
DPDK git baseline: Repo:dpdk
  Branch: master
  CommitID:be0112878b4fc3a1b918370ed2fe615c52039d77

158746 --> testing pending

Upstream job id: Generic-Unit-Test-DPDK#391965

Test environment and result as below:

+------------------------------+----------------+---------------------------+--------------+------------------------------+
|         Environment          | dpdk_unit_test | cryptodev_sw_zuc_autotest | lpm_autotest | cryptodev_sw_snow3g_autotest |
+==============================+================+===========================+==============+==============================+
| Debian GNU/Linux 12          | PEND           | SKIPPED                   | SKIPPED      | SKIPPED                      |
+------------------------------+----------------+---------------------------+--------------+------------------------------+
| Fedora Linux 40              | PEND           | SKIPPED                   | SKIPPED      | SKIPPED                      |
+------------------------------+----------------+---------------------------+--------------+------------------------------+
| CentOS Stream 9              | PEND           | SKIPPED                   | SKIPPED      | SKIPPED                      |
+------------------------------+----------------+---------------------------+--------------+------------------------------+
| Ubuntu 22.04                 | PEND           | SKIPPED                   | SKIPPED      | SKIPPED                      |
+------------------------------+----------------+---------------------------+--------------+------------------------------+
| Fedora Linux 41              | PEND           | SKIPPED                   | SKIPPED      | SKIPPED                      |
+------------------------------+----------------+---------------------------+--------------+------------------------------+
| Fedora Linux 42              | PEND           | SKIPPED                   | SKIPPED      | SKIPPED                      |
+------------------------------+----------------+---------------------------+--------------+------------------------------+
| Red Hat Enterprise Linux 9.5 | PEND           | SKIPPED                   | SKIPPED      | SKIPPED                      |
+------------------------------+----------------+---------------------------+--------------+------------------------------+
| Ubuntu 24.04                 | PEND           | SKIPPED                   | SKIPPED      | SKIPPED                      |
+------------------------------+----------------+---------------------------+--------------+------------------------------+
| CentOS Stream 10             | PEND           | SKIPPED                   | SKIPPED      | SKIPPED                      |
+------------------------------+----------------+---------------------------+--------------+------------------------------+
| Ubuntu 20.04                 | PEND           | SKIPPED                   | PASS         | SKIPPED                      |
+------------------------------+----------------+---------------------------+--------------+------------------------------+
| Debian 12 (arm)              | SKIPPED        | PEND                      | SKIPPED      | PEND                         |
+------------------------------+----------------+---------------------------+--------------+------------------------------+


Debian GNU/Linux 12
	Kernel: 5.4
	Compiler: gcc gcc (Debian 12.2.0-14+deb12u1) 12.2.0

Fedora Linux 40
	Kernel: 5.4
	Compiler: gcc gcc (GCC) 14.2.1 20240912 (Red Hat 14.2.1-3)

CentOS Stream 9
	Kernel: 5.4
	Compiler: gcc gcc (GCC) 11.5.0 20240719 (Red Hat 11.5.0-11)

Ubuntu 22.04
	Kernel: 5.15
	Compiler: gcc gcc (Ubuntu 11.4.0-1ubuntu1~22.04.2) 11.4.0

Fedora Linux 41
	Kernel: 5.4
	Compiler: gcc gcc (GCC) 14.3.1 20250523 (Red Hat 14.3.1-1)

Fedora Linux 42
	Kernel: 5.4
	Compiler: clang gcc (GCC) 15.2.1 20250808 (Red Hat 15.2.1-1)

Red Hat Enterprise Linux 9.5
	Kernel: 5.4
	Compiler: gcc gcc (GCC) 11.5.0 20240719 (Red Hat 11.5.0-2)

Ubuntu 24.04
	Kernel: 5.4
	Compiler: gcc gcc (Ubuntu 13.3.0-6ubuntu2~24.04) 13.3.0

CentOS Stream 10
	Kernel: 5.4
	Compiler: gcc gcc (GCC) 14.2.1 20250110 (Red Hat 14.2.1-8)

Ubuntu 20.04
	Kernel: 5.4
	Compiler: gcc gcc (Ubuntu 9.4.0-1ubuntu1~20.04.2) 9.4.0

Debian 12 (arm)
	Kernel: Depends on container host
	Compiler: gcc (Debian 12.2.0-14) 12.2.0

To view detailed results, visit:
https://lab.dpdk.org/results/dashboard/patchsets/34566/

UNH-IOL DPDK Community Lab

To manage your email subscriptions, visit: 
https://lab.dpdk.org/results/dashboard/preferences/subscriptions/

^ permalink raw reply	[flat|nested] 10+ messages in thread

* |SUCCESS| pw158746 [PATCH] app/proc-info: allow overriding defaults
       [not found] <20251112130326.2674728-1-mprajapat@marvell.com>
                   ` (7 preceding siblings ...)
  2025-11-13 10:41 ` |PENDING| " dpdklab
@ 2025-11-13 10:44 ` dpdklab
  2025-11-13 10:54 ` dpdklab
  9 siblings, 0 replies; 10+ messages in thread
From: dpdklab @ 2025-11-13 10:44 UTC (permalink / raw)
  To: Test Report; +Cc: dpdk-test-reports

Test-Label: iol-sample-apps-testing
Test-Status: SUCCESS
http://dpdk.org/patch/158746

_Testing PASS_

Submitter: Mohit Kumar Parjapat <mprajapat@marvell.com>
Date: Wednesday, November 12 2025 13:03:13 
DPDK git baseline: Repo:dpdk
  Branch: master
  CommitID:be0112878b4fc3a1b918370ed2fe615c52039d77

158746 --> testing pass

Upstream job id: Template-DTS-Pipeline#254530

Test environment and result as below:

+--------------+----------------------+
| Environment  | compressdev_zlib_pmd |
+==============+======================+
| Ubuntu 22.04 | PASS                 |
+--------------+----------------------+


Ubuntu 22.04
	Kernel: 5.15
	Compiler: gcc gcc (Ubuntu 11.4.0-1ubuntu1~22.04.2) 11.4.0

To view detailed results, visit:
https://lab.dpdk.org/results/dashboard/patchsets/34566/

UNH-IOL DPDK Community Lab

To manage your email subscriptions, visit: 
https://lab.dpdk.org/results/dashboard/preferences/subscriptions/

^ permalink raw reply	[flat|nested] 10+ messages in thread

* |SUCCESS| pw158746 [PATCH] app/proc-info: allow overriding defaults
       [not found] <20251112130326.2674728-1-mprajapat@marvell.com>
                   ` (8 preceding siblings ...)
  2025-11-13 10:44 ` |SUCCESS| " dpdklab
@ 2025-11-13 10:54 ` dpdklab
  9 siblings, 0 replies; 10+ messages in thread
From: dpdklab @ 2025-11-13 10:54 UTC (permalink / raw)
  To: Test Report, Ali Alnubani; +Cc: dpdk-test-reports

Test-Label: iol-mellanox-Performance
Test-Status: SUCCESS
http://dpdk.org/patch/158746

_Performance Testing PASS_

Submitter: Mohit Kumar Parjapat <mprajapat@marvell.com>
Date: Wednesday, November 12 2025 13:03:13 
DPDK git baseline: Repo:dpdk
  Branch: master
  CommitID:be0112878b4fc3a1b918370ed2fe615c52039d77

158746 --> performance testing pass

Upstream job id: Template-DTS-Pipeline#254518

Test environment and result as below:

Ubuntu 24.04
Kernel: 6.8
Compiler: gcc gcc (Ubuntu 13.3.0-6ubuntu2~24.04) 13.3.0
NIC: Mellanox ConnectX-6 Lx 25000 Mbps
Fail/Total: 0/6

Detail performance results: 
+------------+---------+----------+-------------+------------------------------+
| frame_size | txd/rxd | num_cpus | num_threads |  throughput difference from  |
|            |         |          |             |           expected           |
+============+=========+==========+=============+==============================+
| 64         | 1024    | 1        | 1           | -0.2%                        |
+------------+---------+----------+-------------+------------------------------+
| 128        | 1024    | 1        | 1           | -0.1%                        |
+------------+---------+----------+-------------+------------------------------+
| 256        | 1024    | 1        | 1           | -0.0%                        |
+------------+---------+----------+-------------+------------------------------+
| 512        | 1024    | 1        | 1           | -0.1%                        |
+------------+---------+----------+-------------+------------------------------+
| 1024       | 1024    | 1        | 1           | -0.1%                        |
+------------+---------+----------+-------------+------------------------------+
| 1518       | 1024    | 1        | 1           | -0.1%                        |
+------------+---------+----------+-------------+------------------------------+

Ubuntu 24.04
Kernel: 6.8
Compiler: gcc gcc (Ubuntu 13.3.0-6ubuntu2~24.04) 13.3.0
NIC: NVIDIA Mellanox ConnectX-7 100000 Mbps
Fail/Total: 0/6

Detail performance results: 
+------------+---------+----------+-------------+------------------------------+
| frame_size | txd/rxd | num_cpus | num_threads |  throughput difference from  |
|            |         |          |             |           expected           |
+============+=========+==========+=============+==============================+
| 64         | 1024    | 1        | 1           | -0.8%                        |
+------------+---------+----------+-------------+------------------------------+
| 128        | 1024    | 1        | 1           | -0.7%                        |
+------------+---------+----------+-------------+------------------------------+
| 256        | 1024    | 1        | 1           | -2.3%                        |
+------------+---------+----------+-------------+------------------------------+
| 512        | 1024    | 1        | 1           | 0.2%                         |
+------------+---------+----------+-------------+------------------------------+
| 1024       | 1024    | 1        | 1           | -0.0%                        |
+------------+---------+----------+-------------+------------------------------+
| 1518       | 1024    | 1        | 1           | -0.0%                        |
+------------+---------+----------+-------------+------------------------------+

To view detailed results, visit:
https://lab.dpdk.org/results/dashboard/patchsets/34566/

UNH-IOL DPDK Community Lab

To manage your email subscriptions, visit: 
https://lab.dpdk.org/results/dashboard/preferences/subscriptions/

^ permalink raw reply	[flat|nested] 10+ messages in thread

end of thread, other threads:[~2025-11-13 10:54 UTC | newest]

Thread overview: 10+ messages (download: mbox.gz / follow: Atom feed)
-- links below jump to the message on this page --
     [not found] <20251112130326.2674728-1-mprajapat@marvell.com>
2025-11-13  7:06 ` |SUCCESS| pw158746 [PATCH] app/proc-info: allow overriding defaults options qemudev
2025-11-13  7:11 ` qemudev
2025-11-13  7:39 ` checkpatch
2025-11-13 10:30 ` |PENDING| pw158746 [PATCH] app/proc-info: allow overriding defaults dpdklab
2025-11-13 10:37 ` |SUCCESS| " dpdklab
2025-11-13 10:37 ` dpdklab
2025-11-13 10:38 ` dpdklab
2025-11-13 10:41 ` |PENDING| " dpdklab
2025-11-13 10:44 ` |SUCCESS| " dpdklab
2025-11-13 10:54 ` dpdklab

This is a public inbox, see mirroring instructions
for how to clone and mirror all data and code used for this inbox;
as well as URLs for NNTP newsgroup(s).