automatic DPDK test reports
 help / color / mirror / Atom feed
* |SUCCESS| pw158932 [PATCH] mbuf: fix packet copy
       [not found] <20251119120403.907511-1-mb@smartsharesystems.com>
@ 2025-11-19 11:29 ` qemudev
  2025-11-19 11:34 ` qemudev
                   ` (2 subsequent siblings)
  3 siblings, 0 replies; 4+ messages in thread
From: qemudev @ 2025-11-19 11:29 UTC (permalink / raw)
  To: test-report

Test-Label: loongarch-compilation
Test-Status: SUCCESS
http://dpdk.org/patch/158932

_Compilation OK_

Submitter: Morten Brørup <mb@smartsharesystems.com>
Date: Wed, 19 Nov 2025 12:04:03 +0000
DPDK git baseline: Repo:dpdk
  Branch: main
  CommitID: ef98b88455bf4a7c8b7aa3106a761c9e9270d6a3

158932 --> meson & ninja build successfully

Test environment and result as below:

+---------------------+----------------+
|     Environment     | compilation    |
+---------------------+----------------+
| Loongnix-Server 8.3 | PASS           |
+---------------------+----------------+

Loongnix-Server 8.3
    Kernel: 4.19.190+
    Compiler: gcc 8.3


^ permalink raw reply	[flat|nested] 4+ messages in thread

* |SUCCESS| pw158932 [PATCH] mbuf: fix packet copy
       [not found] <20251119120403.907511-1-mb@smartsharesystems.com>
  2025-11-19 11:29 ` |SUCCESS| pw158932 [PATCH] mbuf: fix packet copy qemudev
@ 2025-11-19 11:34 ` qemudev
  2025-11-19 12:04 ` checkpatch
  2025-11-19 13:27 ` |PENDING| " dpdklab
  3 siblings, 0 replies; 4+ messages in thread
From: qemudev @ 2025-11-19 11:34 UTC (permalink / raw)
  To: test-report

Test-Label: loongarch-unit-testing
Test-Status: SUCCESS
http://dpdk.org/patch/158932

_Unit Testing PASS_

Submitter: Morten Brørup <mb@smartsharesystems.com>
Date: Wed, 19 Nov 2025 12:04:03 +0000
DPDK git baseline: Repo:dpdk
  Branch: main
  CommitID: ef98b88455bf4a7c8b7aa3106a761c9e9270d6a3

158932 --> testing pass

Test environment and result as below:

+---------------------+----------------+
|     Environment     | dpdk_unit_test |
+---------------------+----------------+
| Loongnix-Server 8.3 | PASS           |
+---------------------+----------------+

Loongnix-Server 8.3
    Kernel: 4.19.190+
    Compiler: gcc 8.3


Test result details:
  1/121 DPDK:fast-tests / acl_autotest                            OK              3.29s
  2/121 DPDK:fast-tests / alarm_autotest                          OK              1.49s
  3/121 DPDK:fast-tests / argparse_autotest                       OK              0.51s
  4/121 DPDK:fast-tests / atomic_autotest                         OK              6.96s
  5/121 DPDK:fast-tests / bitcount_autotest                       OK              0.43s
  6/121 DPDK:fast-tests / bitmap_autotest                         OK              0.44s
  7/121 DPDK:fast-tests / bitops_autotest                         OK              1.94s
  8/121 DPDK:fast-tests / bitratestats_autotest                   OK              0.44s
  9/121 DPDK:fast-tests / bitset_autotest                         OK              3.17s
 10/121 DPDK:fast-tests / bpf_autotest                            OK              0.44s
 11/121 DPDK:fast-tests / bpf_elf_autotest                        SKIP            0.44s   exit status 77
 12/121 DPDK:fast-tests / bpf_convert_autotest                    OK              0.44s
 13/121 DPDK:fast-tests / byteorder_autotest                      OK              0.44s
 14/121 DPDK:fast-tests / cfgfile_autotest                        OK              0.44s
 15/121 DPDK:fast-tests / cksum_autotest                          OK              0.44s
 16/121 DPDK:fast-tests / cmdline_autotest                        OK              0.44s
 17/121 DPDK:fast-tests / common_autotest                         OK              1.32s
 18/121 DPDK:fast-tests / compressdev_autotest                    SKIP            0.07s   exit status 77
 19/121 DPDK:fast-tests / cpuflags_autotest                       OK              0.43s
 20/121 DPDK:fast-tests / crc_autotest                            OK              0.44s
 21/121 DPDK:fast-tests / user_delay_us                           OK              0.44s
 22/121 DPDK:fast-tests / debug_autotest                          OK             21.18s
 23/121 DPDK:fast-tests / devargs_autotest                        OK              0.44s
 24/121 DPDK:fast-tests / dispatcher_autotest                     OK              2.53s
 25/121 DPDK:fast-tests / distributor_autotest                    OK              1.21s
 26/121 DPDK:fast-tests / eal_flags_c_opt_autotest                OK              1.07s
 27/121 DPDK:fast-tests / eal_flags_main_opt_autotest             OK              0.27s
 28/121 DPDK:fast-tests / eal_flags_n_opt_autotest                OK              0.24s
 29/121 DPDK:fast-tests / eal_flags_hpet_autotest                 OK              0.16s
 30/121 DPDK:fast-tests / eal_flags_no_huge_autotest              OK              0.24s
 31/121 DPDK:fast-tests / eal_flags_a_opt_autotest                OK              0.39s
 32/121 DPDK:fast-tests / eal_flags_b_opt_autotest                OK              0.32s
 33/121 DPDK:fast-tests / eal_flags_vdev_opt_autotest             OK              0.24s
 34/121 DPDK:fast-tests / eal_flags_r_opt_autotest                OK              0.24s
 35/121 DPDK:fast-tests / eal_flags_mem_autotest                  OK              0.68s
 36/121 DPDK:fast-tests / eal_flags_file_prefix_autotest          OK             22.28s
 37/121 DPDK:fast-tests / eal_flags_misc_autotest                 OK              1.28s
 38/121 DPDK:fast-tests / eal_fs_autotest                         OK              0.44s
 39/121 DPDK:fast-tests / errno_autotest                          OK              0.44s
 40/121 DPDK:fast-tests / ethdev_link_status                      OK              0.44s
 41/121 DPDK:fast-tests / event_eth_tx_adapter_autotest           OK              1.70s
 42/121 DPDK:fast-tests / event_ring_autotest                     OK              0.44s
 43/121 DPDK:fast-tests / eventdev_common_autotest                OK              0.44s
 44/121 DPDK:fast-tests / eventdev_selftest_sw                    OK              7.41s
 45/121 DPDK:fast-tests / fbarray_autotest                        OK              0.44s
 46/121 DPDK:fast-tests / fib_autotest                            OK              1.27s
 47/121 DPDK:fast-tests / fib6_autotest                           OK              1.26s
 48/121 DPDK:fast-tests / func_reentrancy_autotest                OK              2.20s
 49/121 DPDK:fast-tests / graph_autotest                          OK              0.44s
 50/121 DPDK:fast-tests / node_list_dump                          OK              0.44s
 51/121 DPDK:fast-tests / graph_feature_arc_autotest              OK              0.55s
 52/121 DPDK:fast-tests / hash_autotest                           OK              1.06s
 53/121 DPDK:fast-tests / hash_readwrite_func_autotest            OK              0.12s
 54/121 DPDK:fast-tests / interrupt_autotest                      OK              1.74s
 55/121 DPDK:fast-tests / ipfrag_autotest                         OK              0.08s
 56/121 DPDK:fast-tests / ipsec_autotest                          SKIP            0.44s   exit status 77
 57/121 DPDK:fast-tests / kvargs_autotest                         OK              0.44s
 58/121 DPDK:fast-tests / latencystats_autotest                   OK              0.44s
 59/121 DPDK:fast-tests / lcore_var_autotest                      OK              0.58s
 60/121 DPDK:fast-tests / lcores_autotest                         OK              5.25s
 61/121 DPDK:fast-tests / logs_autotest                           OK              0.44s
 62/121 DPDK:fast-tests / lpm_autotest                            OK              2.48s
 63/121 DPDK:fast-tests / lpm6_autotest                           OK              5.59s
 64/121 DPDK:fast-tests / malloc_autotest                         OK             59.72s
 65/121 DPDK:fast-tests / mbuf_autotest                           OK              4.99s
 66/121 DPDK:fast-tests / mcslock_autotest                        OK              4.30s
 67/121 DPDK:fast-tests / member_autotest                         OK              1.63s
 68/121 DPDK:fast-tests / memcpy_autotest                         OK              6.90s
 69/121 DPDK:fast-tests / memory_autotest                         OK              0.09s
 70/121 DPDK:fast-tests / mempool_autotest                        OK              0.44s
 71/121 DPDK:fast-tests / memzone_autotest                        OK              0.15s
 72/121 DPDK:fast-tests / meter_autotest                          OK              0.43s
 73/121 DPDK:fast-tests / metrics_autotest                        OK              0.44s
 74/121 DPDK:fast-tests / multiprocess_autotest                   OK              0.23s
 75/121 DPDK:fast-tests / net_ether_autotest                      OK              1.10s
 76/121 DPDK:fast-tests / net_ipv6_autotest                       OK              0.44s
 77/121 DPDK:fast-tests / pcapng_autotest                         OK              6.90s
 78/121 DPDK:fast-tests / pdcp_autotest                           SKIP            0.07s   exit status 77
 79/121 DPDK:fast-tests / pdump_autotest                          OK              0.54s
 80/121 DPDK:fast-tests / per_lcore_autotest                      OK              0.54s
 81/121 DPDK:fast-tests / pflock_autotest                         OK              1.26s
 82/121 DPDK:fast-tests / pie_autotest                            OK              0.44s
 83/121 DPDK:fast-tests / ring_pmd_autotest                       OK              0.44s
 84/121 DPDK:fast-tests / power_autotest                          OK              0.44s
 85/121 DPDK:fast-tests / power_cpufreq_autotest                  SKIP            0.07s   exit status 77
 86/121 DPDK:fast-tests / power_intel_uncore_autotest             SKIP            0.43s   exit status 77
 87/121 DPDK:fast-tests / power_kvm_vm_autotest                   SKIP            0.07s   exit status 77
 88/121 DPDK:fast-tests / prefetch_autotest                       OK              0.43s
 89/121 DPDK:fast-tests / ptr_compress_autotest                   OK              0.44s
 90/121 DPDK:fast-tests / rawdev_autotest                         OK              0.44s
 91/121 DPDK:fast-tests / rcu_qsbr_autotest                       OK              0.96s
 92/121 DPDK:fast-tests / reorder_autotest                        OK              0.49s
 93/121 DPDK:fast-tests / rib_autotest                            OK              9.10s
 94/121 DPDK:fast-tests / rib6_autotest                           OK              9.08s
 95/121 DPDK:fast-tests / ring_autotest                           OK              0.47s
 96/121 DPDK:fast-tests / rwlock_test1_autotest                   OK              1.22s
 97/121 DPDK:fast-tests / rwlock_rda_autotest                     OK              5.44s
 98/121 DPDK:fast-tests / rwlock_rds_wrm_autotest                 OK              5.44s
 99/121 DPDK:fast-tests / rwlock_rde_wro_autotest                 OK              5.44s
100/121 DPDK:fast-tests / sched_autotest                          OK              0.44s
101/121 DPDK:fast-tests / security_autotest                       OK              0.07s
102/121 DPDK:fast-tests / seqlock_autotest                        OK              2.43s
103/121 DPDK:fast-tests / service_autotest                        OK              3.38s
104/121 DPDK:fast-tests / soring_autotest                         OK              0.66s
105/121 DPDK:fast-tests / spinlock_autotest                       OK              0.74s
106/121 DPDK:fast-tests / stack_autotest                          OK              0.88s
107/121 DPDK:fast-tests / stack_lf_autotest                       SKIP            0.07s   exit status 77
108/121 DPDK:fast-tests / string_autotest                         OK              0.63s
109/121 DPDK:fast-tests / table_autotest                          OK              7.67s
110/121 DPDK:fast-tests / tailq_autotest                          OK              0.62s
111/121 DPDK:fast-tests / telemetry_data_autotest                 OK              0.62s
112/121 DPDK:fast-tests / telemetry_json_autotest                 OK              0.61s
113/121 DPDK:fast-tests / thash_autotest                          OK              0.63s
114/121 DPDK:fast-tests / threads_autotest                        OK              0.79s
115/121 DPDK:fast-tests / ticketlock_autotest                     OK              0.78s
116/121 DPDK:fast-tests / timer_autotest                          OK              3.90s
117/121 DPDK:fast-tests / trace_autotest                          OK              0.63s
118/121 DPDK:fast-tests / trace_autotest_with_traces              OK              0.52s
119/121 DPDK:fast-tests / vdev_autotest                           OK              0.51s
120/121 DPDK:fast-tests / version_autotest                        OK              0.51s
121/121 DPDK:fast-tests / telemetry_all                           OK             19.57s


Ok:                 113
Expected Fail:      0
Fail:               0
Unexpected Pass:    0
Skipped:            8
Timeout:            0


^ permalink raw reply	[flat|nested] 4+ messages in thread

* |SUCCESS| pw158932 [PATCH] mbuf: fix packet copy
       [not found] <20251119120403.907511-1-mb@smartsharesystems.com>
  2025-11-19 11:29 ` |SUCCESS| pw158932 [PATCH] mbuf: fix packet copy qemudev
  2025-11-19 11:34 ` qemudev
@ 2025-11-19 12:04 ` checkpatch
  2025-11-19 13:27 ` |PENDING| " dpdklab
  3 siblings, 0 replies; 4+ messages in thread
From: checkpatch @ 2025-11-19 12:04 UTC (permalink / raw)
  To: test-report

Test-Label: checkpatch
Test-Status: SUCCESS
http://dpdk.org/patch/158932

_coding style OK_



^ permalink raw reply	[flat|nested] 4+ messages in thread

* |PENDING| pw158932 [PATCH] mbuf: fix packet copy
       [not found] <20251119120403.907511-1-mb@smartsharesystems.com>
                   ` (2 preceding siblings ...)
  2025-11-19 12:04 ` checkpatch
@ 2025-11-19 13:27 ` dpdklab
  3 siblings, 0 replies; 4+ messages in thread
From: dpdklab @ 2025-11-19 13:27 UTC (permalink / raw)
  To: Test Report; +Cc: dpdk-test-reports

Test-Label: iol-compile-amd64-testing
Test-Status: PENDING
http://dpdk.org/patch/158932

_Testing pending_

Submitter: Morten Brorup <mb@smartsharesystems.com>
Date: Wednesday, November 19 2025 12:04:03 
DPDK git baseline: Repo:dpdk
  Branch: master
  CommitID:ef98b88455bf4a7c8b7aa3106a761c9e9270d6a3

158932 --> testing pending

Upstream job id: Generic-VM-DPDK-Compile-Meson#39888

Test environment and result as below:

+--------------+--------------------+
| Environment  | dpdk_meson_compile |
+==============+====================+
| Ubuntu 20.04 | PASS               |
+--------------+--------------------+
| FreeBSD 14.2 | PEND               |
+--------------+--------------------+


Ubuntu 20.04
	Kernel: 4.19
	Compiler: gcc gcc (Ubuntu 9.4.0-1ubuntu1~20.04.2) 9.4.0

FreeBSD 14.2
	Kernel: 14.2-RELEASE
	Compiler: clang 18.1.6

To view detailed results, visit:
https://lab.dpdk.org/results/dashboard/patchsets/34642/

UNH-IOL DPDK Community Lab

To manage your email subscriptions, visit: 
https://lab.dpdk.org/results/dashboard/preferences/subscriptions/

^ permalink raw reply	[flat|nested] 4+ messages in thread

end of thread, other threads:[~2025-11-19 13:27 UTC | newest]

Thread overview: 4+ messages (download: mbox.gz / follow: Atom feed)
-- links below jump to the message on this page --
     [not found] <20251119120403.907511-1-mb@smartsharesystems.com>
2025-11-19 11:29 ` |SUCCESS| pw158932 [PATCH] mbuf: fix packet copy qemudev
2025-11-19 11:34 ` qemudev
2025-11-19 12:04 ` checkpatch
2025-11-19 13:27 ` |PENDING| " dpdklab

This is a public inbox, see mirroring instructions
for how to clone and mirror all data and code used for this inbox;
as well as URLs for NNTP newsgroup(s).