automatic DPDK test reports
 help / color / mirror / Atom feed
* |SUCCESS| pw158935 [PATCH] eal/x86: reduce memcpy code duplication
       [not found] <20251120114554.950287-1-mb@smartsharesystems.com>
@ 2025-11-20 11:11 ` qemudev
  2025-11-20 11:16 ` qemudev
                   ` (13 subsequent siblings)
  14 siblings, 0 replies; 15+ messages in thread
From: qemudev @ 2025-11-20 11:11 UTC (permalink / raw)
  To: test-report

Test-Label: loongarch-compilation
Test-Status: SUCCESS
http://dpdk.org/patch/158935

_Compilation OK_

Submitter: Morten Brørup <mb@smartsharesystems.com>
Date: Thu, 20 Nov 2025 11:45:54 +0000
DPDK git baseline: Repo:dpdk
  Branch: main
  CommitID: ef98b88455bf4a7c8b7aa3106a761c9e9270d6a3

158935 --> meson & ninja build successfully

Test environment and result as below:

+---------------------+----------------+
|     Environment     | compilation    |
+---------------------+----------------+
| Loongnix-Server 8.3 | PASS           |
+---------------------+----------------+

Loongnix-Server 8.3
    Kernel: 4.19.190+
    Compiler: gcc 8.3


^ permalink raw reply	[flat|nested] 15+ messages in thread

* |SUCCESS| pw158935 [PATCH] eal/x86: reduce memcpy code duplication
       [not found] <20251120114554.950287-1-mb@smartsharesystems.com>
  2025-11-20 11:11 ` |SUCCESS| pw158935 [PATCH] eal/x86: reduce memcpy code duplication qemudev
@ 2025-11-20 11:16 ` qemudev
  2025-11-20 11:45 ` checkpatch
                   ` (12 subsequent siblings)
  14 siblings, 0 replies; 15+ messages in thread
From: qemudev @ 2025-11-20 11:16 UTC (permalink / raw)
  To: test-report

Test-Label: loongarch-unit-testing
Test-Status: SUCCESS
http://dpdk.org/patch/158935

_Unit Testing PASS_

Submitter: Morten Brørup <mb@smartsharesystems.com>
Date: Thu, 20 Nov 2025 11:45:54 +0000
DPDK git baseline: Repo:dpdk
  Branch: main
  CommitID: ef98b88455bf4a7c8b7aa3106a761c9e9270d6a3

158935 --> testing pass

Test environment and result as below:

+---------------------+----------------+
|     Environment     | dpdk_unit_test |
+---------------------+----------------+
| Loongnix-Server 8.3 | PASS           |
+---------------------+----------------+

Loongnix-Server 8.3
    Kernel: 4.19.190+
    Compiler: gcc 8.3


Test result details:
  1/121 DPDK:fast-tests / acl_autotest                            OK              3.02s
  2/121 DPDK:fast-tests / alarm_autotest                          OK              1.33s
  3/121 DPDK:fast-tests / argparse_autotest                       OK              0.33s
  4/121 DPDK:fast-tests / atomic_autotest                         OK              6.95s
  5/121 DPDK:fast-tests / bitcount_autotest                       OK              0.31s
  6/121 DPDK:fast-tests / bitmap_autotest                         OK              0.31s
  7/121 DPDK:fast-tests / bitops_autotest                         OK              1.82s
  8/121 DPDK:fast-tests / bitratestats_autotest                   OK              0.32s
  9/121 DPDK:fast-tests / bitset_autotest                         OK              3.06s
 10/121 DPDK:fast-tests / bpf_autotest                            OK              0.31s
 11/121 DPDK:fast-tests / bpf_elf_autotest                        SKIP            0.32s   exit status 77
 12/121 DPDK:fast-tests / bpf_convert_autotest                    OK              0.32s
 13/121 DPDK:fast-tests / byteorder_autotest                      OK              0.31s
 14/121 DPDK:fast-tests / cfgfile_autotest                        OK              0.31s
 15/121 DPDK:fast-tests / cksum_autotest                          OK              0.31s
 16/121 DPDK:fast-tests / cmdline_autotest                        OK              0.31s
 17/121 DPDK:fast-tests / common_autotest                         OK              1.20s
 18/121 DPDK:fast-tests / compressdev_autotest                    SKIP            0.07s   exit status 77
 19/121 DPDK:fast-tests / cpuflags_autotest                       OK              0.31s
 20/121 DPDK:fast-tests / crc_autotest                            OK              0.31s
 21/121 DPDK:fast-tests / user_delay_us                           OK              0.31s
 22/121 DPDK:fast-tests / debug_autotest                          OK             25.14s
 23/121 DPDK:fast-tests / devargs_autotest                        OK              0.31s
 24/121 DPDK:fast-tests / dispatcher_autotest                     OK              2.56s
 25/121 DPDK:fast-tests / distributor_autotest                    OK              1.21s
 26/121 DPDK:fast-tests / eal_flags_c_opt_autotest                OK              1.08s
 27/121 DPDK:fast-tests / eal_flags_main_opt_autotest             OK              0.28s
 28/121 DPDK:fast-tests / eal_flags_n_opt_autotest                OK              0.24s
 29/121 DPDK:fast-tests / eal_flags_hpet_autotest                 OK              0.16s
 30/121 DPDK:fast-tests / eal_flags_no_huge_autotest              OK              0.25s
 31/121 DPDK:fast-tests / eal_flags_a_opt_autotest                OK              0.40s
 32/121 DPDK:fast-tests / eal_flags_b_opt_autotest                OK              0.32s
 33/121 DPDK:fast-tests / eal_flags_vdev_opt_autotest             OK              0.24s
 34/121 DPDK:fast-tests / eal_flags_r_opt_autotest                OK              0.24s
 35/121 DPDK:fast-tests / eal_flags_mem_autotest                  OK              0.69s
 36/121 DPDK:fast-tests / eal_flags_file_prefix_autotest          OK             22.33s
 37/121 DPDK:fast-tests / eal_flags_misc_autotest                 OK              1.31s
 38/121 DPDK:fast-tests / eal_fs_autotest                         OK              0.31s
 39/121 DPDK:fast-tests / errno_autotest                          OK              0.31s
 40/121 DPDK:fast-tests / ethdev_link_status                      OK              0.31s
 41/121 DPDK:fast-tests / event_eth_tx_adapter_autotest           OK              1.70s
 42/121 DPDK:fast-tests / event_ring_autotest                     OK              0.32s
 43/121 DPDK:fast-tests / eventdev_common_autotest                OK              0.31s
 44/121 DPDK:fast-tests / eventdev_selftest_sw                    OK              7.23s
 45/121 DPDK:fast-tests / fbarray_autotest                        OK              0.32s
 46/121 DPDK:fast-tests / fib_autotest                            OK              1.15s
 47/121 DPDK:fast-tests / fib6_autotest                           OK              1.14s
 48/121 DPDK:fast-tests / func_reentrancy_autotest                OK              2.10s
 49/121 DPDK:fast-tests / graph_autotest                          OK              0.32s
 50/121 DPDK:fast-tests / node_list_dump                          OK              0.31s
 51/121 DPDK:fast-tests / graph_feature_arc_autotest              OK              0.32s
 52/121 DPDK:fast-tests / hash_autotest                           OK              0.94s
 53/121 DPDK:fast-tests / hash_readwrite_func_autotest            OK              0.11s
 54/121 DPDK:fast-tests / interrupt_autotest                      OK              1.62s
 55/121 DPDK:fast-tests / ipfrag_autotest                         OK              0.08s
 56/121 DPDK:fast-tests / ipsec_autotest                          SKIP            0.32s   exit status 77
 57/121 DPDK:fast-tests / kvargs_autotest                         OK              0.32s
 58/121 DPDK:fast-tests / latencystats_autotest                   OK              0.32s
 59/121 DPDK:fast-tests / lcore_var_autotest                      OK              0.46s
 60/121 DPDK:fast-tests / lcores_autotest                         OK              5.12s
 61/121 DPDK:fast-tests / logs_autotest                           OK              0.31s
 62/121 DPDK:fast-tests / lpm_autotest                            OK              2.36s
 63/121 DPDK:fast-tests / lpm6_autotest                           OK              5.47s
 64/121 DPDK:fast-tests / malloc_autotest                         OK             63.89s
 65/121 DPDK:fast-tests / mbuf_autotest                           OK              4.68s
 66/121 DPDK:fast-tests / mcslock_autotest                        OK              4.19s
 67/121 DPDK:fast-tests / member_autotest                         OK              1.51s
 68/121 DPDK:fast-tests / memcpy_autotest                         OK              6.94s
 69/121 DPDK:fast-tests / memory_autotest                         OK              0.09s
 70/121 DPDK:fast-tests / mempool_autotest                        OK              0.44s
 71/121 DPDK:fast-tests / memzone_autotest                        OK              0.15s
 72/121 DPDK:fast-tests / meter_autotest                          OK              0.31s
 73/121 DPDK:fast-tests / metrics_autotest                        OK              0.32s
 74/121 DPDK:fast-tests / multiprocess_autotest                   OK              0.23s
 75/121 DPDK:fast-tests / net_ether_autotest                      OK              0.98s
 76/121 DPDK:fast-tests / net_ipv6_autotest                       OK              0.31s
 77/121 DPDK:fast-tests / pcapng_autotest                         OK              6.89s
 78/121 DPDK:fast-tests / pdcp_autotest                           SKIP            0.07s   exit status 77
 79/121 DPDK:fast-tests / pdump_autotest                          OK              0.43s
 80/121 DPDK:fast-tests / per_lcore_autotest                      OK              0.41s
 81/121 DPDK:fast-tests / pflock_autotest                         OK              1.13s
 82/121 DPDK:fast-tests / pie_autotest                            OK              0.32s
 83/121 DPDK:fast-tests / ring_pmd_autotest                       OK              0.32s
 84/121 DPDK:fast-tests / power_autotest                          OK              0.31s
 85/121 DPDK:fast-tests / power_cpufreq_autotest                  SKIP            0.07s   exit status 77
 86/121 DPDK:fast-tests / power_intel_uncore_autotest             SKIP            0.31s   exit status 77
 87/121 DPDK:fast-tests / power_kvm_vm_autotest                   SKIP            0.07s   exit status 77
 88/121 DPDK:fast-tests / prefetch_autotest                       OK              0.31s
 89/121 DPDK:fast-tests / ptr_compress_autotest                   OK              0.32s
 90/121 DPDK:fast-tests / rawdev_autotest                         OK              0.31s
 91/121 DPDK:fast-tests / rcu_qsbr_autotest                       OK              0.84s
 92/121 DPDK:fast-tests / reorder_autotest                        OK              0.37s
 93/121 DPDK:fast-tests / rib_autotest                            OK              8.96s
 94/121 DPDK:fast-tests / rib6_autotest                           OK              8.96s
 95/121 DPDK:fast-tests / ring_autotest                           OK              0.35s
 96/121 DPDK:fast-tests / rwlock_test1_autotest                   OK              1.08s
 97/121 DPDK:fast-tests / rwlock_rda_autotest                     OK              5.32s
 98/121 DPDK:fast-tests / rwlock_rds_wrm_autotest                 OK              5.32s
 99/121 DPDK:fast-tests / rwlock_rde_wro_autotest                 OK              5.32s
100/121 DPDK:fast-tests / sched_autotest                          OK              0.32s
101/121 DPDK:fast-tests / security_autotest                       OK              0.07s
102/121 DPDK:fast-tests / seqlock_autotest                        OK              2.32s
103/121 DPDK:fast-tests / service_autotest                        OK              3.03s
104/121 DPDK:fast-tests / soring_autotest                         OK              0.32s
105/121 DPDK:fast-tests / spinlock_autotest                       OK              0.39s
106/121 DPDK:fast-tests / stack_autotest                          OK              0.87s
107/121 DPDK:fast-tests / stack_lf_autotest                       SKIP            0.06s   exit status 77
108/121 DPDK:fast-tests / string_autotest                         OK              0.31s
109/121 DPDK:fast-tests / table_autotest                          OK              7.42s
110/121 DPDK:fast-tests / tailq_autotest                          OK              0.31s
111/121 DPDK:fast-tests / telemetry_data_autotest                 OK              0.32s
112/121 DPDK:fast-tests / telemetry_json_autotest                 OK              0.31s
113/121 DPDK:fast-tests / thash_autotest                          OK              0.33s
114/121 DPDK:fast-tests / threads_autotest                        OK              0.50s
115/121 DPDK:fast-tests / ticketlock_autotest                     OK              0.46s
116/121 DPDK:fast-tests / timer_autotest                          OK              3.89s
117/121 DPDK:fast-tests / trace_autotest                          OK              0.31s
118/121 DPDK:fast-tests / trace_autotest_with_traces              OK              0.32s
119/121 DPDK:fast-tests / vdev_autotest                           OK              0.31s
120/121 DPDK:fast-tests / version_autotest                        OK              0.31s
121/121 DPDK:fast-tests / telemetry_all                           OK             19.70s


Ok:                 113
Expected Fail:      0
Fail:               0
Unexpected Pass:    0
Skipped:            8
Timeout:            0


^ permalink raw reply	[flat|nested] 15+ messages in thread

* |SUCCESS| pw158935 [PATCH] eal/x86: reduce memcpy code duplication
       [not found] <20251120114554.950287-1-mb@smartsharesystems.com>
  2025-11-20 11:11 ` |SUCCESS| pw158935 [PATCH] eal/x86: reduce memcpy code duplication qemudev
  2025-11-20 11:16 ` qemudev
@ 2025-11-20 11:45 ` checkpatch
  2025-11-20 16:52 ` dpdklab
                   ` (11 subsequent siblings)
  14 siblings, 0 replies; 15+ messages in thread
From: checkpatch @ 2025-11-20 11:45 UTC (permalink / raw)
  To: test-report

Test-Label: checkpatch
Test-Status: SUCCESS
http://dpdk.org/patch/158935

_coding style OK_



^ permalink raw reply	[flat|nested] 15+ messages in thread

* |SUCCESS| pw158935 [PATCH] eal/x86: reduce memcpy code duplication
       [not found] <20251120114554.950287-1-mb@smartsharesystems.com>
                   ` (2 preceding siblings ...)
  2025-11-20 11:45 ` checkpatch
@ 2025-11-20 16:52 ` dpdklab
  2025-11-20 16:54 ` |PENDING| " dpdklab
                   ` (10 subsequent siblings)
  14 siblings, 0 replies; 15+ messages in thread
From: dpdklab @ 2025-11-20 16:52 UTC (permalink / raw)
  To: Test Report; +Cc: dpdk-test-reports

Test-Label: iol-marvell-Functional
Test-Status: SUCCESS
http://dpdk.org/patch/158935

_Functional Testing PASS_

Submitter: Morten Brorup <mb@smartsharesystems.com>
Date: Thursday, November 20 2025 11:45:54 
DPDK git baseline: Repo:dpdk
  Branch: master
  CommitID:ef98b88455bf4a7c8b7aa3106a761c9e9270d6a3

158935 --> functional testing pass

Upstream job id: Template-DTS-Pipeline#255831

Test environment and result as below:

Ubuntu 20.04.6
Kernel: 5.4.105
Compiler: gcc 9.4
NIC: Marvell CN106XX 50000 Mbps
Target: arm64-native-linuxapp-gcc

Aggregate Results by Test Suite
+----------------+--------+
|   Test Suite   | Result |
+================+========+
| cmdline        |  PASS  |
+----------------+--------+
| rxtx_callbacks |  PASS  |
+----------------+--------+


To view detailed results, visit:
https://lab.dpdk.org/results/dashboard/patchsets/34645/

UNH-IOL DPDK Community Lab

To manage your email subscriptions, visit: 
https://lab.dpdk.org/results/dashboard/preferences/subscriptions/

^ permalink raw reply	[flat|nested] 15+ messages in thread

* |PENDING| pw158935 [PATCH] eal/x86: reduce memcpy code duplication
       [not found] <20251120114554.950287-1-mb@smartsharesystems.com>
                   ` (3 preceding siblings ...)
  2025-11-20 16:52 ` dpdklab
@ 2025-11-20 16:54 ` dpdklab
  2025-11-20 16:55 ` dpdklab
                   ` (9 subsequent siblings)
  14 siblings, 0 replies; 15+ messages in thread
From: dpdklab @ 2025-11-20 16:54 UTC (permalink / raw)
  To: Test Report; +Cc: dpdk-test-reports

Test-Label: iol-compile-arm64-testing
Test-Status: PENDING
http://dpdk.org/patch/158935

_Testing pending_

Submitter: Morten Brorup <mb@smartsharesystems.com>
Date: Thursday, November 20 2025 11:45:54 
DPDK git baseline: Repo:dpdk
  Branch: master
  CommitID:ef98b88455bf4a7c8b7aa3106a761c9e9270d6a3

158935 --> testing pending

Upstream job id: Generic-DPDK-Compile-Meson#446288

Test environment and result as below:

+------------------------------+--------------------+
|         Environment          | dpdk_meson_compile |
+==============================+====================+
| Fedora Linux 42              | PEND               |
+------------------------------+--------------------+
| Debian GNU/Linux 12          | PEND               |
+------------------------------+--------------------+
| Red Hat Enterprise Linux 9.5 | PEND               |
+------------------------------+--------------------+
| Ubuntu 22.04                 | PEND               |
+------------------------------+--------------------+
| CentOS Stream 10             | PEND               |
+------------------------------+--------------------+
| Ubuntu 20.04                 | PEND               |
+------------------------------+--------------------+
| Ubuntu 24.04                 | PEND               |
+------------------------------+--------------------+
| CentOS Stream 9              | PEND               |
+------------------------------+--------------------+


Fedora Linux 42
	Kernel: 5.4
	Compiler: clang gcc (GCC) 15.2.1 20250808 (Red Hat 15.2.1-1)

Debian GNU/Linux 12
	Kernel: 5.4
	Compiler: gcc gcc (Debian 12.2.0-14+deb12u1) 12.2.0

Red Hat Enterprise Linux 9.5
	Kernel: 5.4
	Compiler: gcc gcc (GCC) 11.5.0 20240719 (Red Hat 11.5.0-2)

Ubuntu 22.04
	Kernel: 5.4
	Compiler: gcc gcc (Ubuntu 11.4.0-1ubuntu1~22.04) 11.4.0

CentOS Stream 10
	Kernel: 5.4
	Compiler: gcc gcc (GCC) 14.2.1 20250110 (Red Hat 14.2.1-8)

Ubuntu 20.04
	Kernel: 5.4
	Compiler: gcc gcc (Ubuntu 9.4.0-1ubuntu1~20.04.2) 9.4.0

Ubuntu 24.04
	Kernel: 5.4
	Compiler: gcc gcc (Ubuntu 13.3.0-6ubuntu2~24.04) 13.3.0

CentOS Stream 9
	Kernel: 5.4
	Compiler: gcc gcc (GCC) 11.5.0 20240719 (Red Hat 11.5.0-11)

To view detailed results, visit:
https://lab.dpdk.org/results/dashboard/patchsets/34645/

UNH-IOL DPDK Community Lab

To manage your email subscriptions, visit: 
https://lab.dpdk.org/results/dashboard/preferences/subscriptions/

^ permalink raw reply	[flat|nested] 15+ messages in thread

* |PENDING| pw158935 [PATCH] eal/x86: reduce memcpy code duplication
       [not found] <20251120114554.950287-1-mb@smartsharesystems.com>
                   ` (4 preceding siblings ...)
  2025-11-20 16:54 ` |PENDING| " dpdklab
@ 2025-11-20 16:55 ` dpdklab
  2025-11-20 16:57 ` dpdklab
                   ` (8 subsequent siblings)
  14 siblings, 0 replies; 15+ messages in thread
From: dpdklab @ 2025-11-20 16:55 UTC (permalink / raw)
  To: Test Report; +Cc: dpdk-test-reports

Test-Label: iol-unit-arm64-testing
Test-Status: PENDING
http://dpdk.org/patch/158935

_Testing pending_

Submitter: Morten Brorup <mb@smartsharesystems.com>
Date: Thursday, November 20 2025 11:45:54 
DPDK git baseline: Repo:dpdk
  Branch: master
  CommitID:ef98b88455bf4a7c8b7aa3106a761c9e9270d6a3

158935 --> testing pending

Upstream job id: Generic-Unit-Test-DPDK#394654

Test environment and result as below:

+------------------------------+------------------------------+--------------+---------------------------+----------------+
|         Environment          | cryptodev_sw_snow3g_autotest | lpm_autotest | cryptodev_sw_zuc_autotest | dpdk_unit_test |
+==============================+==============================+==============+===========================+================+
| Debian 12 (arm)              | PEND                         | SKIPPED      | PASS                      | SKIPPED        |
+------------------------------+------------------------------+--------------+---------------------------+----------------+
| Ubuntu 20.04                 | SKIPPED                      | PEND         | SKIPPED                   | PEND           |
+------------------------------+------------------------------+--------------+---------------------------+----------------+
| Fedora Linux 41              | SKIPPED                      | SKIPPED      | SKIPPED                   | PEND           |
+------------------------------+------------------------------+--------------+---------------------------+----------------+
| CentOS Stream 9              | SKIPPED                      | SKIPPED      | SKIPPED                   | PEND           |
+------------------------------+------------------------------+--------------+---------------------------+----------------+
| Fedora Linux 42              | SKIPPED                      | SKIPPED      | SKIPPED                   | PEND           |
+------------------------------+------------------------------+--------------+---------------------------+----------------+
| Red Hat Enterprise Linux 9.5 | SKIPPED                      | SKIPPED      | SKIPPED                   | PEND           |
+------------------------------+------------------------------+--------------+---------------------------+----------------+
| Ubuntu 22.04                 | SKIPPED                      | SKIPPED      | SKIPPED                   | PEND           |
+------------------------------+------------------------------+--------------+---------------------------+----------------+
| CentOS Stream 10             | SKIPPED                      | SKIPPED      | SKIPPED                   | PEND           |
+------------------------------+------------------------------+--------------+---------------------------+----------------+
| Fedora Linux 40              | SKIPPED                      | SKIPPED      | SKIPPED                   | PEND           |
+------------------------------+------------------------------+--------------+---------------------------+----------------+
| Debian GNU/Linux 12          | SKIPPED                      | SKIPPED      | SKIPPED                   | PEND           |
+------------------------------+------------------------------+--------------+---------------------------+----------------+
| Ubuntu 24.04                 | SKIPPED                      | SKIPPED      | SKIPPED                   | PEND           |
+------------------------------+------------------------------+--------------+---------------------------+----------------+


Debian 12 (arm)
	Kernel: Depends on container host
	Compiler: gcc (Debian 12.2.0-14) 12.2.0

Ubuntu 20.04
	Kernel: 5.4
	Compiler: gcc gcc (Ubuntu 9.4.0-1ubuntu1~20.04.2) 9.4.0

Fedora Linux 41
	Kernel: 5.4
	Compiler: gcc gcc (GCC) 14.3.1 20250523 (Red Hat 14.3.1-1)

CentOS Stream 9
	Kernel: 5.4
	Compiler: gcc gcc (GCC) 11.5.0 20240719 (Red Hat 11.5.0-11)

Fedora Linux 42
	Kernel: 5.4
	Compiler: clang gcc (GCC) 15.2.1 20250808 (Red Hat 15.2.1-1)

Red Hat Enterprise Linux 9.5
	Kernel: 5.4
	Compiler: gcc gcc (GCC) 11.5.0 20240719 (Red Hat 11.5.0-2)

Ubuntu 22.04
	Kernel: 5.4
	Compiler: gcc gcc (Ubuntu 11.4.0-1ubuntu1~22.04) 11.4.0

CentOS Stream 10
	Kernel: 5.4
	Compiler: gcc gcc (GCC) 14.2.1 20250110 (Red Hat 14.2.1-8)

Fedora Linux 40
	Kernel: 5.4
	Compiler: gcc gcc (GCC) 14.2.1 20240912 (Red Hat 14.2.1-3)

Debian GNU/Linux 12
	Kernel: 5.4
	Compiler: gcc gcc (Debian 12.2.0-14+deb12u1) 12.2.0

Ubuntu 24.04
	Kernel: 5.4
	Compiler: gcc gcc (Ubuntu 13.3.0-6ubuntu2~24.04) 13.3.0

To view detailed results, visit:
https://lab.dpdk.org/results/dashboard/patchsets/34645/

UNH-IOL DPDK Community Lab

To manage your email subscriptions, visit: 
https://lab.dpdk.org/results/dashboard/preferences/subscriptions/

^ permalink raw reply	[flat|nested] 15+ messages in thread

* |PENDING| pw158935 [PATCH] eal/x86: reduce memcpy code duplication
       [not found] <20251120114554.950287-1-mb@smartsharesystems.com>
                   ` (5 preceding siblings ...)
  2025-11-20 16:55 ` dpdklab
@ 2025-11-20 16:57 ` dpdklab
  2025-11-20 17:02 ` dpdklab
                   ` (7 subsequent siblings)
  14 siblings, 0 replies; 15+ messages in thread
From: dpdklab @ 2025-11-20 16:57 UTC (permalink / raw)
  To: Test Report; +Cc: dpdk-test-reports

Test-Label: iol-compile-amd64-testing
Test-Status: PENDING
http://dpdk.org/patch/158935

_Testing pending_

Submitter: Morten Brorup <mb@smartsharesystems.com>
Date: Thursday, November 20 2025 11:45:54 
DPDK git baseline: Repo:dpdk
  Branch: master
  CommitID:ef98b88455bf4a7c8b7aa3106a761c9e9270d6a3

158935 --> testing pending

Upstream job id: Generic-VM-DPDK-Compile-Meson#39901

Test environment and result as below:

+-------------------------------+--------------------+------------------+
|          Environment          | dpdk_meson_compile | dpdk_compile_ovs |
+===============================+====================+==================+
| FreeBSD 14.2                  | PASS               | SKIPPED          |
+-------------------------------+--------------------+------------------+
| Fedora Linux 42               | PEND               | PEND             |
+-------------------------------+--------------------+------------------+
| Red Hat Enterprise Linux 9.5  | PEND               | SKIPPED          |
+-------------------------------+--------------------+------------------+
| Red Hat Enterprise Linux 8.10 | PEND               | SKIPPED          |
+-------------------------------+--------------------+------------------+
| CentOS Stream 9               | PEND               | SKIPPED          |
+-------------------------------+--------------------+------------------+
| openSUSE Leap 15.6            | PEND               | SKIPPED          |
+-------------------------------+--------------------+------------------+
| CentOS Stream 10              | PEND               | SKIPPED          |
+-------------------------------+--------------------+------------------+
| Ubuntu 24.04                  | PEND               | PEND             |
+-------------------------------+--------------------+------------------+
| Debian GNU/Linux 12           | PEND               | SKIPPED          |
+-------------------------------+--------------------+------------------+
| Ubuntu 22.04                  | PEND               | SKIPPED          |
+-------------------------------+--------------------+------------------+
| Ubuntu 20.04                  | PEND               | SKIPPED          |
+-------------------------------+--------------------+------------------+
| Alpine Linux 3.22.0           | PEND               | SKIPPED          |
+-------------------------------+--------------------+------------------+


FreeBSD 14.2
	Kernel: 14.2-RELEASE
	Compiler: clang 18.1.6

Fedora Linux 42
	Kernel: 5.15
	Compiler: clang gcc (GCC) 15.2.1 20250808 (Red Hat 15.2.1-1)

Red Hat Enterprise Linux 9.5
	Kernel: 5.15
	Compiler: gcc gcc (GCC) 11.5.0 20240719 (Red Hat 11.5.0-2)

Red Hat Enterprise Linux 8.10
	Kernel: 5.15
	Compiler: gcc gcc (GCC) 8.5.0 20210514 (Red Hat 8.5.0-22)

CentOS Stream 9
	Kernel: 5.15
	Compiler: gcc gcc (GCC) 11.5.0 20240719 (Red Hat 11.5.0-11)

openSUSE Leap 15.6
	Kernel: 5.15
	Compiler: gcc gcc (SUSE Linux) 7.5.0

CentOS Stream 10
	Kernel: 5.15
	Compiler: gcc gcc (GCC) 14.2.1 20250110 (Red Hat 14.2.1-8)

Ubuntu 24.04
	Kernel: 5.15
	Compiler: gcc gcc (Ubuntu 13.3.0-6ubuntu2~24.04) 13.3.0

Debian GNU/Linux 12
	Kernel: 5.15
	Compiler: gcc gcc (Debian 12.2.0-14+deb12u1) 12.2.0

Ubuntu 22.04
	Kernel: 5.15
	Compiler: gcc gcc (Ubuntu 11.4.0-1ubuntu1~22.04) 11.4.0

Ubuntu 20.04
	Kernel: 4.19
	Compiler: gcc gcc (Ubuntu 9.4.0-1ubuntu1~20.04.2) 9.4.0

Alpine Linux 3.22.0
	Kernel: 5.15
	Compiler: gcc gcc (Alpine 14.2.0) 14.2.0

To view detailed results, visit:
https://lab.dpdk.org/results/dashboard/patchsets/34645/

UNH-IOL DPDK Community Lab

To manage your email subscriptions, visit: 
https://lab.dpdk.org/results/dashboard/preferences/subscriptions/

^ permalink raw reply	[flat|nested] 15+ messages in thread

* |PENDING| pw158935 [PATCH] eal/x86: reduce memcpy code duplication
       [not found] <20251120114554.950287-1-mb@smartsharesystems.com>
                   ` (6 preceding siblings ...)
  2025-11-20 16:57 ` dpdklab
@ 2025-11-20 17:02 ` dpdklab
  2025-11-20 17:04 ` |SUCCESS| " dpdklab
                   ` (6 subsequent siblings)
  14 siblings, 0 replies; 15+ messages in thread
From: dpdklab @ 2025-11-20 17:02 UTC (permalink / raw)
  To: Test Report; +Cc: dpdk-test-reports

Test-Label: iol-sample-apps-testing
Test-Status: PENDING
http://dpdk.org/patch/158935

_Testing pending_

Submitter: Morten Brorup <mb@smartsharesystems.com>
Date: Thursday, November 20 2025 11:45:54 
DPDK git baseline: Repo:dpdk
  Branch: master
  CommitID:ef98b88455bf4a7c8b7aa3106a761c9e9270d6a3

158935 --> testing pending

Upstream job id: Template-DTS-Pipeline#255833

Test environment and result as below:

+--------------+----------------------+----------------------+
| Environment  | dpdk_fips_validation | compressdev_zlib_pmd |
+==============+======================+======================+
| Ubuntu 20.04 | PEND                 | SKIPPED              |
+--------------+----------------------+----------------------+
| Ubuntu 22.04 | SKIPPED              | PASS                 |
+--------------+----------------------+----------------------+


Ubuntu 20.04
	Kernel: 5.15
	Compiler: gcc gcc (Ubuntu 9.4.0-1ubuntu1~20.04.2) 9.4.0

Ubuntu 22.04
	Kernel: 5.15
	Compiler: gcc gcc (Ubuntu 11.4.0-1ubuntu1~22.04.2) 11.4.0

To view detailed results, visit:
https://lab.dpdk.org/results/dashboard/patchsets/34645/

UNH-IOL DPDK Community Lab

To manage your email subscriptions, visit: 
https://lab.dpdk.org/results/dashboard/preferences/subscriptions/

^ permalink raw reply	[flat|nested] 15+ messages in thread

* |SUCCESS| pw158935 [PATCH] eal/x86: reduce memcpy code duplication
       [not found] <20251120114554.950287-1-mb@smartsharesystems.com>
                   ` (7 preceding siblings ...)
  2025-11-20 17:02 ` dpdklab
@ 2025-11-20 17:04 ` dpdklab
  2025-11-20 17:13 ` |PENDING| " dpdklab
                   ` (5 subsequent siblings)
  14 siblings, 0 replies; 15+ messages in thread
From: dpdklab @ 2025-11-20 17:04 UTC (permalink / raw)
  To: Test Report; +Cc: dpdk-test-reports

Test-Label: iol-intel-Functional
Test-Status: SUCCESS
http://dpdk.org/patch/158935

_Functional Testing PASS_

Submitter: Morten Brorup <mb@smartsharesystems.com>
Date: Thursday, November 20 2025 11:45:54 
DPDK git baseline: Repo:dpdk
  Branch: master
  CommitID:ef98b88455bf4a7c8b7aa3106a761c9e9270d6a3

158935 --> functional testing pass

Upstream job id: Template-DTS-Pipeline#255834

Test environment and result as below:

Ubuntu 24.04
Kernel: 6.8
Compiler: gcc gcc (Ubuntu 13.3.0-6ubuntu2~24.04) 13.3.0
NIC: Intel Corporation 4xxx Series QAT 0 Mbps

Aggregate Results by Test Suite
+----------------------------+--------+
|         Test Suite         | Result |
+============================+========+
| crypto_perf_cryptodev_perf |  PASS  |
+----------------------------+--------+


To view detailed results, visit:
https://lab.dpdk.org/results/dashboard/patchsets/34645/

UNH-IOL DPDK Community Lab

To manage your email subscriptions, visit: 
https://lab.dpdk.org/results/dashboard/preferences/subscriptions/

^ permalink raw reply	[flat|nested] 15+ messages in thread

* |PENDING| pw158935 [PATCH] eal/x86: reduce memcpy code duplication
       [not found] <20251120114554.950287-1-mb@smartsharesystems.com>
                   ` (8 preceding siblings ...)
  2025-11-20 17:04 ` |SUCCESS| " dpdklab
@ 2025-11-20 17:13 ` dpdklab
  2025-11-20 17:14 ` |SUCCESS| " dpdklab
                   ` (4 subsequent siblings)
  14 siblings, 0 replies; 15+ messages in thread
From: dpdklab @ 2025-11-20 17:13 UTC (permalink / raw)
  To: Test Report; +Cc: dpdk-test-reports

Test-Label: iol-unit-amd64-testing
Test-Status: PENDING
http://dpdk.org/patch/158935

_Testing pending_

Submitter: Morten Brorup <mb@smartsharesystems.com>
Date: Thursday, November 20 2025 11:45:54 
DPDK git baseline: Repo:dpdk
  Branch: master
  CommitID:ef98b88455bf4a7c8b7aa3106a761c9e9270d6a3

158935 --> testing pending

Upstream job id: Generic-Unit-Test-DPDK#394675

Test environment and result as below:

+-------------------------------+----------------+
|          Environment          | dpdk_unit_test |
+===============================+================+
| Red Hat Enterprise Linux 9.5  | PASS           |
+-------------------------------+----------------+
| Ubuntu 22.04                  | PEND           |
+-------------------------------+----------------+
| Fedora Linux 42               | PEND           |
+-------------------------------+----------------+
| CentOS Stream 9               | PEND           |
+-------------------------------+----------------+
| Ubuntu 24.04                  | PEND           |
+-------------------------------+----------------+
| Debian GNU/Linux 12           | PEND           |
+-------------------------------+----------------+
| CentOS Stream 10              | PEND           |
+-------------------------------+----------------+
| Fedora Linux 40               | PEND           |
+-------------------------------+----------------+
| Ubuntu 20.04                  | PEND           |
+-------------------------------+----------------+
| Fedora Linux 41               | PEND           |
+-------------------------------+----------------+
| Red Hat Enterprise Linux 8.10 | PEND           |
+-------------------------------+----------------+


Red Hat Enterprise Linux 9.5
	Kernel: 5.15
	Compiler: gcc gcc (GCC) 11.5.0 20240719 (Red Hat 11.5.0-2)

Ubuntu 22.04
	Kernel: 5.15
	Compiler: gcc gcc (Ubuntu 11.4.0-1ubuntu1~22.04) 11.4.0

Fedora Linux 42
	Kernel: 5.15
	Compiler: gcc gcc (GCC) 15.2.1 20250808 (Red Hat 15.2.1-1)

CentOS Stream 9
	Kernel: 5.15
	Compiler: gcc gcc (GCC) 11.5.0 20240719 (Red Hat 11.5.0-11)

Ubuntu 24.04
	Kernel: 5.15
	Compiler: gcc gcc (Ubuntu 13.3.0-6ubuntu2~24.04) 13.3.0

Debian GNU/Linux 12
	Kernel: 5.15
	Compiler: gcc gcc (Debian 12.2.0-14+deb12u1) 12.2.0

CentOS Stream 10
	Kernel: 5.15
	Compiler: gcc gcc (GCC) 14.2.1 20250110 (Red Hat 14.2.1-8)

Fedora Linux 40
	Kernel: 5.15
	Compiler: clang gcc (GCC) 14.2.1 20240912 (Red Hat 14.2.1-3)

Ubuntu 20.04
	Kernel: 5.15
	Compiler: gcc gcc (Ubuntu 9.4.0-1ubuntu1~20.04.2) 9.4.0

Fedora Linux 41
	Kernel: 5.15
	Compiler: clang gcc (GCC) 14.3.1 20250523 (Red Hat 14.3.1-1)

Red Hat Enterprise Linux 8.10
	Kernel: 5.15
	Compiler: gcc gcc (GCC) 8.5.0 20210514 (Red Hat 8.5.0-22)

To view detailed results, visit:
https://lab.dpdk.org/results/dashboard/patchsets/34645/

UNH-IOL DPDK Community Lab

To manage your email subscriptions, visit: 
https://lab.dpdk.org/results/dashboard/preferences/subscriptions/

^ permalink raw reply	[flat|nested] 15+ messages in thread

* |SUCCESS| pw158935 [PATCH] eal/x86: reduce memcpy code duplication
       [not found] <20251120114554.950287-1-mb@smartsharesystems.com>
                   ` (9 preceding siblings ...)
  2025-11-20 17:13 ` |PENDING| " dpdklab
@ 2025-11-20 17:14 ` dpdklab
  2025-11-20 17:15 ` dpdklab
                   ` (3 subsequent siblings)
  14 siblings, 0 replies; 15+ messages in thread
From: dpdklab @ 2025-11-20 17:14 UTC (permalink / raw)
  To: Test Report, Ali Alnubani; +Cc: dpdk-test-reports

Test-Label: iol-mellanox-Performance
Test-Status: SUCCESS
http://dpdk.org/patch/158935

_Performance Testing PASS_

Submitter: Morten Brorup <mb@smartsharesystems.com>
Date: Thursday, November 20 2025 11:45:54 
DPDK git baseline: Repo:dpdk
  Branch: master
  CommitID:ef98b88455bf4a7c8b7aa3106a761c9e9270d6a3

158935 --> performance testing pass

Upstream job id: Template-DTS-Pipeline#255821

Test environment and result as below:

Ubuntu 24.04
Kernel: 6.8
Compiler: gcc gcc (Ubuntu 13.3.0-6ubuntu2~24.04) 13.3.0
NIC: Mellanox ConnectX-6 Lx 25000 Mbps
Fail/Total: 0/6

Detail performance results: 
+------------+---------+----------+-------------+------------------------------+
| frame_size | txd/rxd | num_cpus | num_threads |  throughput difference from  |
|            |         |          |             |           expected           |
+============+=========+==========+=============+==============================+
| 64         | 1024    | 1        | 1           | -0.1%                        |
+------------+---------+----------+-------------+------------------------------+
| 128        | 1024    | 1        | 1           | -0.1%                        |
+------------+---------+----------+-------------+------------------------------+
| 256        | 1024    | 1        | 1           | 0.1%                         |
+------------+---------+----------+-------------+------------------------------+
| 512        | 1024    | 1        | 1           | 0.2%                         |
+------------+---------+----------+-------------+------------------------------+
| 1024       | 1024    | 1        | 1           | 0.2%                         |
+------------+---------+----------+-------------+------------------------------+
| 1518       | 1024    | 1        | 1           | 0.2%                         |
+------------+---------+----------+-------------+------------------------------+

Ubuntu 24.04
Kernel: 6.8
Compiler: gcc gcc (Ubuntu 13.3.0-6ubuntu2~24.04) 13.3.0
NIC: NVIDIA Mellanox ConnectX-7 100000 Mbps
Fail/Total: 0/6

Detail performance results: 
+------------+---------+----------+-------------+------------------------------+
| frame_size | txd/rxd | num_cpus | num_threads |  throughput difference from  |
|            |         |          |             |           expected           |
+============+=========+==========+=============+==============================+
| 64         | 1024    | 1        | 1           | 0.3%                         |
+------------+---------+----------+-------------+------------------------------+
| 128        | 1024    | 1        | 1           | -0.3%                        |
+------------+---------+----------+-------------+------------------------------+
| 256        | 1024    | 1        | 1           | 0.7%                         |
+------------+---------+----------+-------------+------------------------------+
| 512        | 1024    | 1        | 1           | 0.1%                         |
+------------+---------+----------+-------------+------------------------------+
| 1024       | 1024    | 1        | 1           | 0.0%                         |
+------------+---------+----------+-------------+------------------------------+
| 1518       | 1024    | 1        | 1           | -0.4%                        |
+------------+---------+----------+-------------+------------------------------+

To view detailed results, visit:
https://lab.dpdk.org/results/dashboard/patchsets/34645/

UNH-IOL DPDK Community Lab

To manage your email subscriptions, visit: 
https://lab.dpdk.org/results/dashboard/preferences/subscriptions/

^ permalink raw reply	[flat|nested] 15+ messages in thread

* |SUCCESS| pw158935 [PATCH] eal/x86: reduce memcpy code duplication
       [not found] <20251120114554.950287-1-mb@smartsharesystems.com>
                   ` (10 preceding siblings ...)
  2025-11-20 17:14 ` |SUCCESS| " dpdklab
@ 2025-11-20 17:15 ` dpdklab
  2025-11-20 17:15 ` dpdklab
                   ` (2 subsequent siblings)
  14 siblings, 0 replies; 15+ messages in thread
From: dpdklab @ 2025-11-20 17:15 UTC (permalink / raw)
  To: Test Report; +Cc: dpdk-test-reports

Test-Label: iol-intel-Functional
Test-Status: SUCCESS
http://dpdk.org/patch/158935

_Functional Testing PASS_

Submitter: Morten Brorup <mb@smartsharesystems.com>
Date: Thursday, November 20 2025 11:45:54 
DPDK git baseline: Repo:dpdk
  Branch: master
  CommitID:ef98b88455bf4a7c8b7aa3106a761c9e9270d6a3

158935 --> functional testing pass

Upstream job id: Template-DTS-Pipeline#255828

Test environment and result as below:

Ubuntu 24.04
Kernel: 6.8
Compiler: gcc gcc (Ubuntu 13.3.0-6ubuntu2~24.04) 13.3.0
NIC: Intel Corporation 4xxx Series QAT 0 Mbps

Aggregate Results by Test Suite
+----------------------------+--------+
|         Test Suite         | Result |
+============================+========+
| crypto_perf_cryptodev_perf |  PASS  |
+----------------------------+--------+


Ubuntu 20.04
Kernel: 5.4
Compiler: gcc gcc (Ubuntu 9.4.0-1ubuntu1~20.04.1) 9.4.0
NIC: Intel Corporation Ethernet Converged Network Adapter XL710-QDA2 40000 Mbps

Aggregate Results by Test Suite
+-----------------------------+--------+
|         Test Suite          | Result |
+=============================+========+
| unit_tests_mbuf             |  PASS  |
+-----------------------------+--------+
| vhost_virtio_user_interrupt |  PASS  |
+-----------------------------+--------+
| virtio_smoke                |  PASS  |
+-----------------------------+--------+


To view detailed results, visit:
https://lab.dpdk.org/results/dashboard/patchsets/34645/

UNH-IOL DPDK Community Lab

To manage your email subscriptions, visit: 
https://lab.dpdk.org/results/dashboard/preferences/subscriptions/

^ permalink raw reply	[flat|nested] 15+ messages in thread

* |SUCCESS| pw158935 [PATCH] eal/x86: reduce memcpy code duplication
       [not found] <20251120114554.950287-1-mb@smartsharesystems.com>
                   ` (11 preceding siblings ...)
  2025-11-20 17:15 ` dpdklab
@ 2025-11-20 17:15 ` dpdklab
  2025-11-20 17:26 ` dpdklab
  2025-11-20 17:36 ` dpdklab
  14 siblings, 0 replies; 15+ messages in thread
From: dpdklab @ 2025-11-20 17:15 UTC (permalink / raw)
  To: Test Report; +Cc: dpdk-test-reports

Test-Label: iol-intel-Performance
Test-Status: SUCCESS
http://dpdk.org/patch/158935

_Performance Testing PASS_

Submitter: Morten Brorup <mb@smartsharesystems.com>
Date: Thursday, November 20 2025 11:45:54 
DPDK git baseline: Repo:dpdk
  Branch: master
  CommitID:ef98b88455bf4a7c8b7aa3106a761c9e9270d6a3

158935 --> performance testing pass

Upstream job id: Template-DTS-Pipeline#255824

Test environment and result as below:

Ubuntu 20.04
Kernel: 5.4
Compiler: gcc gcc (Ubuntu 9.4.0-1ubuntu1~20.04.1) 9.4.0
NIC: Intel Corporation Ethernet Converged Network Adapter XL710-QDA2 40000 Mbps
Fail/Total: 0/4

Detail performance results: 
+----------+-------------+---------+------------+------------------------------+
| num_cpus | num_threads | txd/rxd | frame_size |  throughput difference from  |
|          |             |         |            |           expected           |
+==========+=============+=========+============+==============================+
| 1        | 2           | 512     | 64         | -1.0%                        |
+----------+-------------+---------+------------+------------------------------+
| 1        | 2           | 2048    | 64         | -4.2%                        |
+----------+-------------+---------+------------+------------------------------+
| 1        | 1           | 512     | 64         | -1.6%                        |
+----------+-------------+---------+------------+------------------------------+
| 1        | 1           | 2048    | 64         | -5.0%                        |
+----------+-------------+---------+------------+------------------------------+

Ubuntu 24.04
Kernel: 6.8
Compiler: gcc gcc (Ubuntu 13.3.0-6ubuntu2~24.04) 13.3.0
NIC: Intel E810 (Arm Grace Server) 100000 Mbps
Fail/Total: 0/2

Detail performance results: 
+------------+---------+----------+-------------+------------------------------+
| frame_size | txd/rxd | num_cpus | num_threads |  throughput difference from  |
|            |         |          |             |           expected           |
+============+=========+==========+=============+==============================+
| 64         | 512     | 1        | 1           | -0.3%                        |
+------------+---------+----------+-------------+------------------------------+
| 64         | 2048    | 1        | 1           | -0.2%                        |
+------------+---------+----------+-------------+------------------------------+

Ubuntu 22.04
Kernel: 5.15
Compiler: gcc gcc (Ubuntu 11.4.0-1ubuntu1~22.04.2) 11.4.0
NIC: Intel E810 100000 Mbps
Fail/Total: 0/2

Detail performance results: 
+------------+---------+----------+-------------+------------------------------+
| frame_size | txd/rxd | num_cpus | num_threads |  throughput difference from  |
|            |         |          |             |           expected           |
+============+=========+==========+=============+==============================+
| 64         | 512     | 1        | 1           | -0.3%                        |
+------------+---------+----------+-------------+------------------------------+
| 64         | 2048    | 1        | 1           | 1.1%                         |
+------------+---------+----------+-------------+------------------------------+

To view detailed results, visit:
https://lab.dpdk.org/results/dashboard/patchsets/34645/

UNH-IOL DPDK Community Lab

To manage your email subscriptions, visit: 
https://lab.dpdk.org/results/dashboard/preferences/subscriptions/

^ permalink raw reply	[flat|nested] 15+ messages in thread

* |SUCCESS| pw158935 [PATCH] eal/x86: reduce memcpy code duplication
       [not found] <20251120114554.950287-1-mb@smartsharesystems.com>
                   ` (12 preceding siblings ...)
  2025-11-20 17:15 ` dpdklab
@ 2025-11-20 17:26 ` dpdklab
  2025-11-20 17:36 ` dpdklab
  14 siblings, 0 replies; 15+ messages in thread
From: dpdklab @ 2025-11-20 17:26 UTC (permalink / raw)
  To: Test Report; +Cc: dpdk-test-reports

Test-Label: iol-sample-apps-testing
Test-Status: SUCCESS
http://dpdk.org/patch/158935

_Testing PASS_

Submitter: Morten Brorup <mb@smartsharesystems.com>
Date: Thursday, November 20 2025 11:45:54 
DPDK git baseline: Repo:dpdk
  Branch: master
  CommitID:ef98b88455bf4a7c8b7aa3106a761c9e9270d6a3

158935 --> testing pass

Upstream job id: ACVP-FIPS-testing#11885

Test environment and result as below:

+--------------+----------------------+----------------------+
| Environment  | dpdk_fips_validation | compressdev_zlib_pmd |
+==============+======================+======================+
| Ubuntu 20.04 | PASS                 | SKIPPED              |
+--------------+----------------------+----------------------+
| Ubuntu 22.04 | SKIPPED              | PASS                 |
+--------------+----------------------+----------------------+


Ubuntu 20.04
	Kernel: 5.15
	Compiler: gcc gcc (Ubuntu 9.4.0-1ubuntu1~20.04.2) 9.4.0

Ubuntu 22.04
	Kernel: 5.15
	Compiler: gcc gcc (Ubuntu 11.4.0-1ubuntu1~22.04.2) 11.4.0

To view detailed results, visit:
https://lab.dpdk.org/results/dashboard/patchsets/34645/

UNH-IOL DPDK Community Lab

To manage your email subscriptions, visit: 
https://lab.dpdk.org/results/dashboard/preferences/subscriptions/

^ permalink raw reply	[flat|nested] 15+ messages in thread

* |SUCCESS| pw158935 [PATCH] eal/x86: reduce memcpy code duplication
       [not found] <20251120114554.950287-1-mb@smartsharesystems.com>
                   ` (13 preceding siblings ...)
  2025-11-20 17:26 ` dpdklab
@ 2025-11-20 17:36 ` dpdklab
  14 siblings, 0 replies; 15+ messages in thread
From: dpdklab @ 2025-11-20 17:36 UTC (permalink / raw)
  To: Test Report; +Cc: dpdk-test-reports

Test-Label: iol-broadcom-Performance
Test-Status: SUCCESS
http://dpdk.org/patch/158935

_Performance Testing PASS_

Submitter: Morten Brorup <mb@smartsharesystems.com>
Date: Thursday, November 20 2025 11:45:54 
DPDK git baseline: Repo:dpdk
  Branch: master
  CommitID:ef98b88455bf4a7c8b7aa3106a761c9e9270d6a3

158935 --> performance testing pass

Upstream job id: Template-DTS-Pipeline#255825

Test environment and result as below:

Ubuntu 22.04
Kernel: 5.15
Compiler: gcc gcc (Ubuntu 11.4.0-1ubuntu1~22.04) 11.4.0
NIC: Broadcom Inc. and subsidiaries BCM57414 NetXtreme-E 10Gb/25Gb RDMA Ethernet Controller 16d7 25 Mbps
Fail/Total: 0/3

Detail performance results: 
+------------+---------+----------+-------------+------------------------------+
| frame_size | txd/rxd | num_cpus | num_threads |  throughput difference from  |
|            |         |          |             |           expected           |
+============+=========+==========+=============+==============================+
| 64         | 128     | 1        | 1           | 0.1%                         |
+------------+---------+----------+-------------+------------------------------+
| 64         | 512     | 1        | 1           | 0.2%                         |
+------------+---------+----------+-------------+------------------------------+
| 64         | 2048    | 1        | 1           | 1.3%                         |
+------------+---------+----------+-------------+------------------------------+

Ubuntu 22.04
Kernel: 5.15
Compiler: gcc gcc (Ubuntu 11.4.0-1ubuntu1~22.04.2) 11.4.0
NIC: Arm Broadcom Inc. brcm_57414 25000 Mbps
Fail/Total: 0/2

Detail performance results: 
+------------+---------+----------+-------------+------------------------------+
| frame_size | txd/rxd | num_cpus | num_threads |  throughput difference from  |
|            |         |          |             |           expected           |
+============+=========+==========+=============+==============================+
| 64         | 512     | 1        | 1           | -0.2%                        |
+------------+---------+----------+-------------+------------------------------+
| 64         | 2048    | 1        | 1           | -0.1%                        |
+------------+---------+----------+-------------+------------------------------+

To view detailed results, visit:
https://lab.dpdk.org/results/dashboard/patchsets/34645/

UNH-IOL DPDK Community Lab

To manage your email subscriptions, visit: 
https://lab.dpdk.org/results/dashboard/preferences/subscriptions/

^ permalink raw reply	[flat|nested] 15+ messages in thread

end of thread, other threads:[~2025-11-20 17:36 UTC | newest]

Thread overview: 15+ messages (download: mbox.gz / follow: Atom feed)
-- links below jump to the message on this page --
     [not found] <20251120114554.950287-1-mb@smartsharesystems.com>
2025-11-20 11:11 ` |SUCCESS| pw158935 [PATCH] eal/x86: reduce memcpy code duplication qemudev
2025-11-20 11:16 ` qemudev
2025-11-20 11:45 ` checkpatch
2025-11-20 16:52 ` dpdklab
2025-11-20 16:54 ` |PENDING| " dpdklab
2025-11-20 16:55 ` dpdklab
2025-11-20 16:57 ` dpdklab
2025-11-20 17:02 ` dpdklab
2025-11-20 17:04 ` |SUCCESS| " dpdklab
2025-11-20 17:13 ` |PENDING| " dpdklab
2025-11-20 17:14 ` |SUCCESS| " dpdklab
2025-11-20 17:15 ` dpdklab
2025-11-20 17:15 ` dpdklab
2025-11-20 17:26 ` dpdklab
2025-11-20 17:36 ` dpdklab

This is a public inbox, see mirroring instructions
for how to clone and mirror all data and code used for this inbox;
as well as URLs for NNTP newsgroup(s).