From mboxrd@z Thu Jan  1 00:00:00 1970
Return-Path: <test-report-bounces@dpdk.org>
Received: from mails.dpdk.org (mails.dpdk.org [217.70.189.124])
	by inbox.dpdk.org (Postfix) with ESMTP id A15D1429A4
	for <public@inbox.dpdk.org>; Fri, 21 Apr 2023 04:47:41 +0200 (CEST)
Received: from mails.dpdk.org (localhost [127.0.0.1])
	by mails.dpdk.org (Postfix) with ESMTP id 9DD0640E6E;
	Fri, 21 Apr 2023 04:47:41 +0200 (CEST)
Received: from mail-yb1-f228.google.com (mail-yb1-f228.google.com
 [209.85.219.228])
 by mails.dpdk.org (Postfix) with ESMTP id 1AB0440E6E
 for <test-report@dpdk.org>; Fri, 21 Apr 2023 04:47:40 +0200 (CEST)
Received: by mail-yb1-f228.google.com with SMTP id
 3f1490d57ef6-b8f59a1071fso377900276.1
 for <test-report@dpdk.org>; Thu, 20 Apr 2023 19:47:40 -0700 (PDT)
DKIM-Signature: v=1; a=rsa-sha256; c=relaxed/relaxed;
 d=iol.unh.edu; s=unh-iol; t=1682045259; x=1684637259;
 h=cc:to:from:subject:message-id:date:from:to:cc:subject:date
 :message-id:reply-to;
 bh=5YnaholhNam/pWhCK6rbY+rIAu48hfKlnHjlGGP6Ono=;
 b=OYoiuwNB7rb++B9H3iYPJSEKlD56poOzfZH8whSb8Xa7++Zb1F/vJtTr3GAp3r5/MU
 8GVNIsJTZ6XlkXV74kPAYH+oyEEU7Fqh5dtpQHAZ4DcOj0UHE5WI0lHzNHDPWyUr+Bgv
 f+9EmkbOc0I6cie70XkYV1Zwq4Eo/RNJbRhZI=
X-Google-DKIM-Signature: v=1; a=rsa-sha256; c=relaxed/relaxed;
 d=1e100.net; s=20221208; t=1682045259; x=1684637259;
 h=cc:to:from:subject:message-id:date:x-gm-message-state:from:to:cc
 :subject:date:message-id:reply-to;
 bh=5YnaholhNam/pWhCK6rbY+rIAu48hfKlnHjlGGP6Ono=;
 b=Pby9s/8o5aIDAW6xpunzYDw6gmkUBz4ezKQ6IXcOghsSsCYP5esiNY7x3c3hEFujN6
 fum+h6vRz3qgMV4u66S0kV3zcMvVqJRA/1ujWEzjUjsSXas40DKTLbmhpGt/K+TKR2pN
 m1FnwLDGr01+NtWULQWiNsrykz3GajUtc9l89pnC4OThHkmPa0B9+xnHTXyv0+W+nBPX
 iCOLGimG5ThBw0Qhh8sUGQJqc/3qurQRWxXt/K7a1NW8i3PM9lr4MzPxZUAD0Qbz0/4c
 JfunAzF56UY6XcRTBlQ1JF/BMMOefVbsKS7wKgz95FagvEzU5K5QLqFAIxzOdOP+2SVl
 blFg==
X-Gm-Message-State: AAQBX9eKAx1+QjSLWfTks+sMCn9Xr5/H3/9oxkuSL7v4PuZN3QswA+lC
 Tzg/DOFyVRQAHa36kxhkL4T+VFWc1I+L3BfT56hzl7oYy4nq/mvFy7g2UA==
X-Google-Smtp-Source: AKy350awjlkycY7g7i9ZgtfZI2GrTu65tovUjTEqnDRBr3Ox4ko7IArEQXX94H7B83onREzdZsU+y0kvReeQ
X-Received: by 2002:a25:e00b:0:b0:b96:b439:1511 with SMTP id
 x11-20020a25e00b000000b00b96b4391511mr1138663ybg.10.1682045259556; 
 Thu, 20 Apr 2023 19:47:39 -0700 (PDT)
Received: from postal.iol.unh.edu (postal.iol.unh.edu. [132.177.123.84])
 by smtp-relay.gmail.com with ESMTPS id
 f125-20020a251f83000000b00b8f53e4ac5dsm273881ybf.23.2023.04.20.19.47.39
 (version=TLS1_2 cipher=ECDHE-ECDSA-AES128-GCM-SHA256 bits=128/128);
 Thu, 20 Apr 2023 19:47:39 -0700 (PDT)
X-Relaying-Domain: iol.unh.edu
Date: Thu, 20 Apr 2023 19:47:39 -0700 (PDT)
Message-ID: <6441f94b.250a0220.e527.704eSMTPIN_ADDED_MISSING@mx.google.com>
Received: from [172.17.0.4] (unknown [172.18.0.34])
 by postal.iol.unh.edu (Postfix) with ESMTP id 3BA8A605246B;
 Thu, 20 Apr 2023 22:47:39 -0400 (EDT)
Subject: |SUCCESS| pw126335-126336 [PATCH] [2/2] vhost: add egress API for
 port mirroring datapath
From: dpdklab@iol.unh.edu
To: Test Report <test-report@dpdk.org>
Cc: dpdklab@iol.unh.edu, David Marchand <david.marchand@redhat.com>,
 Thomas Monjalon <thomas@monjalon.net>
Content-Type: text/plain
X-BeenThere: test-report@dpdk.org
X-Mailman-Version: 2.1.29
Precedence: list
List-Id: automatic DPDK test reports <test-report.dpdk.org>
List-Unsubscribe: <https://mails.dpdk.org/options/test-report>,
 <mailto:test-report-request@dpdk.org?subject=unsubscribe>
List-Archive: <http://mails.dpdk.org/archives/test-report/>
List-Post: <mailto:test-report@dpdk.org>
List-Help: <mailto:test-report-request@dpdk.org?subject=help>
List-Subscribe: <https://mails.dpdk.org/listinfo/test-report>,
 <mailto:test-report-request@dpdk.org?subject=subscribe>
Errors-To: test-report-bounces@dpdk.org

Test-Label: iol-abi-testing
Test-Status: SUCCESS
http://dpdk.org/patch/126336

_Testing PASS_

Submitter: Cheng Jiang <Cheng1.jiang@intel.com>
Date: Friday, April 21 2023 01:09:32 
DPDK git baseline: Repo:dpdk
  Branch: master
  CommitID:5f34cc454df420b9b2da8deb949fb76cba058b87

126335-126336 --> testing pass

Test environment and result as below:

+------------------+----------+
|   Environment    | abi_test |
+==================+==========+
| Ubuntu 22.04     | PASS     |
+------------------+----------+
| CentOS Stream 8  | PASS     |
+------------------+----------+
| Debian Buster    | PASS     |
+------------------+----------+
| openSUSE Leap 15 | PASS     |
+------------------+----------+
| RHEL 7           | PASS     |
+------------------+----------+


Ubuntu 22.04
	Kernel: Container Host Kernel
	Compiler: gcc 11.3.1-2

CentOS Stream 8
	Kernel: 4.18.0-240.10.1.el8_3.x86_64
	Compiler: gcc 8.4.1 20200928

Debian Buster
	Kernel: 5.4.0-122-generic
	Compiler: gcc 8.3.0-6

openSUSE Leap 15
	Kernel: 4.18.0-240.10.1.el8_3.x86_64
	Compiler: gcc 7.5.0

RHEL 7
	Kernel: 4.18.0-240.10.1.el8_3.x86_64
	Compiler: gcc 4.8.5 20150623 (Red Hat 4.8.5-44)

To view detailed results, visit:
https://lab.dpdk.org/results/dashboard/patchsets/26075/

UNH-IOL DPDK Community Lab

To manage your email subscriptions, visit: 
https://lab.dpdk.org/results/dashboard/preferences/subscriptions/