From mboxrd@z Thu Jan  1 00:00:00 1970
Return-Path: <test-report-bounces@dpdk.org>
Received: from mails.dpdk.org (mails.dpdk.org [217.70.189.124])
	by inbox.dpdk.org (Postfix) with ESMTP id 4936C429AC
	for <public@inbox.dpdk.org>; Fri, 21 Apr 2023 12:26:53 +0200 (CEST)
Received: from mails.dpdk.org (localhost [127.0.0.1])
	by mails.dpdk.org (Postfix) with ESMTP id 436C5410F3;
	Fri, 21 Apr 2023 12:26:53 +0200 (CEST)
Received: from mail-pf1-f225.google.com (mail-pf1-f225.google.com
 [209.85.210.225])
 by mails.dpdk.org (Postfix) with ESMTP id D1433410F3
 for <test-report@dpdk.org>; Fri, 21 Apr 2023 12:26:51 +0200 (CEST)
Received: by mail-pf1-f225.google.com with SMTP id
 d2e1a72fcca58-63d4595d60fso13311994b3a.0
 for <test-report@dpdk.org>; Fri, 21 Apr 2023 03:26:51 -0700 (PDT)
DKIM-Signature: v=1; a=rsa-sha256; c=relaxed/relaxed;
 d=iol.unh.edu; s=unh-iol; t=1682072811; x=1684664811;
 h=cc:to:from:subject:message-id:date:from:to:cc:subject:date
 :message-id:reply-to;
 bh=v0j0HoISZkVmVwGmYOJV/nDSqo0iJZal88CMAu+oYWM=;
 b=HG+NdfsT67F1+UryAlGcmPhKJE/Ut1bqMpox0spAvY1DgWemIjXYy253k2o/25Fgey
 STYCzLMR+3npxl31nijTKscNJTQqhiFxB/8n7Az/grN4fXy2R7XGjTc4pRHqvd4V3aje
 jeyil7jO6l0IXCEQtMmLZJfPERZFqCTTZEOks=
X-Google-DKIM-Signature: v=1; a=rsa-sha256; c=relaxed/relaxed;
 d=1e100.net; s=20221208; t=1682072811; x=1684664811;
 h=cc:to:from:subject:message-id:date:x-gm-message-state:from:to:cc
 :subject:date:message-id:reply-to;
 bh=v0j0HoISZkVmVwGmYOJV/nDSqo0iJZal88CMAu+oYWM=;
 b=bUFYwxR+2GXTOYCdltXKSNabXdtIPlJhchmtUhE+oUB7djbDzhFDyFGOJlZSnT3ZJT
 IswtL8CbKUMWv4IQlxaWvR6SFhVOF8wHcZ+TTTh8yQtjep5US8VO9I4U6TqU5DuPu1gH
 eoWOPDlInHRJXzYFHqaA4U2KRqmA/LAVGKdORlJgQAuUG+7lMih4Y1q9OQxRiKOHriGy
 Yh+nTcEpMW/4tbjMmCroEEa9aENcQgQp4zXTzjsZAQzdp74/V49JyYVkGmrVHMYzCVnt
 kGqf/RhfhBd4xU4mxwwucrW1K3Cv90frjivs/UVhZd11sjJViBlNsBxmxI1UUJp0+/zv
 m0BA==
X-Gm-Message-State: AAQBX9dccO3cqTZQDRUSXMgnuT0epaM1Kh6hjhoWJZXdUKka4LE4bJ8i
 yq19yN1QnWZXo0XhBcK/WLzLYeRajGuLVvI9Bsflpb2pWV5wNf24qtTywQ==
X-Google-Smtp-Source: AKy350ZPwIMTwJtOIPyQd4TOOfHgk2R3cnANp/AOiBxPCdXclXrGkaYM488CvPxWd7gR5b8uODQ25SuyNm8D
X-Received: by 2002:a17:90b:4397:b0:247:1ce1:a2ef with SMTP id
 in23-20020a17090b439700b002471ce1a2efmr10458440pjb.5.1682072811018; 
 Fri, 21 Apr 2023 03:26:51 -0700 (PDT)
Received: from postal.iol.unh.edu (postal.iol.unh.edu. [132.177.123.84])
 by smtp-relay.gmail.com with ESMTPS id
 pf7-20020a17090b1d8700b0023446338d4dsm397632pjb.9.2023.04.21.03.26.50
 (version=TLS1_2 cipher=ECDHE-ECDSA-AES128-GCM-SHA256 bits=128/128);
 Fri, 21 Apr 2023 03:26:51 -0700 (PDT)
X-Relaying-Domain: iol.unh.edu
Date: Fri, 21 Apr 2023 03:26:51 -0700 (PDT)
Message-ID: <644264eb.170a0220.a21a4.abf3SMTPIN_ADDED_MISSING@mx.google.com>
Received: from [172.17.0.3] (unknown [172.18.0.34])
 by postal.iol.unh.edu (Postfix) with ESMTP id 406BA605246B;
 Fri, 21 Apr 2023 06:26:50 -0400 (EDT)
Subject: |SUCCESS| pw126339-126342 [PATCH] [4/4] app: add testgraph application
From: dpdklab@iol.unh.edu
To: Test Report <test-report@dpdk.org>
Cc: dpdklab@iol.unh.edu, David Marchand <david.marchand@redhat.com>,
 Thomas Monjalon <thomas@monjalon.net>
Content-Type: text/plain
X-BeenThere: test-report@dpdk.org
X-Mailman-Version: 2.1.29
Precedence: list
List-Id: automatic DPDK test reports <test-report.dpdk.org>
List-Unsubscribe: <https://mails.dpdk.org/options/test-report>,
 <mailto:test-report-request@dpdk.org?subject=unsubscribe>
List-Archive: <http://mails.dpdk.org/archives/test-report/>
List-Post: <mailto:test-report@dpdk.org>
List-Help: <mailto:test-report-request@dpdk.org?subject=help>
List-Subscribe: <https://mails.dpdk.org/listinfo/test-report>,
 <mailto:test-report-request@dpdk.org?subject=subscribe>
Errors-To: test-report-bounces@dpdk.org

Test-Label: iol-abi-testing
Test-Status: SUCCESS
http://dpdk.org/patch/126342

_Testing PASS_

Submitter: Vamsi Attunuru <vattunuru@marvell.com>
Date: Friday, April 21 2023 06:02:45 
DPDK git baseline: Repo:dpdk
  Branch: master
  CommitID:5f34cc454df420b9b2da8deb949fb76cba058b87

126339-126342 --> testing pass

Test environment and result as below:

+------------------+----------+
|   Environment    | abi_test |
+==================+==========+
| RHEL8            | PASS     |
+------------------+----------+
| RHEL 7           | PASS     |
+------------------+----------+
| Debian Bullseye  | PASS     |
+------------------+----------+
| CentOS Stream 9  | PASS     |
+------------------+----------+
| Ubuntu 22.04     | PASS     |
+------------------+----------+
| CentOS Stream 8  | PASS     |
+------------------+----------+
| openSUSE Leap 15 | PASS     |
+------------------+----------+
| Debian Buster    | PASS     |
+------------------+----------+


RHEL8
	Kernel: 4.18.0-240.10.1.el8_3.x86_64
	Compiler: gcc 8.3.1 20191121 (Red Hat 8.3.1-5)

RHEL 7
	Kernel: 4.18.0-240.10.1.el8_3.x86_64
	Compiler: gcc 4.8.5 20150623 (Red Hat 4.8.5-44)

Debian Bullseye
	Kernel: 5.4.0-122-generic
	Compiler: gcc 10.2.1-6

CentOS Stream 9
	Kernel: 4.18.0-240.10.1.el8_3.x86_64
	Compiler: gcc 11.3.1 20220421

Ubuntu 22.04
	Kernel: Container Host Kernel
	Compiler: clang 14.0.5-1.fc36

CentOS Stream 8
	Kernel: 4.18.0-240.10.1.el8_3.x86_64
	Compiler: gcc 8.4.1 20200928

openSUSE Leap 15
	Kernel: 4.18.0-240.10.1.el8_3.x86_64
	Compiler: gcc 7.5.0

Debian Buster
	Kernel: 5.4.0-122-generic
	Compiler: gcc 8.3.0-6

To view detailed results, visit:
https://lab.dpdk.org/results/dashboard/patchsets/26076/

UNH-IOL DPDK Community Lab

To manage your email subscriptions, visit: 
https://lab.dpdk.org/results/dashboard/preferences/subscriptions/