From mboxrd@z Thu Jan  1 00:00:00 1970
Return-Path: <test-report-bounces@dpdk.org>
Received: from mails.dpdk.org (mails.dpdk.org [217.70.189.124])
	by inbox.dpdk.org (Postfix) with ESMTP id 41494429AD
	for <public@inbox.dpdk.org>; Fri, 21 Apr 2023 14:43:23 +0200 (CEST)
Received: from mails.dpdk.org (localhost [127.0.0.1])
	by mails.dpdk.org (Postfix) with ESMTP id 1C644410F3;
	Fri, 21 Apr 2023 14:43:23 +0200 (CEST)
Received: from mail-qk1-f227.google.com (mail-qk1-f227.google.com
 [209.85.222.227])
 by mails.dpdk.org (Postfix) with ESMTP id CE80D410F3
 for <test-report@dpdk.org>; Fri, 21 Apr 2023 14:43:21 +0200 (CEST)
Received: by mail-qk1-f227.google.com with SMTP id
 af79cd13be357-74df41e2e61so105947885a.3
 for <test-report@dpdk.org>; Fri, 21 Apr 2023 05:43:21 -0700 (PDT)
DKIM-Signature: v=1; a=rsa-sha256; c=relaxed/relaxed;
 d=iol.unh.edu; s=unh-iol; t=1682081001; x=1684673001;
 h=cc:to:from:subject:message-id:date:from:to:cc:subject:date
 :message-id:reply-to;
 bh=sNPhTYRW+VVGXAr0U9IwQZXq+TYR4qelCKa5bbZiFcQ=;
 b=hDLgFJe1F96iTMe7r5y8DgonJaNrh7rf/qCmkW+XbKPi7eLRVlLMiyykcArm3uajhN
 RErkj1lFOHFeC4ZYGz88VbQo2rojWFj0ROZ7ajPASuP2fH0WnmeELhTb/w+FdvEhjspQ
 TyZhojdGoVr2I6lAQ1xiYXcUocDBpWxSOAMy0=
X-Google-DKIM-Signature: v=1; a=rsa-sha256; c=relaxed/relaxed;
 d=1e100.net; s=20221208; t=1682081001; x=1684673001;
 h=cc:to:from:subject:message-id:date:x-gm-message-state:from:to:cc
 :subject:date:message-id:reply-to;
 bh=sNPhTYRW+VVGXAr0U9IwQZXq+TYR4qelCKa5bbZiFcQ=;
 b=lD7JqV8vJTcZGEpIO5eamrWsMOBnLjalZssbjDqYIhHpleVBBw/XUB1olOjZBkG0Xx
 rGz3Bd1o0D/ozyzeAcKjmkfofgdpca0xjANBG9tYAoOfcaR54HcrvPa0wAT6pBrt5xYL
 vx09AO/Rpq6umz8d70c6hH8CoHw2hXx3UdaLVLQh5iftR6hTY6aEqn0N5rYKWfpVzgUA
 S/UEHg4rrglumw7ECkehP8tEg5zHN8uH3q1njAqLZT96OMXzH7AE6klcyMv/Ji/Pq8fn
 XaMmXsl5KlqykUlnvFUdXxEhqYc0Ju2vZY3BthP2nb4OqfEEmOCyLJ9uxXG1NFxe+qIS
 IilA==
X-Gm-Message-State: AAQBX9dGRT+gkDlvmYh4aAId8Z9bl6xb5JxblD5xmU8SNTGxE+QGLEms
 Hgp+zS1A/h9z4g2+EQLZfebHcbehR+am9clCNye/LT7U10kqmc+0l1zWTA==
X-Google-Smtp-Source: AKy350YOqNvM5Ojeoi0E1dfU7w0wcrl8mNOIRG+cP+0bqVw107IiNDzTAeQpR0Ec/nN85il14XJX1SPIJRD3
X-Received: by 2002:ad4:5ceb:0:b0:5b3:e172:b63e with SMTP id
 iv11-20020ad45ceb000000b005b3e172b63emr8309318qvb.22.1682081001207; 
 Fri, 21 Apr 2023 05:43:21 -0700 (PDT)
Received: from postal.iol.unh.edu (postal.iol.unh.edu. [132.177.123.84])
 by smtp-relay.gmail.com with ESMTPS id
 qd6-20020ad44806000000b005ef73aa9470sm295478qvb.29.2023.04.21.05.43.21
 (version=TLS1_2 cipher=ECDHE-ECDSA-AES128-GCM-SHA256 bits=128/128);
 Fri, 21 Apr 2023 05:43:21 -0700 (PDT)
X-Relaying-Domain: iol.unh.edu
Date: Fri, 21 Apr 2023 05:43:21 -0700 (PDT)
Message-ID: <644284e9.d40a0220.5dfac.7c4dSMTPIN_ADDED_MISSING@mx.google.com>
Received: from [172.17.0.3] (unknown [172.18.0.34])
 by postal.iol.unh.edu (Postfix) with ESMTP id E76B4605246B;
 Fri, 21 Apr 2023 08:43:20 -0400 (EDT)
Subject: |SUCCESS| pw126293 [PATCH] app/dma-perf: introduce dma-perf
 application
From: dpdklab@iol.unh.edu
To: Test Report <test-report@dpdk.org>
Cc: Cheng Jiang <Cheng1.jiang@intel.com>,
 David Marchand <david.marchand@redhat.com>,
 Thomas Monjalon <thomas@monjalon.net>
Content-Type: text/plain
X-BeenThere: test-report@dpdk.org
X-Mailman-Version: 2.1.29
Precedence: list
List-Id: automatic DPDK test reports <test-report.dpdk.org>
List-Unsubscribe: <https://mails.dpdk.org/options/test-report>,
 <mailto:test-report-request@dpdk.org?subject=unsubscribe>
List-Archive: <http://mails.dpdk.org/archives/test-report/>
List-Post: <mailto:test-report@dpdk.org>
List-Help: <mailto:test-report-request@dpdk.org?subject=help>
List-Subscribe: <https://mails.dpdk.org/listinfo/test-report>,
 <mailto:test-report-request@dpdk.org?subject=subscribe>
Errors-To: test-report-bounces@dpdk.org

Test-Label: iol-abi-testing
Test-Status: SUCCESS
http://dpdk.org/patch/126293

_Testing PASS_

Submitter: Cheng Jiang <Cheng1.jiang@intel.com>
Date: Thursday, April 20 2023 07:22:15 
DPDK git baseline: Repo:dpdk
  Branch: master
  CommitID:5f34cc454df420b9b2da8deb949fb76cba058b87

126293 --> testing pass

Test environment and result as below:

+------------------+----------+
|   Environment    | abi_test |
+==================+==========+
| Ubuntu 22.04     | PASS     |
+------------------+----------+
| RHEL 7           | PASS     |
+------------------+----------+
| RHEL8            | PASS     |
+------------------+----------+
| CentOS Stream 9  | PASS     |
+------------------+----------+
| CentOS Stream 8  | PASS     |
+------------------+----------+
| openSUSE Leap 15 | PASS     |
+------------------+----------+
| Debian Buster    | PASS     |
+------------------+----------+
| Debian Bullseye  | PASS     |
+------------------+----------+


Ubuntu 22.04
	Kernel: Container Host Kernel
	Compiler: gcc 12.2.1-2

RHEL 7
	Kernel: 4.18.0-240.10.1.el8_3.x86_64
	Compiler: gcc 4.8.5 20150623 (Red Hat 4.8.5-44)

RHEL8
	Kernel: 4.18.0-240.10.1.el8_3.x86_64
	Compiler: gcc 8.3.1 20191121 (Red Hat 8.3.1-5)

CentOS Stream 9
	Kernel: 4.18.0-240.10.1.el8_3.x86_64
	Compiler: gcc 11.3.1 20220421

CentOS Stream 8
	Kernel: 4.18.0-240.10.1.el8_3.x86_64
	Compiler: gcc 8.4.1 20200928

openSUSE Leap 15
	Kernel: 4.18.0-240.10.1.el8_3.x86_64
	Compiler: gcc 7.5.0

Debian Buster
	Kernel: 5.4.0-122-generic
	Compiler: gcc 8.3.0-6

Debian Bullseye
	Kernel: 5.4.0-122-generic
	Compiler: gcc 10.2.1-6

To view detailed results, visit:
https://lab.dpdk.org/results/dashboard/patchsets/26061/

UNH-IOL DPDK Community Lab

To manage your email subscriptions, visit: 
https://lab.dpdk.org/results/dashboard/preferences/subscriptions/