From mboxrd@z Thu Jan  1 00:00:00 1970
Return-Path: <test-report-bounces@dpdk.org>
Received: from mails.dpdk.org (mails.dpdk.org [217.70.189.124])
	by inbox.dpdk.org (Postfix) with ESMTP id 22985429AF
	for <public@inbox.dpdk.org>; Fri, 21 Apr 2023 22:39:18 +0200 (CEST)
Received: from mails.dpdk.org (localhost [127.0.0.1])
	by mails.dpdk.org (Postfix) with ESMTP id F3846410FB;
	Fri, 21 Apr 2023 22:39:17 +0200 (CEST)
Received: from mail-il1-f226.google.com (mail-il1-f226.google.com
 [209.85.166.226])
 by mails.dpdk.org (Postfix) with ESMTP id E30AC410FB
 for <test-report@dpdk.org>; Fri, 21 Apr 2023 22:39:16 +0200 (CEST)
Received: by mail-il1-f226.google.com with SMTP id
 e9e14a558f8ab-32ad8ca1e69so20264915ab.3
 for <test-report@dpdk.org>; Fri, 21 Apr 2023 13:39:16 -0700 (PDT)
DKIM-Signature: v=1; a=rsa-sha256; c=relaxed/relaxed;
 d=iol.unh.edu; s=unh-iol; t=1682109556; x=1684701556;
 h=cc:to:from:subject:message-id:date:from:to:cc:subject:date
 :message-id:reply-to;
 bh=tmRDDzTm5SOKXd46O8Ij1zEDHvcGDeMUhWubC8mpLbU=;
 b=R26D5FyRsLUxhNTF8lQ7BIuZk28WWGpYh2GKhtRZG4xBnsKHII0dNztHCc3zOidzXk
 +tO2wYf/cTFNWRaT3QYBRyNjzSIhH6fkRHBhE2YmSRtSHV34GgItREknOYyVHEuVdDMw
 J10pjzmqhw6M17opxLgzLbsLNddogmnudwQZo=
X-Google-DKIM-Signature: v=1; a=rsa-sha256; c=relaxed/relaxed;
 d=1e100.net; s=20221208; t=1682109556; x=1684701556;
 h=cc:to:from:subject:message-id:date:x-gm-message-state:from:to:cc
 :subject:date:message-id:reply-to;
 bh=tmRDDzTm5SOKXd46O8Ij1zEDHvcGDeMUhWubC8mpLbU=;
 b=jczEONyGNX2T5VsxJhjvZHKWJcC09TsesYMv3eCS92DF2bq5/uI8dRgB5pcrPgcvdw
 Dt+0ojcsuN1s+6up7wS4bQZEVOZiSnBuhdKAetYOlVJy/QX+2lajodBy3XE1Y+GAofdQ
 KUPYlHJY3UTSn0aBS7zmiBdz0MRWOZbXWeW8gxSitdhhn5nvgeedjP9/dtfrWnK2vwkh
 mrWPttG429lNAOtQVJ0CZTniIJnYTJlEbk/9vT6tJlsOX5/db8ddfR3LFB8eiRtgBQG2
 rM+oYgJ3X5JkVa73QeiMgKG08NAWXoilz8l1TxJboQn3/jpN4zKCxEnkHVjoDBzDldbX
 dCsQ==
X-Gm-Message-State: AAQBX9d3fkCM9N6+GA9KLltrk2xyOSpR3kOuq5VLX8UqWReOq1YptvV3
 GnF9PQtniBJ4QsOeGPgi8NfLkVDmStthlhCF2v+jlXKrmedzMw/ip5iidg==
X-Google-Smtp-Source: AKy350ZUXt0lytzbaCBKQbWAgG4cbul68vpeVfwGCVsGM1epmMJ04jdKbyZKvIukF6qwG1QNO0VOe6FdISAu
X-Received: by 2002:a92:ce0f:0:b0:32b:5e:e22a with SMTP id
 b15-20020a92ce0f000000b0032b005ee22amr145857ilo.17.1682109556317; 
 Fri, 21 Apr 2023 13:39:16 -0700 (PDT)
Received: from postal.iol.unh.edu (postal.iol.unh.edu. [132.177.123.84])
 by smtp-relay.gmail.com with ESMTPS id
 y10-20020a056e02128a00b0032bf0c2c234sm394657ilq.42.2023.04.21.13.39.16
 (version=TLS1_2 cipher=ECDHE-ECDSA-AES128-GCM-SHA256 bits=128/128);
 Fri, 21 Apr 2023 13:39:16 -0700 (PDT)
X-Relaying-Domain: iol.unh.edu
Date: Fri, 21 Apr 2023 13:39:16 -0700 (PDT)
Message-ID: <6442f474.050a0220.77baf.a58aSMTPIN_ADDED_MISSING@mx.google.com>
Received: from [172.17.0.3] (unknown [172.18.0.34])
 by postal.iol.unh.edu (Postfix) with ESMTP id D7179605246B;
 Fri, 21 Apr 2023 16:39:15 -0400 (EDT)
Subject: |SUCCESS| pw126399-126403 [PATCH] [v3,5/5] config/arm: add AMD CDX
From: dpdklab@iol.unh.edu
To: Test Report <test-report@dpdk.org>
Cc: dpdklab@iol.unh.edu, David Marchand <david.marchand@redhat.com>,
 Thomas Monjalon <thomas@monjalon.net>
Content-Type: text/plain
X-BeenThere: test-report@dpdk.org
X-Mailman-Version: 2.1.29
Precedence: list
List-Id: automatic DPDK test reports <test-report.dpdk.org>
List-Unsubscribe: <https://mails.dpdk.org/options/test-report>,
 <mailto:test-report-request@dpdk.org?subject=unsubscribe>
List-Archive: <http://mails.dpdk.org/archives/test-report/>
List-Post: <mailto:test-report@dpdk.org>
List-Help: <mailto:test-report-request@dpdk.org?subject=help>
List-Subscribe: <https://mails.dpdk.org/listinfo/test-report>,
 <mailto:test-report-request@dpdk.org?subject=subscribe>
Errors-To: test-report-bounces@dpdk.org

Test-Label: iol-abi-testing
Test-Status: SUCCESS
http://dpdk.org/patch/126403

_Testing PASS_

Submitter: Nipun Gupta <nipun.gupta@amd.com>
Date: Friday, April 21 2023 14:54:06 
DPDK git baseline: Repo:dpdk
  Branch: master
  CommitID:5f34cc454df420b9b2da8deb949fb76cba058b87

126399-126403 --> testing pass

Test environment and result as below:

+------------------+----------+
|   Environment    | abi_test |
+==================+==========+
| openSUSE Leap 15 | PASS     |
+------------------+----------+
| Debian Bullseye  | PASS     |
+------------------+----------+
| CentOS Stream 9  | PASS     |
+------------------+----------+
| RHEL 7           | PASS     |
+------------------+----------+
| Ubuntu 22.04     | PASS     |
+------------------+----------+
| CentOS Stream 8  | PASS     |
+------------------+----------+
| Debian Buster    | PASS     |
+------------------+----------+
| RHEL8            | PASS     |
+------------------+----------+


openSUSE Leap 15
	Kernel: 4.18.0-240.10.1.el8_3.x86_64
	Compiler: gcc 7.5.0

Debian Bullseye
	Kernel: 5.4.0-122-generic
	Compiler: gcc 10.2.1-6

CentOS Stream 9
	Kernel: 4.18.0-240.10.1.el8_3.x86_64
	Compiler: gcc 11.3.1 20220421

RHEL 7
	Kernel: 4.18.0-240.10.1.el8_3.x86_64
	Compiler: gcc 4.8.5 20150623 (Red Hat 4.8.5-44)

Ubuntu 22.04
	Kernel: Container Host Kernel
	Compiler: gcc 11.3.1-2

CentOS Stream 8
	Kernel: 4.18.0-240.10.1.el8_3.x86_64
	Compiler: gcc 8.4.1 20200928

Debian Buster
	Kernel: 5.4.0-122-generic
	Compiler: gcc 8.3.0-6

RHEL8
	Kernel: 4.18.0-240.10.1.el8_3.x86_64
	Compiler: gcc 8.3.1 20191121 (Red Hat 8.3.1-5)

To view detailed results, visit:
https://lab.dpdk.org/results/dashboard/patchsets/26086/

UNH-IOL DPDK Community Lab

To manage your email subscriptions, visit: 
https://lab.dpdk.org/results/dashboard/preferences/subscriptions/