From mboxrd@z Thu Jan  1 00:00:00 1970
Return-Path: <test-report-bounces@dpdk.org>
Received: from mails.dpdk.org (mails.dpdk.org [217.70.189.124])
	by inbox.dpdk.org (Postfix) with ESMTP id D2454429C3
	for <public@inbox.dpdk.org>; Sun, 23 Apr 2023 11:55:58 +0200 (CEST)
Received: from mails.dpdk.org (localhost [127.0.0.1])
	by mails.dpdk.org (Postfix) with ESMTP id AB00E40A80;
	Sun, 23 Apr 2023 11:55:58 +0200 (CEST)
Received: from mail-yw1-f225.google.com (mail-yw1-f225.google.com
 [209.85.128.225])
 by mails.dpdk.org (Postfix) with ESMTP id B3D4840A80
 for <test-report@dpdk.org>; Sun, 23 Apr 2023 11:55:57 +0200 (CEST)
Received: by mail-yw1-f225.google.com with SMTP id
 00721157ae682-5529f3b8623so19544457b3.2
 for <test-report@dpdk.org>; Sun, 23 Apr 2023 02:55:57 -0700 (PDT)
DKIM-Signature: v=1; a=rsa-sha256; c=relaxed/relaxed;
 d=iol.unh.edu; s=unh-iol; t=1682243757; x=1684835757;
 h=cc:to:from:subject:message-id:date:from:to:cc:subject:date
 :message-id:reply-to;
 bh=YWTa0O68I/9QIK6qivCqAmT3oYM/RwszLBcWIjnpK1E=;
 b=R9t/aLFkL3WDqbC1PfrA2AG3jtqG5z04F41HbqS5d2UM/2FXgpoJtpPuD7dVTqn3oR
 Jaj7kl1O90nTc3XbYY9t6YS8ug9kdbVSWxek7alRnlOk1ziiIVKi8CnpQS6HWMsdXZFi
 4+tdexeycWQB43QuR+dvl2ulg8b9fs3c48hTU=
X-Google-DKIM-Signature: v=1; a=rsa-sha256; c=relaxed/relaxed;
 d=1e100.net; s=20221208; t=1682243757; x=1684835757;
 h=cc:to:from:subject:message-id:date:x-gm-message-state:from:to:cc
 :subject:date:message-id:reply-to;
 bh=YWTa0O68I/9QIK6qivCqAmT3oYM/RwszLBcWIjnpK1E=;
 b=LKN8D6BpreQstT7UZVxQcJw0Uf4GeTLeWrDzhNnJiOm1YvN9P9J/QOwb/MdED6zgGU
 ftJN3YUlVygCIi6szMjyqCqszrlLRg/+IWeKAG//+X/LVq0ap1vxZUlrHaqYzJrUU3eZ
 ubd8VD7WtpAXY/cJ/IyqaEw18Az+ohEptovwnUdnx9QfwTJXsu0s9/lWQncRIFDXOZxD
 oBHRlnhSHTn5DegC4cU7AkKcPViBm2aD2LhOUVMmF5j5X9RW1gg5gDtrEtkT4RmzngrS
 6/FlR0zDbIO2PNP6v6xwCMUnMeofTvJzZlyNUfP5XOT0xkO2sqj4zEnnG3CfgspT4zmY
 ZgQg==
X-Gm-Message-State: AAQBX9cpvLIpAaYFXkwY784XP8fizBKJakj2gIADNPemNjeku16/Qks5
 R/n/A0mRDHt6PN002tiCnBB0dLDX9PBOYekGsvkXffIRo2dxPb26g/PcfdKTElqeION0cWxTSg=
 =
X-Google-Smtp-Source: AKy350Z0uJf/3G5I3mhCwOZXs5B5SdTVg9HH0QH0YWElQM2yy7Wxu1lAWjMFPo7YLIuexAPZymUGJBx+oP3R
X-Received: by 2002:a0d:e084:0:b0:54e:a6e3:4f28 with SMTP id
 j126-20020a0de084000000b0054ea6e34f28mr5520228ywe.20.1682243757015; 
 Sun, 23 Apr 2023 02:55:57 -0700 (PDT)
Received: from postal.iol.unh.edu (postal.iol.unh.edu.
 [2606:4100:3880:1234::84]) by smtp-relay.gmail.com with ESMTPS id
 h126-20020a0dc584000000b00555f6720569sm679767ywd.19.2023.04.23.02.55.56
 (version=TLS1_2 cipher=ECDHE-ECDSA-AES128-GCM-SHA256 bits=128/128);
 Sun, 23 Apr 2023 02:55:57 -0700 (PDT)
X-Relaying-Domain: iol.unh.edu
Date: Sun, 23 Apr 2023 02:55:57 -0700 (PDT)
Message-ID: <644500ad.0d0a0220.dd890.6299SMTPIN_ADDED_MISSING@mx.google.com>
Received: from [172.17.0.3] (unknown [172.18.0.34])
 by postal.iol.unh.edu (Postfix) with ESMTP id AD6BA605246B;
 Sun, 23 Apr 2023 05:55:56 -0400 (EDT)
Subject: |SUCCESS| pw126422 [PATCH] [v2] app/mldev: fix code formatting and
 typos
From: dpdklab@iol.unh.edu
To: Test Report <test-report@dpdk.org>
Cc: dpdk-test-reports@iol.unh.edu, David Marchand <david.marchand@redhat.com>,
 Thomas Monjalon <thomas@monjalon.net>
Content-Type: text/plain
X-BeenThere: test-report@dpdk.org
X-Mailman-Version: 2.1.29
Precedence: list
List-Id: automatic DPDK test reports <test-report.dpdk.org>
List-Unsubscribe: <https://mails.dpdk.org/options/test-report>,
 <mailto:test-report-request@dpdk.org?subject=unsubscribe>
List-Archive: <http://mails.dpdk.org/archives/test-report/>
List-Post: <mailto:test-report@dpdk.org>
List-Help: <mailto:test-report-request@dpdk.org?subject=help>
List-Subscribe: <https://mails.dpdk.org/listinfo/test-report>,
 <mailto:test-report-request@dpdk.org?subject=subscribe>
Errors-To: test-report-bounces@dpdk.org

Test-Label: iol-abi-testing
Test-Status: SUCCESS
http://dpdk.org/patch/126422

_Testing PASS_

Submitter: Srikanth Yalavarthi <syalavarthi@marvell.com>
Date: Sunday, April 23 2023 04:58:32 
DPDK git baseline: Repo:dpdk
  Branch: master
  CommitID:5f34cc454df420b9b2da8deb949fb76cba058b87

126422 --> testing pass

Test environment and result as below:

+------------------+----------+
|   Environment    | abi_test |
+==================+==========+
| Debian Bullseye  | PASS     |
+------------------+----------+
| Debian Buster    | PASS     |
+------------------+----------+
| RHEL 7           | PASS     |
+------------------+----------+
| Ubuntu 22.04     | PASS     |
+------------------+----------+
| CentOS Stream 9  | PASS     |
+------------------+----------+
| CentOS Stream 8  | PASS     |
+------------------+----------+
| openSUSE Leap 15 | PASS     |
+------------------+----------+


Debian Bullseye
	Kernel: 5.4.0-122-generic
	Compiler: gcc 10.2.1-6

Debian Buster
	Kernel: 5.4.0-122-generic
	Compiler: gcc 8.3.0-6

RHEL 7
	Kernel: 4.18.0-240.10.1.el8_3.x86_64
	Compiler: gcc 4.8.5 20150623 (Red Hat 4.8.5-44)

Ubuntu 22.04
	Kernel: 4.18.0-240.10.1.el8_3.x86_64
	Compiler: gcc 11.3.0

CentOS Stream 9
	Kernel: 4.18.0-240.10.1.el8_3.x86_64
	Compiler: gcc 11.3.1 20220421

CentOS Stream 8
	Kernel: 4.18.0-240.10.1.el8_3.x86_64
	Compiler: gcc 8.4.1 20200928

openSUSE Leap 15
	Kernel: 4.18.0-240.10.1.el8_3.x86_64
	Compiler: gcc 7.5.0

To view detailed results, visit:
https://lab.dpdk.org/results/dashboard/patchsets/26093/

UNH-IOL DPDK Community Lab

To manage your email subscriptions, visit: 
https://lab.dpdk.org/results/dashboard/preferences/subscriptions/