From mboxrd@z Thu Jan  1 00:00:00 1970
Return-Path: <test-report-bounces@dpdk.org>
Received: from mails.dpdk.org (mails.dpdk.org [217.70.189.124])
	by inbox.dpdk.org (Postfix) with ESMTP id E21D1429C5
	for <public@inbox.dpdk.org>; Sun, 23 Apr 2023 15:50:48 +0200 (CEST)
Received: from mails.dpdk.org (localhost [127.0.0.1])
	by mails.dpdk.org (Postfix) with ESMTP id C011340698;
	Sun, 23 Apr 2023 15:50:48 +0200 (CEST)
Received: from mail-yb1-f226.google.com (mail-yb1-f226.google.com
 [209.85.219.226])
 by mails.dpdk.org (Postfix) with ESMTP id 3D0DB40698
 for <test-report@dpdk.org>; Sun, 23 Apr 2023 15:50:47 +0200 (CEST)
Received: by mail-yb1-f226.google.com with SMTP id
 3f1490d57ef6-b95c3b869dcso10771211276.1
 for <test-report@dpdk.org>; Sun, 23 Apr 2023 06:50:47 -0700 (PDT)
DKIM-Signature: v=1; a=rsa-sha256; c=relaxed/relaxed;
 d=iol.unh.edu; s=unh-iol; t=1682257846; x=1684849846;
 h=cc:to:from:subject:message-id:date:from:to:cc:subject:date
 :message-id:reply-to;
 bh=oTH+glc0B3+qf9JLSz+gp94SAqWe2y6j0da4vmp7hP4=;
 b=YbSgolScEqeq2axbF9Z8YtUeYddYSRejrAT12s+59BzD/LE/M1MjDHLv7BuFwdiRml
 uc366wrXS4Q2a3NMtO6vuO6QZFaJybcOOIb29GzToAVA41/LvNRYyMot0/P7oNX04jhG
 Jgq6w/N/0qsVTP0Fpan5G0BpD8Ye1juqnIrv4=
X-Google-DKIM-Signature: v=1; a=rsa-sha256; c=relaxed/relaxed;
 d=1e100.net; s=20221208; t=1682257846; x=1684849846;
 h=cc:to:from:subject:message-id:date:x-gm-message-state:from:to:cc
 :subject:date:message-id:reply-to;
 bh=oTH+glc0B3+qf9JLSz+gp94SAqWe2y6j0da4vmp7hP4=;
 b=lfC4g35LrUl/0nME6Xs6TrduQoVYseTCGuzoFUbRPgi5nGq57Rz+zyMKa3MYevDKmg
 Qu7xl5kd0hejra0uLh95u6z0DJvnPK4aK73KuEolkPyogPLq8kwtgZn8vGRWlQNdiy6S
 ScqoeDUFCEc6L2/O9tnZ8+oV0XQ4x1o/NqtVfHL3xx/ndiRdZxJ/QaXwCyWzIAsirNJY
 UkTyUL0uhJGSwnkKuF7zngLVTaVNE4lnxnku74JP+dB/445sWlutUewAihuPfpFCAX0P
 dhfrLmNvs8hI/LQG613VcWPmHrcDWnA4bgEa4NQ++EaJV9y7LZmTlUk1rJsBF8hvUV6y
 ibQQ==
X-Gm-Message-State: AAQBX9f1wcv7ZOyJS1WUmTeir9Yp9ngANTtYbwZK9YbE62nJjpzd8GK4
 6qrKvp368dXCf/a0ZTewDQyBXkgUobHR9h9nYwf0yEXnFfTuBHOFinM7NhbvDNhkyj5p20e9DQ=
 =
X-Google-Smtp-Source: AKy350YjIm1zOQFaUoe9MWPUCIEc16w+3rawlJkdysuj6+gFdj4AOnVPMCUc6tO8qTI1+4nmjf7bCFK9M7TH
X-Received: by 2002:a81:19c3:0:b0:54f:6aa3:f167 with SMTP id
 186-20020a8119c3000000b0054f6aa3f167mr6625671ywz.12.1682257846623; 
 Sun, 23 Apr 2023 06:50:46 -0700 (PDT)
Received: from postal.iol.unh.edu (postal.iol.unh.edu.
 [2606:4100:3880:1234::84]) by smtp-relay.gmail.com with ESMTPS id
 l64-20020a0de243000000b00555c71d3d50sm714039ywe.57.2023.04.23.06.50.46
 (version=TLS1_2 cipher=ECDHE-ECDSA-AES128-GCM-SHA256 bits=128/128);
 Sun, 23 Apr 2023 06:50:46 -0700 (PDT)
X-Relaying-Domain: iol.unh.edu
Date: Sun, 23 Apr 2023 06:50:46 -0700 (PDT)
Message-ID: <644537b6.0d0a0220.e21ef.8269SMTPIN_ADDED_MISSING@mx.google.com>
Received: from [172.17.0.3] (unknown [172.18.0.34])
 by postal.iol.unh.edu (Postfix) with ESMTP id 52505605246B;
 Sun, 23 Apr 2023 09:50:46 -0400 (EDT)
Subject: |SUCCESS| pw126434 [PATCH] [v2] crypto/uadk: set queue pair in
 dev_configure
From: dpdklab@iol.unh.edu
To: Test Report <test-report@dpdk.org>
Cc: dpdklab@iol.unh.edu, David Marchand <david.marchand@redhat.com>,
 Thomas Monjalon <thomas@monjalon.net>
Content-Type: text/plain
X-BeenThere: test-report@dpdk.org
X-Mailman-Version: 2.1.29
Precedence: list
List-Id: automatic DPDK test reports <test-report.dpdk.org>
List-Unsubscribe: <https://mails.dpdk.org/options/test-report>,
 <mailto:test-report-request@dpdk.org?subject=unsubscribe>
List-Archive: <http://mails.dpdk.org/archives/test-report/>
List-Post: <mailto:test-report@dpdk.org>
List-Help: <mailto:test-report-request@dpdk.org?subject=help>
List-Subscribe: <https://mails.dpdk.org/listinfo/test-report>,
 <mailto:test-report-request@dpdk.org?subject=subscribe>
Errors-To: test-report-bounces@dpdk.org

Test-Label: iol-abi-testing
Test-Status: SUCCESS
http://dpdk.org/patch/126434

_Testing PASS_

Submitter: Zhangfei Gao <zhangfei.gao@linaro.org>
Date: Sunday, April 23 2023 12:52:57 
DPDK git baseline: Repo:dpdk
  Branch: master
  CommitID:5f34cc454df420b9b2da8deb949fb76cba058b87

126434 --> testing pass

Test environment and result as below:

+------------------+----------+
|   Environment    | abi_test |
+==================+==========+
| Ubuntu 22.04     | PASS     |
+------------------+----------+
| openSUSE Leap 15 | PASS     |
+------------------+----------+
| Debian Buster    | PASS     |
+------------------+----------+
| CentOS Stream 8  | PASS     |
+------------------+----------+


Ubuntu 22.04
	Kernel: Container Host Kernel
	Compiler: gcc 12.2.1-2

openSUSE Leap 15
	Kernel: 4.18.0-240.10.1.el8_3.x86_64
	Compiler: gcc 7.5.0

Debian Buster
	Kernel: 5.4.0-122-generic
	Compiler: gcc 8.3.0-6

CentOS Stream 8
	Kernel: 4.18.0-240.10.1.el8_3.x86_64
	Compiler: gcc 8.4.1 20200928

To view detailed results, visit:
https://lab.dpdk.org/results/dashboard/patchsets/26097/

UNH-IOL DPDK Community Lab

To manage your email subscriptions, visit: 
https://lab.dpdk.org/results/dashboard/preferences/subscriptions/