From mboxrd@z Thu Jan  1 00:00:00 1970
Return-Path: <test-report-bounces@dpdk.org>
Received: from mails.dpdk.org (mails.dpdk.org [217.70.189.124])
	by inbox.dpdk.org (Postfix) with ESMTP id 57A43429D0
	for <public@inbox.dpdk.org>; Mon, 24 Apr 2023 05:02:57 +0200 (CEST)
Received: from mails.dpdk.org (localhost [127.0.0.1])
	by mails.dpdk.org (Postfix) with ESMTP id 5350C410EC;
	Mon, 24 Apr 2023 05:02:57 +0200 (CEST)
Received: from mail-pg1-f225.google.com (mail-pg1-f225.google.com
 [209.85.215.225])
 by mails.dpdk.org (Postfix) with ESMTP id 564C2410EC
 for <test-report@dpdk.org>; Mon, 24 Apr 2023 05:02:56 +0200 (CEST)
Received: by mail-pg1-f225.google.com with SMTP id
 41be03b00d2f7-51b0f9d7d70so4181513a12.1
 for <test-report@dpdk.org>; Sun, 23 Apr 2023 20:02:56 -0700 (PDT)
DKIM-Signature: v=1; a=rsa-sha256; c=relaxed/relaxed;
 d=iol.unh.edu; s=unh-iol; t=1682305375; x=1684897375;
 h=cc:to:from:subject:message-id:date:from:to:cc:subject:date
 :message-id:reply-to;
 bh=26/AkjPl/Tnhgt7Xafzg/ovazDyXHe/0tczUbz+icCw=;
 b=MuBA2iEfRk+ZzZZHq0LP/DnkJvVMYYwy2hu/VU9LtpfaF9Qzmie3FPcIcNV7mI440G
 vGTOxsJZRiZxEKLGMACJiYTddCtd6azyvgMaTXDZpkgMGrTY5oxpDo7CFrYdilLZkTcc
 +Z4uoGJLwoJMHUPqdmh3EnRzTFmEArh1DzBDg=
X-Google-DKIM-Signature: v=1; a=rsa-sha256; c=relaxed/relaxed;
 d=1e100.net; s=20221208; t=1682305375; x=1684897375;
 h=cc:to:from:subject:message-id:date:x-gm-message-state:from:to:cc
 :subject:date:message-id:reply-to;
 bh=26/AkjPl/Tnhgt7Xafzg/ovazDyXHe/0tczUbz+icCw=;
 b=EUUZLgIbtrV9drr65wyFYrvTiRuOv/RQrvyrCo68qiu7O8EXTp+GUe/a2WOGFpDYER
 3DwV4OFtlzi2BHfh+Q3dAtlFVjxf3WBCFOCAQTSedJqwlwwD90FEW9TbikEDHCV7A23D
 Thk0+8tnVxrPLPiSdX+132lLlfzIjxxAYrDcz0CeRv0B6rEw1cfdYivHKei6xu8SEzX3
 ThcY1CfuL0nGoz4NkqqleetIVMd1tDUmTF/uSZ0pzgxdu4snIOzw9MRtz0JrBMxylh1n
 uGNZospQMoSTNr9jWs7Ubi3cZ6nvtEPPtvZo6JXpeemo3X6axnB/PfrbwictXPu3FOF3
 rE1g==
X-Gm-Message-State: AAQBX9e9FMyHbYkPVI73M4HE1UNnytL8kMf5r1udu90Jb5YoN7cjU/QB
 dum8ZnB1XE9LcllBIaReYDp4pV2zUPIMyOAgXuihum//f78RCnQYesqI3u0p0+s1MLYzLPvKAA=
 =
X-Google-Smtp-Source: AKy350Zd4wyK3ZoicAsT+7JnVedJ6Df9puFsxleYMZwHqsPK5a72F6F/uw8avkfBPRHB3loCm+6IgPJlCQwB
X-Received: by 2002:a17:90b:46c8:b0:247:c0bd:b99a with SMTP id
 jx8-20020a17090b46c800b00247c0bdb99amr12335022pjb.31.1682305375600; 
 Sun, 23 Apr 2023 20:02:55 -0700 (PDT)
Received: from postal.iol.unh.edu (postal.iol.unh.edu.
 [2606:4100:3880:1234::84]) by smtp-relay.gmail.com with ESMTPS id
 il7-20020a17090b164700b0023cff26e825sm2655565pjb.0.2023.04.23.20.02.55
 (version=TLS1_2 cipher=ECDHE-ECDSA-AES128-GCM-SHA256 bits=128/128);
 Sun, 23 Apr 2023 20:02:55 -0700 (PDT)
X-Relaying-Domain: iol.unh.edu
Date: Sun, 23 Apr 2023 20:02:55 -0700 (PDT)
Message-ID: <6445f15f.170a0220.93cac.1490SMTPIN_ADDED_MISSING@mx.google.com>
Received: from [172.17.0.3] (unknown [172.18.0.34])
 by postal.iol.unh.edu (Postfix) with ESMTP id D686E605246B;
 Sun, 23 Apr 2023 23:02:54 -0400 (EDT)
Subject: |SUCCESS| pw126437 [PATCH] [v3] net/idpf: refine devargs parse
 functions
From: dpdklab@iol.unh.edu
To: Test Report <test-report@dpdk.org>
Cc: dpdklab@iol.unh.edu, David Marchand <david.marchand@redhat.com>,
 Thomas Monjalon <thomas@monjalon.net>
Content-Type: text/plain
X-BeenThere: test-report@dpdk.org
X-Mailman-Version: 2.1.29
Precedence: list
List-Id: automatic DPDK test reports <test-report.dpdk.org>
List-Unsubscribe: <https://mails.dpdk.org/options/test-report>,
 <mailto:test-report-request@dpdk.org?subject=unsubscribe>
List-Archive: <http://mails.dpdk.org/archives/test-report/>
List-Post: <mailto:test-report@dpdk.org>
List-Help: <mailto:test-report-request@dpdk.org?subject=help>
List-Subscribe: <https://mails.dpdk.org/listinfo/test-report>,
 <mailto:test-report-request@dpdk.org?subject=subscribe>
Errors-To: test-report-bounces@dpdk.org

Test-Label: iol-abi-testing
Test-Status: SUCCESS
http://dpdk.org/patch/126437

_Testing PASS_

Submitter: Mingxia Liu <mingxia.liu@intel.com>
Date: Monday, April 24 2023 10:43:41 
DPDK git baseline: Repo:dpdk
  Branch: master
  CommitID:70cc4e1fed665712e68f2f45d98dda4abc6accda

126437 --> testing pass

Test environment and result as below:

+------------------+----------+
|   Environment    | abi_test |
+==================+==========+
| CentOS Stream 9  | PASS     |
+------------------+----------+
| Ubuntu 22.04     | PASS     |
+------------------+----------+
| openSUSE Leap 15 | PASS     |
+------------------+----------+
| RHEL 7           | PASS     |
+------------------+----------+


CentOS Stream 9
	Kernel: 4.18.0-240.10.1.el8_3.x86_64
	Compiler: gcc 11.3.1 20220421

Ubuntu 22.04
	Kernel: Container Host Kernel
	Compiler: gcc 11.3.1-2

openSUSE Leap 15
	Kernel: 4.18.0-240.10.1.el8_3.x86_64
	Compiler: gcc 7.5.0

RHEL 7
	Kernel: 4.18.0-240.10.1.el8_3.x86_64
	Compiler: gcc 4.8.5 20150623 (Red Hat 4.8.5-44)

To view detailed results, visit:
https://lab.dpdk.org/results/dashboard/patchsets/26099/

UNH-IOL DPDK Community Lab

To manage your email subscriptions, visit: 
https://lab.dpdk.org/results/dashboard/preferences/subscriptions/