From mboxrd@z Thu Jan  1 00:00:00 1970
Return-Path: <test-report-bounces@dpdk.org>
Received: from mails.dpdk.org (mails.dpdk.org [217.70.189.124])
	by inbox.dpdk.org (Postfix) with ESMTP id 3D8A3429DD
	for <public@inbox.dpdk.org>; Mon, 24 Apr 2023 18:58:00 +0200 (CEST)
Received: from mails.dpdk.org (localhost [127.0.0.1])
	by mails.dpdk.org (Postfix) with ESMTP id 357724013F;
	Mon, 24 Apr 2023 18:58:00 +0200 (CEST)
Received: from mail-il1-f228.google.com (mail-il1-f228.google.com
 [209.85.166.228])
 by mails.dpdk.org (Postfix) with ESMTP id 61A574013F
 for <test-report@dpdk.org>; Mon, 24 Apr 2023 18:57:59 +0200 (CEST)
Received: by mail-il1-f228.google.com with SMTP id
 e9e14a558f8ab-329518648ebso39852515ab.0
 for <test-report@dpdk.org>; Mon, 24 Apr 2023 09:57:59 -0700 (PDT)
DKIM-Signature: v=1; a=rsa-sha256; c=relaxed/relaxed;
 d=iol.unh.edu; s=unh-iol; t=1682355479; x=1684947479;
 h=cc:to:from:subject:message-id:date:from:to:cc:subject:date
 :message-id:reply-to;
 bh=Ot1e1YAQw1u79s+E4Bi+WgGS+Ppa6Sc71e0Em27qyks=;
 b=QsEz4/o4Dm1MZP+Msk3Z8BWB4CeXqBnZmlU2EWN2wIWcuCna4rc3LgaaULte2lZI2o
 5LPt0ez5oD8pE+pS+lcnDKN3QKAnnoSyscDRsXhb0nH8QxAZJoO+tlYVhhPR9U8sY+GJ
 bBBJxBNcbJ1tA3urNz3X3pQQ+kFj77CmZJTXU=
X-Google-DKIM-Signature: v=1; a=rsa-sha256; c=relaxed/relaxed;
 d=1e100.net; s=20221208; t=1682355479; x=1684947479;
 h=cc:to:from:subject:message-id:date:x-gm-message-state:from:to:cc
 :subject:date:message-id:reply-to;
 bh=Ot1e1YAQw1u79s+E4Bi+WgGS+Ppa6Sc71e0Em27qyks=;
 b=SXSZHIFSAieREfH0qXxTfWyt+G1RuMX3liHGsKZCddewIBC1bJYU7P0gVJW8luLFAt
 Q+p/Wb2arX55GxL9mawe+XRsqTuRVKTBdI16SSHFZ6LPmbw5YysEQJ0Swl0e9F+G2stE
 1TmPdmdArguwKgU7ViShkUIefPYfaMIyXkFQ+WKVM6ozmFa+wLwZPeszdPDAs/knW96r
 kylK1+oSo09qG2USgQfgGXKxzFTG0oXSydRAgig/xBcsLrbjhCBeXEKBFxPF3dkDnD3y
 YNjEd49NomwFCu6F++Bys0EqS8lrmqsMPQH1WFNgIyJq1Zokm+SW2SoIbod7dSY/TLAG
 /ZhQ==
X-Gm-Message-State: AAQBX9fOLzbylT0y9M6R2ejKXnh/udv822z8xMh44N5MWsvqWAO+OlSF
 pHS8a/Jm3+v4w6hkA0rClY1BxXdjDakkCvtY8BYkI8kYjC37yQCsFicBiw==
X-Google-Smtp-Source: AKy350ZFEeGHek8WaxrPOQlKcG+F0VrFgO2UZB0ffwWAVwttafGzeOy9xwWO5M1JcNoVdzHZ6VYtushcdtnQ
X-Received: by 2002:a05:6e02:6c9:b0:318:a732:2b6f with SMTP id
 p9-20020a056e0206c900b00318a7322b6fmr6215862ils.20.1682355478817; 
 Mon, 24 Apr 2023 09:57:58 -0700 (PDT)
Received: from postal.iol.unh.edu (postal.iol.unh.edu. [132.177.123.84])
 by smtp-relay.gmail.com with ESMTPS id
 r17-20020a056638131100b003e9a6e92af8sm995381jad.31.2023.04.24.09.57.58
 (version=TLS1_2 cipher=ECDHE-ECDSA-AES128-GCM-SHA256 bits=128/128);
 Mon, 24 Apr 2023 09:57:58 -0700 (PDT)
X-Relaying-Domain: iol.unh.edu
Date: Mon, 24 Apr 2023 09:57:58 -0700 (PDT)
Message-ID: <6446b516.050a0220.c8a80.6a29SMTPIN_ADDED_MISSING@mx.google.com>
Received: from [172.17.0.3] (unknown [172.18.0.34])
 by postal.iol.unh.edu (Postfix) with ESMTP id 5E93F605246B;
 Mon, 24 Apr 2023 12:57:58 -0400 (EDT)
Subject: |SUCCESS| pw126447 [PATCH] cryptodev: clarify error codes returned
From: dpdklab@iol.unh.edu
To: Test Report <test-report@dpdk.org>
Cc: dpdklab@iol.unh.edu, David Marchand <david.marchand@redhat.com>,
 Thomas Monjalon <thomas@monjalon.net>
Content-Type: text/plain
X-BeenThere: test-report@dpdk.org
X-Mailman-Version: 2.1.29
Precedence: list
List-Id: automatic DPDK test reports <test-report.dpdk.org>
List-Unsubscribe: <https://mails.dpdk.org/options/test-report>,
 <mailto:test-report-request@dpdk.org?subject=unsubscribe>
List-Archive: <http://mails.dpdk.org/archives/test-report/>
List-Post: <mailto:test-report@dpdk.org>
List-Help: <mailto:test-report-request@dpdk.org?subject=help>
List-Subscribe: <https://mails.dpdk.org/listinfo/test-report>,
 <mailto:test-report-request@dpdk.org?subject=subscribe>
Errors-To: test-report-bounces@dpdk.org

Test-Label: iol-abi-testing
Test-Status: SUCCESS
http://dpdk.org/patch/126447

_Testing PASS_

Submitter: Anoob Joseph <anoobj@marvell.com>
Date: Monday, April 24 2023 09:19:20 
DPDK git baseline: Repo:dpdk
  Branch: master
  CommitID:70cc4e1fed665712e68f2f45d98dda4abc6accda

126447 --> testing pass

Test environment and result as below:

+------------------+----------+
|   Environment    | abi_test |
+==================+==========+
| Ubuntu 22.04     | PASS     |
+------------------+----------+
| Debian Buster    | PASS     |
+------------------+----------+
| CentOS Stream 8  | PASS     |
+------------------+----------+
| Debian Bullseye  | PASS     |
+------------------+----------+
| openSUSE Leap 15 | PASS     |
+------------------+----------+
| RHEL 7           | PASS     |
+------------------+----------+


Ubuntu 22.04
	Kernel: Container Host Kernel
	Compiler: clang 14.0.5-1.fc36

Debian Buster
	Kernel: 5.4.0-122-generic
	Compiler: gcc 8.3.0-6

CentOS Stream 8
	Kernel: 4.18.0-240.10.1.el8_3.x86_64
	Compiler: gcc 8.4.1 20200928

Debian Bullseye
	Kernel: 5.4.0-122-generic
	Compiler: gcc 10.2.1-6

openSUSE Leap 15
	Kernel: 4.18.0-240.10.1.el8_3.x86_64
	Compiler: gcc 7.5.0

RHEL 7
	Kernel: 4.18.0-240.10.1.el8_3.x86_64
	Compiler: gcc 4.8.5 20150623 (Red Hat 4.8.5-44)

To view detailed results, visit:
https://lab.dpdk.org/results/dashboard/patchsets/26103/

UNH-IOL DPDK Community Lab

To manage your email subscriptions, visit: 
https://lab.dpdk.org/results/dashboard/preferences/subscriptions/