From mboxrd@z Thu Jan  1 00:00:00 1970
Return-Path: <test-report-bounces@dpdk.org>
Received: from mails.dpdk.org (mails.dpdk.org [217.70.189.124])
	by inbox.dpdk.org (Postfix) with ESMTP id A9D08429E1
	for <public@inbox.dpdk.org>; Mon, 24 Apr 2023 23:00:56 +0200 (CEST)
Received: from mails.dpdk.org (localhost [127.0.0.1])
	by mails.dpdk.org (Postfix) with ESMTP id A35024013F;
	Mon, 24 Apr 2023 23:00:56 +0200 (CEST)
Received: from mail-pl1-f226.google.com (mail-pl1-f226.google.com
 [209.85.214.226])
 by mails.dpdk.org (Postfix) with ESMTP id 9E9A24013F
 for <test-report@dpdk.org>; Mon, 24 Apr 2023 23:00:55 +0200 (CEST)
Received: by mail-pl1-f226.google.com with SMTP id
 d9443c01a7336-1a67bcde3a7so54570115ad.3
 for <test-report@dpdk.org>; Mon, 24 Apr 2023 14:00:55 -0700 (PDT)
DKIM-Signature: v=1; a=rsa-sha256; c=relaxed/relaxed;
 d=iol.unh.edu; s=unh-iol; t=1682370054; x=1684962054;
 h=cc:to:from:subject:message-id:date:from:to:cc:subject:date
 :message-id:reply-to;
 bh=y9xJ6kvcSXKX7qt1/R9hK1cw/hzaKqJoEfLs82uTdGM=;
 b=GOtCqo93pFYrqsPw9b4sTYila0l/2R/kGSdm9phIgxFvLJf5yAra5x8r5zVKDxIsM4
 rhDmEYnXmzwcm2tg33A3Lm5rUtfMmBewedRDx0/s2UY3q4zmOQxS3tT43e5bT6CH09qP
 fYe8nCd6/7erc+Z8bwnkO/n7jvaTMrt7Xn7WE=
X-Google-DKIM-Signature: v=1; a=rsa-sha256; c=relaxed/relaxed;
 d=1e100.net; s=20221208; t=1682370054; x=1684962054;
 h=cc:to:from:subject:message-id:date:x-gm-message-state:from:to:cc
 :subject:date:message-id:reply-to;
 bh=y9xJ6kvcSXKX7qt1/R9hK1cw/hzaKqJoEfLs82uTdGM=;
 b=P3pBU0FPPYjDjvIJ1viF/w6IGkKo3tJIr2iUXZ4v6ZdYAUSXEhYHabWd8mh3jDOA2o
 u35rcAAAz2JBsQK4cI+u9cMMZufPblKz0pE1Z5n416qfNKrIkdveaJIFhQ9OvgsV/6An
 JgDlWpDIByd1HtAwEx7zp5AWFnXfZuEz3H6OQk3Qd7bxUPeiMEX4uypBltAOL1RQ6/fF
 uF6r9Z1ijvGQVxwlet2r22xf6vwD2KGSkbgJziBdBneF2JSfEkmncqYd8Ol7Ix9inwpR
 0+oUD8ncO2YKxLMKzalOrxV9A7SLA5KClRUILvNFCv/YZLfEXuZzEGKBLfrod0pujMCa
 6lQw==
X-Gm-Message-State: AC+VfDxSHcmYAnBz4sjCwPbot/mb9g/rGOAo7jxVQOW+f79TsCntaI85
 A00kes3MZT6/YvT1L/ChhQEip14FRj4LlbNYTt1fG8Mf/z2b49XAWp7uojfsCTjU3hWyOMkaKA=
 =
X-Google-Smtp-Source: ACHHUZ7ndKNAaSPMUnM1bgFNw1ZWnytmZbyujDy8+6GWBLsmbFxV5twu0rZz9jYHklqNQF2QBryvIFPMQ3v6
X-Received: by 2002:a17:902:d4cb:b0:1a9:7eea:2626 with SMTP id
 o11-20020a170902d4cb00b001a97eea2626mr3610011plg.10.1682370054676; 
 Mon, 24 Apr 2023 14:00:54 -0700 (PDT)
Received: from postal.iol.unh.edu (postal.iol.unh.edu.
 [2606:4100:3880:1234::84]) by smtp-relay.gmail.com with ESMTPS id
 ja9-20020a170902efc900b001a6d647b010sm429677plb.5.2023.04.24.14.00.54
 (version=TLS1_2 cipher=ECDHE-ECDSA-AES128-GCM-SHA256 bits=128/128);
 Mon, 24 Apr 2023 14:00:54 -0700 (PDT)
X-Relaying-Domain: iol.unh.edu
Date: Mon, 24 Apr 2023 14:00:54 -0700 (PDT)
Message-ID: <6446ee06.170a0220.5e22c.e5f7SMTPIN_ADDED_MISSING@mx.google.com>
Received: from [172.17.0.3] (unknown [172.18.0.34])
 by postal.iol.unh.edu (Postfix) with ESMTP id EF4F9605246B;
 Mon, 24 Apr 2023 17:00:53 -0400 (EDT)
Subject: |SUCCESS| pw126456 [PATCH] [v2] net/ixgbe: add proper memory barriers
 for some Rx functions
From: dpdklab@iol.unh.edu
To: Test Report <test-report@dpdk.org>
Cc: dpdklab@iol.unh.edu, David Marchand <david.marchand@redhat.com>,
 Thomas Monjalon <thomas@monjalon.net>
Content-Type: text/plain
X-BeenThere: test-report@dpdk.org
X-Mailman-Version: 2.1.29
Precedence: list
List-Id: automatic DPDK test reports <test-report.dpdk.org>
List-Unsubscribe: <https://mails.dpdk.org/options/test-report>,
 <mailto:test-report-request@dpdk.org?subject=unsubscribe>
List-Archive: <http://mails.dpdk.org/archives/test-report/>
List-Post: <mailto:test-report@dpdk.org>
List-Help: <mailto:test-report-request@dpdk.org?subject=help>
List-Subscribe: <https://mails.dpdk.org/listinfo/test-report>,
 <mailto:test-report-request@dpdk.org?subject=subscribe>
Errors-To: test-report-bounces@dpdk.org

Test-Label: iol-aarch64-unit-testing
Test-Status: SUCCESS
http://dpdk.org/patch/126456

_Testing PASS_

Submitter: zhoumin <zhoumin@loongson.cn>
Date: Monday, April 24 2023 09:05:32 
DPDK git baseline: Repo:dpdk
  Branch: master
  CommitID:70cc4e1fed665712e68f2f45d98dda4abc6accda

126456 --> testing pass

Test environment and result as below:

+----------------------+---------------------------+------------------------------+--------------+
|     Environment      | cryptodev_sw_zuc_autotest | cryptodev_sw_snow3g_autotest | lpm_autotest |
+======================+===========================+==============================+==============+
| Debian 11            | PASS                      | PASS                         | SKIPPED      |
+----------------------+---------------------------+------------------------------+--------------+
| Ubuntu 20.04 ARM SVE | SKIPPED                   | SKIPPED                      | PASS         |
+----------------------+---------------------------+------------------------------+--------------+


Debian 11
	Kernel: Container Host Kernel
	Compiler: gcc 10.2.1

Ubuntu 20.04 ARM SVE
	Kernel: 5.4.0-80-generic
	Compiler: gcc 10.3.0 (Ubuntu 10.3.0-1ubuntu1~20.04)

To view detailed results, visit:
https://lab.dpdk.org/results/dashboard/patchsets/26105/

UNH-IOL DPDK Community Lab

To manage your email subscriptions, visit: 
https://lab.dpdk.org/results/dashboard/preferences/subscriptions/