From mboxrd@z Thu Jan  1 00:00:00 1970
Return-Path: <test-report-bounces@dpdk.org>
Received: from mails.dpdk.org (mails.dpdk.org [217.70.189.124])
	by inbox.dpdk.org (Postfix) with ESMTP id 5BE25429EC
	for <public@inbox.dpdk.org>; Tue, 25 Apr 2023 17:47:29 +0200 (CEST)
Received: from mails.dpdk.org (localhost [127.0.0.1])
	by mails.dpdk.org (Postfix) with ESMTP id 3CD2A40395;
	Tue, 25 Apr 2023 17:47:29 +0200 (CEST)
Received: from mail-qv1-f99.google.com (mail-qv1-f99.google.com
 [209.85.219.99]) by mails.dpdk.org (Postfix) with ESMTP id 4611840395
 for <test-report@dpdk.org>; Tue, 25 Apr 2023 17:47:27 +0200 (CEST)
Received: by mail-qv1-f99.google.com with SMTP id
 6a1803df08f44-5ef54bcded4so26692626d6.1
 for <test-report@dpdk.org>; Tue, 25 Apr 2023 08:47:27 -0700 (PDT)
DKIM-Signature: v=1; a=rsa-sha256; c=relaxed/relaxed;
 d=iol.unh.edu; s=unh-iol; t=1682437646; x=1685029646;
 h=cc:to:from:subject:message-id:date:from:to:cc:subject:date
 :message-id:reply-to;
 bh=b60mybj3vGf+zvk2Ggu910CP91PqELARHdznXApUrn0=;
 b=dA/vkaWhTSELGpnN2/ZioiRP2gulmM/PiAAnaiDkXe9GtP2aUngt/2Q7uYtv02hHSG
 4Ee16IYn5Cu3pcTC6l7K2qv575SMpE2YOuvbNadMbUWF6x1V+GT5PmnXrpTzy4oCeufa
 Ri7TldGLF5apSEw/LFoDftoLPTvZL+k4UR/Ec=
X-Google-DKIM-Signature: v=1; a=rsa-sha256; c=relaxed/relaxed;
 d=1e100.net; s=20221208; t=1682437646; x=1685029646;
 h=cc:to:from:subject:message-id:date:x-gm-message-state:from:to:cc
 :subject:date:message-id:reply-to;
 bh=b60mybj3vGf+zvk2Ggu910CP91PqELARHdznXApUrn0=;
 b=F/5saMNvj9mSJF3Aj8+tM6t2vIVABXY2+eUZ4mDIg6J7hzclWarxVMhuvit7/HutQk
 W6b64YDDSEvajS62vuE+DHg2He/+nePB8pMNDxILlyCWYe4KFObSYsJfOEbivytTCYoY
 so1TQPO10RtYc2Z3TRMlBByV+saOe7FJL/tY/3P5aU70PRtpzhsqqe9CU3v/Dtwn1mi2
 Ua72LfanmnROoB0zw0H/kMvenX2XNgPERtJJwokxW50xmvB0zlZfqm22MTfl4WMCyyOF
 RRyUE4nuUHzd9JoTQwxspV7Qp04ZMUnoSFK0YS7CmdqCbeo0X28+gTBTr61E1jc0y0+x
 bPsg==
X-Gm-Message-State: AAQBX9eoffrdlXPYRnmeqEyiddVqxJKqDxlIq3UF+POhKXwCvTKVBSja
 AfdrSM69c2sY+eZZJGBuT5iV1Wxg4LYwAdeViOkviAI1J+DXvRvmnUPmaQ==
X-Google-Smtp-Source: AKy350YbBa25pkVzL94AcsynqJV7vJJoiBlaC8IPzPvK9tNJyivdSFBEL1VJIzErx8dwjVM8CCP89wNnSoHQ
X-Received: by 2002:ad4:5d6a:0:b0:5e7:f7eb:d87 with SMTP id
 fn10-20020ad45d6a000000b005e7f7eb0d87mr30861104qvb.47.1682437646600; 
 Tue, 25 Apr 2023 08:47:26 -0700 (PDT)
Received: from postal.iol.unh.edu (postal.iol.unh.edu. [132.177.123.84])
 by smtp-relay.gmail.com with ESMTPS id
 y16-20020ad45310000000b005e3ca68d7b9sm675684qvr.72.2023.04.25.08.47.26
 (version=TLS1_2 cipher=ECDHE-ECDSA-AES128-GCM-SHA256 bits=128/128);
 Tue, 25 Apr 2023 08:47:26 -0700 (PDT)
X-Relaying-Domain: iol.unh.edu
Date: Tue, 25 Apr 2023 08:47:26 -0700 (PDT)
Message-ID: <6447f60e.d40a0220.fd2e3.6dfbSMTPIN_ADDED_MISSING@mx.google.com>
Received: from [172.17.0.3] (unknown [172.18.0.34])
 by postal.iol.unh.edu (Postfix) with ESMTP id 54C32605246B;
 Tue, 25 Apr 2023 11:47:26 -0400 (EDT)
Subject: |SUCCESS| pw126502-126506 [PATCH] [5/5] net/cnxk: add mempool check
 for frag attach
From: dpdklab@iol.unh.edu
To: Test Report <test-report@dpdk.org>
Cc: Rahul Bhansali <rbhansali@marvell.com>,
 David Marchand <david.marchand@redhat.com>,
 Thomas Monjalon <thomas@monjalon.net>
Content-Type: text/plain
X-BeenThere: test-report@dpdk.org
X-Mailman-Version: 2.1.29
Precedence: list
List-Id: automatic DPDK test reports <test-report.dpdk.org>
List-Unsubscribe: <https://mails.dpdk.org/options/test-report>,
 <mailto:test-report-request@dpdk.org?subject=unsubscribe>
List-Archive: <http://mails.dpdk.org/archives/test-report/>
List-Post: <mailto:test-report@dpdk.org>
List-Help: <mailto:test-report-request@dpdk.org?subject=help>
List-Subscribe: <https://mails.dpdk.org/listinfo/test-report>,
 <mailto:test-report-request@dpdk.org?subject=subscribe>
Errors-To: test-report-bounces@dpdk.org

Test-Label: iol-abi-testing
Test-Status: SUCCESS
http://dpdk.org/patch/126506

_Testing PASS_

Submitter: Rahul Bhansali <rbhansali@marvell.com>
Date: Tuesday, April 25 2023 10:40:10 
DPDK git baseline: Repo:dpdk
  Branch: master
  CommitID:70cc4e1fed665712e68f2f45d98dda4abc6accda

126502-126506 --> testing pass

Test environment and result as below:

+-----------------+----------+
|   Environment   | abi_test |
+=================+==========+
| CentOS Stream 9 | PASS     |
+-----------------+----------+
| Ubuntu 22.04    | PASS     |
+-----------------+----------+
| CentOS Stream 8 | PASS     |
+-----------------+----------+
| Debian Buster   | PASS     |
+-----------------+----------+


CentOS Stream 9
	Kernel: 4.18.0-240.10.1.el8_3.x86_64
	Compiler: gcc 11.3.1 20220421

Ubuntu 22.04
	Kernel: Container Host Kernel
	Compiler: clang 14.0.5-1.fc36

CentOS Stream 8
	Kernel: 4.18.0-240.10.1.el8_3.x86_64
	Compiler: gcc 8.4.1 20200928

Debian Buster
	Kernel: 5.4.0-122-generic
	Compiler: gcc 8.3.0-6

To view detailed results, visit:
https://lab.dpdk.org/results/dashboard/patchsets/26116/

UNH-IOL DPDK Community Lab

To manage your email subscriptions, visit: 
https://lab.dpdk.org/results/dashboard/preferences/subscriptions/