From mboxrd@z Thu Jan  1 00:00:00 1970
Return-Path: <test-report-bounces@dpdk.org>
Received: from mails.dpdk.org (mails.dpdk.org [217.70.189.124])
	by inbox.dpdk.org (Postfix) with ESMTP id B83B6429DE
	for <public@inbox.dpdk.org>; Tue, 25 Apr 2023 23:30:27 +0200 (CEST)
Received: from mails.dpdk.org (localhost [127.0.0.1])
	by mails.dpdk.org (Postfix) with ESMTP id 915B640ED6;
	Tue, 25 Apr 2023 23:30:27 +0200 (CEST)
Received: from mail-il1-f227.google.com (mail-il1-f227.google.com
 [209.85.166.227])
 by mails.dpdk.org (Postfix) with ESMTP id C0D5740ED6
 for <test-report@dpdk.org>; Tue, 25 Apr 2023 23:30:25 +0200 (CEST)
Received: by mail-il1-f227.google.com with SMTP id
 e9e14a558f8ab-3294fd17f1cso15193935ab.1
 for <test-report@dpdk.org>; Tue, 25 Apr 2023 14:30:25 -0700 (PDT)
DKIM-Signature: v=1; a=rsa-sha256; c=relaxed/relaxed;
 d=iol.unh.edu; s=unh-iol; t=1682458225; x=1685050225;
 h=cc:to:from:subject:message-id:date:from:to:cc:subject:date
 :message-id:reply-to;
 bh=sqnrE+7RkgLiRxeQgeDEEYlsfVrliPXx25jm0PKPoG8=;
 b=CynOkPkIBUBMFxN4ravWNuKgkDLlRNIjHYKFqHnQhMQ9A4N+Qt6kX+gWdt+NxOIayy
 HU8cMcGC3ep7ERomawYBXpsjwbCcs3pkcR5Ak8EK8mAXeRQ46TNmMwyeA3e50qgn1UrJ
 9vNU4d6948jw+zVre+EnhIuuso3g427hg/Tm4=
X-Google-DKIM-Signature: v=1; a=rsa-sha256; c=relaxed/relaxed;
 d=1e100.net; s=20221208; t=1682458225; x=1685050225;
 h=cc:to:from:subject:message-id:date:x-gm-message-state:from:to:cc
 :subject:date:message-id:reply-to;
 bh=sqnrE+7RkgLiRxeQgeDEEYlsfVrliPXx25jm0PKPoG8=;
 b=d34UQxcMc3LgMil1O/2TgcxCO4iod1hWZMF8ZAWNXIgK2q3LTaKnoYCbXNLcRKmRmJ
 ED0P7NrcF3BJouF3WNI7OhG5neoEEkgBo/YcoH3U0mhQdPt/r62/jLUbldGEf/QCDAHY
 unVgfpvK+q/dpfW5r+CCk0kquVkFvDXY82roZ/Cufsk9db4OimPfxYGrzi393foh/SKT
 RwUDXU5HSlk08LIfk9v88jBkRz2O6Mh6mLKvrcFDZ5z4EeOT00LHn2nNsL7Ic6MmuA2s
 yzOJH8xhAKfFJis7FO8hjyIPeNhDBsUQ4GtNeKXNhE0tYPun9hJH6t0+0OqtBPhQMyNC
 9ogw==
X-Gm-Message-State: AAQBX9cCwdkKeMXuOg9VnavcpY7j7IZwSACjoNrN/3+iktK/GdbWEQyt
 ZCEBbja+oTxZAYFybDHwtdIeUulHx/Cf2AE6R93zlcpX8kubbQ1hLyU44w==
X-Google-Smtp-Source: AKy350aPP7tiDmkcUTVGsZPgv/mvcUMniL/ro1hlI+lvbDlZd1hVoEHFiioqYpdmLvdbaOtDosl7JLxPHclN
X-Received: by 2002:a05:6e02:610:b0:329:4f9c:e06c with SMTP id
 t16-20020a056e02061000b003294f9ce06cmr7823536ils.28.1682458225166; 
 Tue, 25 Apr 2023 14:30:25 -0700 (PDT)
Received: from postal.iol.unh.edu (postal.iol.unh.edu. [132.177.123.84])
 by smtp-relay.gmail.com with ESMTPS id
 s17-20020a92cb11000000b0031d01c9b5bdsm814539ilo.11.2023.04.25.14.30.25
 (version=TLS1_2 cipher=ECDHE-ECDSA-AES128-GCM-SHA256 bits=128/128);
 Tue, 25 Apr 2023 14:30:25 -0700 (PDT)
X-Relaying-Domain: iol.unh.edu
Date: Tue, 25 Apr 2023 14:30:25 -0700 (PDT)
Message-ID: <64484671.920a0220.1430c.9e33SMTPIN_ADDED_MISSING@mx.google.com>
Received: from [172.17.0.3] (unknown [172.18.0.34])
 by postal.iol.unh.edu (Postfix) with ESMTP id C82D4605246B;
 Tue, 25 Apr 2023 17:30:24 -0400 (EDT)
Subject: |SUCCESS| pw126484-126485 [PATCH] [2/2] net/sfc: invalidate dangling
 MAE flow action FW resource IDs
From: dpdklab@iol.unh.edu
To: Test Report <test-report@dpdk.org>
Cc: dpdklab@iol.unh.edu, David Marchand <david.marchand@redhat.com>,
 Thomas Monjalon <thomas@monjalon.net>
Content-Type: text/plain
X-BeenThere: test-report@dpdk.org
X-Mailman-Version: 2.1.29
Precedence: list
List-Id: automatic DPDK test reports <test-report.dpdk.org>
List-Unsubscribe: <https://mails.dpdk.org/options/test-report>,
 <mailto:test-report-request@dpdk.org?subject=unsubscribe>
List-Archive: <http://mails.dpdk.org/archives/test-report/>
List-Post: <mailto:test-report@dpdk.org>
List-Help: <mailto:test-report-request@dpdk.org?subject=help>
List-Subscribe: <https://mails.dpdk.org/listinfo/test-report>,
 <mailto:test-report-request@dpdk.org?subject=subscribe>
Errors-To: test-report-bounces@dpdk.org

Test-Label: iol-abi-testing
Test-Status: SUCCESS
http://dpdk.org/patch/126485

_Testing PASS_

Submitter: Ivan Malov <ivan.malov@arknetworks.am>
Date: Monday, April 24 2023 14:30:46 
DPDK git baseline: Repo:dpdk
  Branch: master
  CommitID:d03446724972d2a1bb645ce7f3e64f5ef0203d61

126484-126485 --> testing pass

Test environment and result as below:

+-----------------+----------+
|   Environment   | abi_test |
+=================+==========+
| Debian Bullseye | PASS     |
+-----------------+----------+
| RHEL 7          | PASS     |
+-----------------+----------+
| Ubuntu 22.04    | PASS     |
+-----------------+----------+
| RHEL8           | PASS     |
+-----------------+----------+
| CentOS Stream 8 | PASS     |
+-----------------+----------+


Debian Bullseye
	Kernel: 5.4.0-122-generic
	Compiler: gcc 10.2.1-6

RHEL 7
	Kernel: 4.18.0-240.10.1.el8_3.x86_64
	Compiler: gcc 4.8.5 20150623 (Red Hat 4.8.5-44)

Ubuntu 22.04
	Kernel: Container Host Kernel
	Compiler: gcc 11.3.1-2

RHEL8
	Kernel: 4.18.0-240.10.1.el8_3.x86_64
	Compiler: gcc 8.3.1 20191121 (Red Hat 8.3.1-5)

CentOS Stream 8
	Kernel: 4.18.0-240.10.1.el8_3.x86_64
	Compiler: gcc 8.4.1 20200928

To view detailed results, visit:
https://lab.dpdk.org/results/dashboard/patchsets/26113/

UNH-IOL DPDK Community Lab

To manage your email subscriptions, visit: 
https://lab.dpdk.org/results/dashboard/preferences/subscriptions/