From mboxrd@z Thu Jan  1 00:00:00 1970
Return-Path: <test-report-bounces@dpdk.org>
Received: from mails.dpdk.org (mails.dpdk.org [217.70.189.124])
	by inbox.dpdk.org (Postfix) with ESMTP id 80832429CA
	for <public@inbox.dpdk.org>; Wed, 26 Apr 2023 01:10:28 +0200 (CEST)
Received: from mails.dpdk.org (localhost [127.0.0.1])
	by mails.dpdk.org (Postfix) with ESMTP id 59195410D0;
	Wed, 26 Apr 2023 01:10:28 +0200 (CEST)
Received: from mail-yb1-f225.google.com (mail-yb1-f225.google.com
 [209.85.219.225])
 by mails.dpdk.org (Postfix) with ESMTP id D8A1E410D0
 for <test-report@dpdk.org>; Wed, 26 Apr 2023 01:10:27 +0200 (CEST)
Received: by mail-yb1-f225.google.com with SMTP id
 3f1490d57ef6-b992ed878ebso20634943276.0
 for <test-report@dpdk.org>; Tue, 25 Apr 2023 16:10:27 -0700 (PDT)
DKIM-Signature: v=1; a=rsa-sha256; c=relaxed/relaxed;
 d=iol.unh.edu; s=unh-iol; t=1682464227; x=1685056227;
 h=cc:to:from:subject:message-id:date:from:to:cc:subject:date
 :message-id:reply-to;
 bh=w85Y8f5QUtegqYNC5RIKW72GIcFX1jvQLiQt8QQhmEM=;
 b=PWh8J+8QE4CTN6oohL8egOEu8lYS29Q+/S87kC4Bnif7xKHkU1IwnYd9tBo1z0yCrC
 93g42Frct6Ei9htrfwbrHRfoGFq9GIxRcr4mglduXMnMeiJaunWODRA+9DhmWoBEoGqV
 Ug3jhgy4150oOzJXBDSanX2B10/GR208ZxYis=
X-Google-DKIM-Signature: v=1; a=rsa-sha256; c=relaxed/relaxed;
 d=1e100.net; s=20221208; t=1682464227; x=1685056227;
 h=cc:to:from:subject:message-id:date:x-gm-message-state:from:to:cc
 :subject:date:message-id:reply-to;
 bh=w85Y8f5QUtegqYNC5RIKW72GIcFX1jvQLiQt8QQhmEM=;
 b=Ps68QGdIgq+zhFLRqbGgC6Vm0u0j1WigU7MuYCpUHD/MwjHL/2DWcuiaTNY3s2id8J
 F49MbP0D/zgUpYAeYpd5XVYjic5ymvo1fi8QNmAWNdwwD1ukR7FKKA48hVQ9Xu49Vitb
 LgG4ldkgCfSQCRRuFjtzofC6CCcmzHAx2WXsA7Sev5aqY0fuS9wWKLCZ+nAAdX52r/kp
 Vi2/RyjdoA6EeVz3CNpwkM87wyNkagMySTLr1wuVw7U3wCuxn/ix+d0COloc+Wslpt8C
 gWSfxLk86qZEUzrduu/hbbKA4roYR8SerMbxWty1kvwIL7LwIrDfhd6i3mdmX5fWvH/Q
 pXeg==
X-Gm-Message-State: AC+VfDwUzYKQmKJMCh9vNLl7jX2drWD5mnSD4osv7ArOIX+1/KlTlt09
 tTE6tyVZM3AfoRWq4ECXnGEblWzJhYbkB+T9pm8UAJh+TAl2pgMAGKNWZw==
X-Google-Smtp-Source: ACHHUZ4zdgl2uNnflw8SEt8vU81z4ppSd02pfAIssfrv7Li6bvATSTadz+YDfUPlZUvSwoteu5xBTxbwcAj4
X-Received: by 2002:a25:6586:0:b0:b98:c5a1:b22e with SMTP id
 z128-20020a256586000000b00b98c5a1b22emr394109ybb.27.1682464227096; 
 Tue, 25 Apr 2023 16:10:27 -0700 (PDT)
Received: from postal.iol.unh.edu (postal.iol.unh.edu. [132.177.123.84])
 by smtp-relay.gmail.com with ESMTPS id
 h15-20020a5b0a8f000000b00b991b3e29e8sm841486ybq.2.2023.04.25.16.10.27
 (version=TLS1_2 cipher=ECDHE-ECDSA-AES128-GCM-SHA256 bits=128/128);
 Tue, 25 Apr 2023 16:10:27 -0700 (PDT)
X-Relaying-Domain: iol.unh.edu
Date: Tue, 25 Apr 2023 16:10:27 -0700 (PDT)
Message-ID: <64485de3.5b0a0220.181cc.d04aSMTPIN_ADDED_MISSING@mx.google.com>
Received: from [172.17.0.3] (unknown [172.18.0.34])
 by postal.iol.unh.edu (Postfix) with ESMTP id B1267605246B;
 Tue, 25 Apr 2023 19:10:26 -0400 (EDT)
Subject: |SUCCESS| pw126513-126515 [PATCH] [v2,
 3/3] app/eventdev: prevent mempool exhaustion
From: dpdklab@iol.unh.edu
To: Test Report <test-report@dpdk.org>
Cc: dpdklab@iol.unh.edu, David Marchand <david.marchand@redhat.com>,
 Thomas Monjalon <thomas@monjalon.net>
Content-Type: text/plain
X-BeenThere: test-report@dpdk.org
X-Mailman-Version: 2.1.29
Precedence: list
List-Id: automatic DPDK test reports <test-report.dpdk.org>
List-Unsubscribe: <https://mails.dpdk.org/options/test-report>,
 <mailto:test-report-request@dpdk.org?subject=unsubscribe>
List-Archive: <http://mails.dpdk.org/archives/test-report/>
List-Post: <mailto:test-report@dpdk.org>
List-Help: <mailto:test-report-request@dpdk.org?subject=help>
List-Subscribe: <https://mails.dpdk.org/listinfo/test-report>,
 <mailto:test-report-request@dpdk.org?subject=subscribe>
Errors-To: test-report-bounces@dpdk.org

Test-Label: iol-abi-testing
Test-Status: SUCCESS
http://dpdk.org/patch/126515

_Testing PASS_

Submitter: Pavan Nikhilesh Bhagavatula <pbhagavatula@marvell.com>
Date: Tuesday, April 25 2023 19:51:10 
DPDK git baseline: Repo:dpdk
  Branch: master
  CommitID:d03446724972d2a1bb645ce7f3e64f5ef0203d61

126513-126515 --> testing pass

Test environment and result as below:

+------------------+----------+
|   Environment    | abi_test |
+==================+==========+
| CentOS Stream 8  | PASS     |
+------------------+----------+
| openSUSE Leap 15 | PASS     |
+------------------+----------+
| Ubuntu 22.04     | PASS     |
+------------------+----------+


CentOS Stream 8
	Kernel: 4.18.0-240.10.1.el8_3.x86_64
	Compiler: gcc 8.4.1 20200928

openSUSE Leap 15
	Kernel: 4.18.0-240.10.1.el8_3.x86_64
	Compiler: gcc 7.5.0

Ubuntu 22.04
	Kernel: Container Host Kernel
	Compiler: gcc 12.2.1-2

To view detailed results, visit:
https://lab.dpdk.org/results/dashboard/patchsets/26119/

UNH-IOL DPDK Community Lab

To manage your email subscriptions, visit: 
https://lab.dpdk.org/results/dashboard/preferences/subscriptions/