From mboxrd@z Thu Jan  1 00:00:00 1970
Return-Path: <test-report-bounces@dpdk.org>
Received: from mails.dpdk.org (mails.dpdk.org [217.70.189.124])
	by inbox.dpdk.org (Postfix) with ESMTP id DA785429CA
	for <public@inbox.dpdk.org>; Wed, 26 Apr 2023 01:21:05 +0200 (CEST)
Received: from mails.dpdk.org (localhost [127.0.0.1])
	by mails.dpdk.org (Postfix) with ESMTP id D4FCE42BD9;
	Wed, 26 Apr 2023 01:21:05 +0200 (CEST)
Received: from mail-il1-f225.google.com (mail-il1-f225.google.com
 [209.85.166.225])
 by mails.dpdk.org (Postfix) with ESMTP id 4227F42B8C
 for <test-report@dpdk.org>; Wed, 26 Apr 2023 01:21:04 +0200 (CEST)
Received: by mail-il1-f225.google.com with SMTP id
 e9e14a558f8ab-3296292e623so51396155ab.2
 for <test-report@dpdk.org>; Tue, 25 Apr 2023 16:21:04 -0700 (PDT)
DKIM-Signature: v=1; a=rsa-sha256; c=relaxed/relaxed;
 d=iol.unh.edu; s=unh-iol; t=1682464863; x=1685056863;
 h=cc:to:from:subject:message-id:date:from:to:cc:subject:date
 :message-id:reply-to;
 bh=HmWTOpqcW9wYyn0l3/6LBDYqXNDLXw4+ljqckRuih+w=;
 b=h3Ia5g7tNSoIJlpmnHC3cs8ANrHGHY2pX2+6PC57Qv2aARUV+QW7Ciy9sDXlnkxeUu
 wlIBdI7HkpTL31ShTcg9wbLNGsgYuQBVeSk09+HmXbv5bQsy4DQyWlSLG+Xr/c2hbv7J
 pVyuPXMhNiAOaNA7/KRFRuIZBOz0uI7e3gQkc=
X-Google-DKIM-Signature: v=1; a=rsa-sha256; c=relaxed/relaxed;
 d=1e100.net; s=20221208; t=1682464863; x=1685056863;
 h=cc:to:from:subject:message-id:date:x-gm-message-state:from:to:cc
 :subject:date:message-id:reply-to;
 bh=HmWTOpqcW9wYyn0l3/6LBDYqXNDLXw4+ljqckRuih+w=;
 b=XdBCqSQRU67WhFxn8WHcHUTKafS7BlhOeaGBtWc0SLiUROS2tfn5dJUgsCyRjw/BOO
 nGmwCzwE5qtP5PuVAuz/CWeR/f9kuEU7RVssfoHBHlhELTAxz1yCAAuJx1uGripT+aLb
 EnXVN1k/7LFoU1X7PPmP70Q3zkb3QTmIU7taxPe/dYR2+L13oY7k6NVNhNzqoxtk6rCc
 CfsyIN0UH76LfLo9qkyIEUEMQQ6rL9J6X5W76qNipfJp3n9BYlE7mHwBiqVgPZNzkWLz
 7xCL5jpQGgeK4UCdrki6C0RRTCuT1tEP3Mzm6shUCbxjjzOS+v3cwH/3BKvr/SmiOJHv
 IIxg==
X-Gm-Message-State: AAQBX9delPlduf9MNtr1Gtu0MUGdvjhg6+P4ClmCjCusu18QDW2Efo0e
 tRvO9x9pa5Zeqmro5r2Ds8jdao0/GOd6qnantebFpcmoF+vYPPlILX+mcXuSy4ofXH7wVQLgKA=
 =
X-Google-Smtp-Source: AKy350aKdP5jObSFgZQGz5Y/b2ffMrenoAd4ftSDyPhdNxOYY3GkT5mZmCV49USylbjvBNXmaUge988HMXpw
X-Received: by 2002:a92:c747:0:b0:31f:9b6e:2f60 with SMTP id
 y7-20020a92c747000000b0031f9b6e2f60mr7804433ilp.4.1682464863709; 
 Tue, 25 Apr 2023 16:21:03 -0700 (PDT)
Received: from postal.iol.unh.edu (postal.iol.unh.edu.
 [2606:4100:3880:1234::84]) by smtp-relay.gmail.com with ESMTPS id
 t11-20020a92d14b000000b00328d9799526sm472140ilg.69.2023.04.25.16.21.03
 (version=TLS1_2 cipher=ECDHE-ECDSA-AES128-GCM-SHA256 bits=128/128);
 Tue, 25 Apr 2023 16:21:03 -0700 (PDT)
X-Relaying-Domain: iol.unh.edu
Date: Tue, 25 Apr 2023 16:21:03 -0700 (PDT)
Message-ID: <6448605f.920a0220.c88c8.15e4SMTPIN_ADDED_MISSING@mx.google.com>
Received: from [172.17.0.3] (unknown [172.18.0.34])
 by postal.iol.unh.edu (Postfix) with ESMTP id 441BB605246B;
 Tue, 25 Apr 2023 19:21:03 -0400 (EDT)
Subject: |SUCCESS| pw126513-126515 [PATCH] [v2,
 3/3] app/eventdev: prevent mempool exhaustion
From: dpdklab@iol.unh.edu
To: Test Report <test-report@dpdk.org>
Cc: Pavan Nikhilesh Bhagavatula <pbhagavatula@marvell.com>,
 David Marchand <david.marchand@redhat.com>,
 Thomas Monjalon <thomas@monjalon.net>
Content-Type: text/plain
X-BeenThere: test-report@dpdk.org
X-Mailman-Version: 2.1.29
Precedence: list
List-Id: automatic DPDK test reports <test-report.dpdk.org>
List-Unsubscribe: <https://mails.dpdk.org/options/test-report>,
 <mailto:test-report-request@dpdk.org?subject=unsubscribe>
List-Archive: <http://mails.dpdk.org/archives/test-report/>
List-Post: <mailto:test-report@dpdk.org>
List-Help: <mailto:test-report-request@dpdk.org?subject=help>
List-Subscribe: <https://mails.dpdk.org/listinfo/test-report>,
 <mailto:test-report-request@dpdk.org?subject=subscribe>
Errors-To: test-report-bounces@dpdk.org

Test-Label: iol-abi-testing
Test-Status: SUCCESS
http://dpdk.org/patch/126515

_Testing PASS_

Submitter: Pavan Nikhilesh Bhagavatula <pbhagavatula@marvell.com>
Date: Tuesday, April 25 2023 19:51:10 
DPDK git baseline: Repo:dpdk
  Branch: master
  CommitID:d03446724972d2a1bb645ce7f3e64f5ef0203d61

126513-126515 --> testing pass

Test environment and result as below:

+------------------+----------+
|   Environment    | abi_test |
+==================+==========+
| CentOS Stream 8  | PASS     |
+------------------+----------+
| openSUSE Leap 15 | PASS     |
+------------------+----------+
| Ubuntu 22.04     | PASS     |
+------------------+----------+
| RHEL8            | PASS     |
+------------------+----------+
| RHEL 7           | PASS     |
+------------------+----------+
| Debian Buster    | PASS     |
+------------------+----------+


CentOS Stream 8
	Kernel: 4.18.0-240.10.1.el8_3.x86_64
	Compiler: gcc 8.4.1 20200928

openSUSE Leap 15
	Kernel: 4.18.0-240.10.1.el8_3.x86_64
	Compiler: gcc 7.5.0

Ubuntu 22.04
	Kernel: Container Host Kernel
	Compiler: gcc 12.2.1-2

RHEL8
	Kernel: 4.18.0-240.10.1.el8_3.x86_64
	Compiler: gcc 8.3.1 20191121 (Red Hat 8.3.1-5)

RHEL 7
	Kernel: 4.18.0-240.10.1.el8_3.x86_64
	Compiler: gcc 4.8.5 20150623 (Red Hat 4.8.5-44)

Debian Buster
	Kernel: 5.4.0-122-generic
	Compiler: gcc 8.3.0-6

To view detailed results, visit:
https://lab.dpdk.org/results/dashboard/patchsets/26119/

UNH-IOL DPDK Community Lab

To manage your email subscriptions, visit: 
https://lab.dpdk.org/results/dashboard/preferences/subscriptions/