From mboxrd@z Thu Jan  1 00:00:00 1970
Return-Path: <test-report-bounces@dpdk.org>
Received: from mails.dpdk.org (mails.dpdk.org [217.70.189.124])
	by inbox.dpdk.org (Postfix) with ESMTP id 899E542A0C
	for <public@inbox.dpdk.org>; Thu, 27 Apr 2023 03:22:55 +0200 (CEST)
Received: from mails.dpdk.org (localhost [127.0.0.1])
	by mails.dpdk.org (Postfix) with ESMTP id 6757E40E0F;
	Thu, 27 Apr 2023 03:22:55 +0200 (CEST)
Received: from mail-vk1-f227.google.com (mail-vk1-f227.google.com
 [209.85.221.227])
 by mails.dpdk.org (Postfix) with ESMTP id 2A57340E0F
 for <test-report@dpdk.org>; Thu, 27 Apr 2023 03:22:54 +0200 (CEST)
Received: by mail-vk1-f227.google.com with SMTP id
 71dfb90a1353d-4405fb5c314so4815883e0c.2
 for <test-report@dpdk.org>; Wed, 26 Apr 2023 18:22:54 -0700 (PDT)
DKIM-Signature: v=1; a=rsa-sha256; c=relaxed/relaxed;
 d=iol.unh.edu; s=unh-iol; t=1682558573; x=1685150573;
 h=cc:to:from:subject:message-id:date:from:to:cc:subject:date
 :message-id:reply-to;
 bh=iRD6vxDzpUOLJyKLkZTr5zqwonTaVguLGwQJun2rrBw=;
 b=Yvkr/4+ZPHDdXIvS9L0gULafjNcThoTq0zRV0z5keDKj+DrWph1sN5SbVeBaoODxIX
 2/CRW0xCQ3friT2dwOlgFx8RME/KngvVADftiUGiW6OBJfZ+tnUIVPjL5H3wGxMiRRuv
 NJZ2dozO0weudhbYiwqfTfgDLlsnIwsqFvUMY=
X-Google-DKIM-Signature: v=1; a=rsa-sha256; c=relaxed/relaxed;
 d=1e100.net; s=20221208; t=1682558573; x=1685150573;
 h=cc:to:from:subject:message-id:date:x-gm-message-state:from:to:cc
 :subject:date:message-id:reply-to;
 bh=iRD6vxDzpUOLJyKLkZTr5zqwonTaVguLGwQJun2rrBw=;
 b=EWkUEwy5TH5qwDDz7/7Ya+gCJIlJKOPJVr4cWqTdS1i08ZuieUhbn1f/fyRWxPBC4f
 7l2bAyFzVMHyTYZxsmZgfFlK0V6ae9Nh6aT0zQMZygR6gZGW0eZ3HAS/4hOgMJwbmPyr
 L3aSqSaNY7dkTM+FJA+1oo+93uFhVWOwM94ZjuGGcOboRWTOOzopv1ZaBlQPnHs+Cul3
 ua5U3GRro8nG1+r0gJljM4o6tt4LYg8smdKIiPZqmpp/zVZfVxH5GBTsTR6l6M7yT3e7
 KhXUSj8C/8O7k0hfdVNSxaNuiOin3s1VtxoGYRD3jMChGYgfOYu1Z7Vp8w1oR3I2CfQz
 z9pg==
X-Gm-Message-State: AAQBX9fiUqM5ta+udMwveVzA8qo0pQpqnl40/EqWAqh9uQiEzTFabG4t
 /QfQWQnARz8ef35jxI6kyhM4lKf48iBx8438eq87ClLcgTB044FSN+5riw==
X-Google-Smtp-Source: AKy350YDOYy9t6XHe7u2an73MNwPSyR5wnnc769OlsbOiPStTmOQ95rnrDUgxX/48/9LbNhRQZWEJtTuuPPJ
X-Received: by 2002:a1f:c1ca:0:b0:43b:ead4:669e with SMTP id
 r193-20020a1fc1ca000000b0043bead4669emr7581217vkf.16.1682558573493; 
 Wed, 26 Apr 2023 18:22:53 -0700 (PDT)
Received: from postal.iol.unh.edu (postal.iol.unh.edu. [132.177.123.84])
 by smtp-relay.gmail.com with ESMTPS id
 o41-20020a05612217a900b0044072f39e3bsm1880093vkf.1.2023.04.26.18.22.53
 (version=TLS1_2 cipher=ECDHE-ECDSA-AES128-GCM-SHA256 bits=128/128);
 Wed, 26 Apr 2023 18:22:53 -0700 (PDT)
X-Relaying-Domain: iol.unh.edu
Date: Wed, 26 Apr 2023 18:22:53 -0700 (PDT)
Message-ID: <6449ce6d.050a0220.f40ea.6b36SMTPIN_ADDED_MISSING@mx.google.com>
Received: from [172.17.0.3] (unknown [172.18.0.34])
 by postal.iol.unh.edu (Postfix) with ESMTP id 09C89605246B;
 Wed, 26 Apr 2023 21:22:53 -0400 (EDT)
Subject: |SUCCESS| pw126551-126557 [PATCH] [v2, next,
 7/7] net/vmxnet3: update to version 7
From: dpdklab@iol.unh.edu
To: Test Report <test-report@dpdk.org>
Cc: dpdk-test-reports@iol.unh.edu, David Marchand <david.marchand@redhat.com>,
 Thomas Monjalon <thomas@monjalon.net>
Content-Type: text/plain
X-BeenThere: test-report@dpdk.org
X-Mailman-Version: 2.1.29
Precedence: list
List-Id: automatic DPDK test reports <test-report.dpdk.org>
List-Unsubscribe: <https://mails.dpdk.org/options/test-report>,
 <mailto:test-report-request@dpdk.org?subject=unsubscribe>
List-Archive: <http://mails.dpdk.org/archives/test-report/>
List-Post: <mailto:test-report@dpdk.org>
List-Help: <mailto:test-report-request@dpdk.org?subject=help>
List-Subscribe: <https://mails.dpdk.org/listinfo/test-report>,
 <mailto:test-report-request@dpdk.org?subject=subscribe>
Errors-To: test-report-bounces@dpdk.org

Test-Label: iol-abi-testing
Test-Status: SUCCESS
http://dpdk.org/patch/126557

_Testing PASS_

Submitter: Ronak Doshi <doshir@vmware.com>
Date: Wednesday, April 26 2023 19:04:14 
DPDK git baseline: Repo:dpdk
  Branch: master
  CommitID:d03446724972d2a1bb645ce7f3e64f5ef0203d61

126551-126557 --> testing pass

Test environment and result as below:

+------------------+----------+
|   Environment    | abi_test |
+==================+==========+
| RHEL 7           | PASS     |
+------------------+----------+
| RHEL8            | PASS     |
+------------------+----------+
| Debian Buster    | PASS     |
+------------------+----------+
| CentOS Stream 9  | PASS     |
+------------------+----------+
| Debian Bullseye  | PASS     |
+------------------+----------+
| Ubuntu 22.04     | PASS     |
+------------------+----------+
| openSUSE Leap 15 | PASS     |
+------------------+----------+


RHEL 7
	Kernel: 4.18.0-240.10.1.el8_3.x86_64
	Compiler: gcc 4.8.5 20150623 (Red Hat 4.8.5-44)

RHEL8
	Kernel: 4.18.0-240.10.1.el8_3.x86_64
	Compiler: gcc 8.3.1 20191121 (Red Hat 8.3.1-5)

Debian Buster
	Kernel: 5.4.0-122-generic
	Compiler: gcc 8.3.0-6

CentOS Stream 9
	Kernel: 4.18.0-240.10.1.el8_3.x86_64
	Compiler: gcc 11.3.1 20220421

Debian Bullseye
	Kernel: 5.4.0-122-generic
	Compiler: gcc 10.2.1-6

Ubuntu 22.04
	Kernel: Container Host Kernel
	Compiler: gcc 11.3.1-2

openSUSE Leap 15
	Kernel: 4.18.0-240.10.1.el8_3.x86_64
	Compiler: gcc 7.5.0

To view detailed results, visit:
https://lab.dpdk.org/results/dashboard/patchsets/26127/

UNH-IOL DPDK Community Lab

To manage your email subscriptions, visit: 
https://lab.dpdk.org/results/dashboard/preferences/subscriptions/