From mboxrd@z Thu Jan  1 00:00:00 1970
Return-Path: <test-report-bounces@dpdk.org>
Received: from mails.dpdk.org (mails.dpdk.org [217.70.189.124])
	by inbox.dpdk.org (Postfix) with ESMTP id BD12142A0C
	for <public@inbox.dpdk.org>; Thu, 27 Apr 2023 03:34:17 +0200 (CEST)
Received: from mails.dpdk.org (localhost [127.0.0.1])
	by mails.dpdk.org (Postfix) with ESMTP id 98C5F40E0F;
	Thu, 27 Apr 2023 03:34:17 +0200 (CEST)
Received: from mail-ua1-f100.google.com (mail-ua1-f100.google.com
 [209.85.222.100])
 by mails.dpdk.org (Postfix) with ESMTP id 2CA8340E0F
 for <test-report@dpdk.org>; Thu, 27 Apr 2023 03:34:16 +0200 (CEST)
Received: by mail-ua1-f100.google.com with SMTP id
 a1e0cc1a2514c-77239ff7aebso2319059241.3
 for <test-report@dpdk.org>; Wed, 26 Apr 2023 18:34:16 -0700 (PDT)
DKIM-Signature: v=1; a=rsa-sha256; c=relaxed/relaxed;
 d=iol.unh.edu; s=unh-iol; t=1682559255; x=1685151255;
 h=cc:to:from:subject:message-id:date:from:to:cc:subject:date
 :message-id:reply-to;
 bh=N+3sM+N4qE2hRhQQ0NMB5YPJwnMrvx2ZV2UdIHiiiGE=;
 b=IzbTzP/Nj9ojKcNko9NVscQ1lI3kQns9icBHUJRKKgSqfWpLoVlu4iLKUoYHeF1HdB
 W+C0sQTXJMBpn3QJz3dZ7mTYb1OcH8pREtU0ZeJiPvmhmiXEcvfsIcROC4U42JTXh6PL
 el0J60KMV2kItDN+JaxWCrtPLIuGTLlvL/CN4=
X-Google-DKIM-Signature: v=1; a=rsa-sha256; c=relaxed/relaxed;
 d=1e100.net; s=20221208; t=1682559255; x=1685151255;
 h=cc:to:from:subject:message-id:date:x-gm-message-state:from:to:cc
 :subject:date:message-id:reply-to;
 bh=N+3sM+N4qE2hRhQQ0NMB5YPJwnMrvx2ZV2UdIHiiiGE=;
 b=G8xIzXlDbP7QWdjjYTyE7cRQzwzWcP+j+VOooljIXw81shPyPLiPsqAgBqA+d5l7Dj
 ydisRZhDdBOet89MuikADXK6YYvlqlg/oEahdoOl7jlw3rZ22il+MKkxXp93gEIJ+ffn
 cyNn1hQAWeYVumGDIieGobWyqkr8Zq8OhRXY08Lbybn86a3IRXuh+yjY2nMn5I7RErPq
 eiAy6D4u1dRyoTPb4tu2chzwpBmGMSDz397nu/RJT/hXIMij4BR8ewTD5zLA6nXjX8iG
 NuXOlWhrldasbbRkRdQB3tImi9uUzQP8K/vRQH27ApSy8qajZ2N+AgIQHG2uGB7xAOaZ
 jSRQ==
X-Gm-Message-State: AC+VfDwMLjwyRpJLEXXxO77hiJq8Pf1UK0OXRJ1Bm7pnDWTOtmn1WOSx
 iICs0OsLxpk3oFwMbyCcnUXa+ym8Ocp/7PRNoSbZJ20rsNYBAqyHcn/5sFqdSKH1+8EYtCW/XA=
 =
X-Google-Smtp-Source: ACHHUZ7xiNyYxcsAG5prddXyPFc01lU4cT+CiCOH9lkXvnBOXwZg/pvNhxsiibEMmd1LRo4kwLJsNbKuC8vQ
X-Received: by 2002:a67:eac5:0:b0:42c:6503:6457 with SMTP id
 s5-20020a67eac5000000b0042c65036457mr81764vso.11.1682559255350; 
 Wed, 26 Apr 2023 18:34:15 -0700 (PDT)
Received: from postal.iol.unh.edu (postal.iol.unh.edu.
 [2606:4100:3880:1234::84]) by smtp-relay.gmail.com with ESMTPS id
 p7-20020a9f3687000000b007714647439esm1830518uap.12.2023.04.26.18.34.15
 (version=TLS1_2 cipher=ECDHE-ECDSA-AES128-GCM-SHA256 bits=128/128);
 Wed, 26 Apr 2023 18:34:15 -0700 (PDT)
X-Relaying-Domain: iol.unh.edu
Date: Wed, 26 Apr 2023 18:34:15 -0700 (PDT)
Message-ID: <6449d117.9f0a0220.87ea8.85c8SMTPIN_ADDED_MISSING@mx.google.com>
Received: from [172.17.0.3] (unknown [172.18.0.34])
 by postal.iol.unh.edu (Postfix) with ESMTP id 0AD63605246B;
 Wed, 26 Apr 2023 21:34:15 -0400 (EDT)
Subject: |SUCCESS| pw126551-126557 [PATCH] [v2, next,
 7/7] net/vmxnet3: update to version 7
From: dpdklab@iol.unh.edu
To: Test Report <test-report@dpdk.org>
Cc: dpdk-test-reports@iol.unh.edu, David Marchand <david.marchand@redhat.com>,
 Thomas Monjalon <thomas@monjalon.net>
Content-Type: text/plain
X-BeenThere: test-report@dpdk.org
X-Mailman-Version: 2.1.29
Precedence: list
List-Id: automatic DPDK test reports <test-report.dpdk.org>
List-Unsubscribe: <https://mails.dpdk.org/options/test-report>,
 <mailto:test-report-request@dpdk.org?subject=unsubscribe>
List-Archive: <http://mails.dpdk.org/archives/test-report/>
List-Post: <mailto:test-report@dpdk.org>
List-Help: <mailto:test-report-request@dpdk.org?subject=help>
List-Subscribe: <https://mails.dpdk.org/listinfo/test-report>,
 <mailto:test-report-request@dpdk.org?subject=subscribe>
Errors-To: test-report-bounces@dpdk.org

Test-Label: iol-abi-testing
Test-Status: SUCCESS
http://dpdk.org/patch/126557

_Testing PASS_

Submitter: Ronak Doshi <doshir@vmware.com>
Date: Wednesday, April 26 2023 19:04:14 
DPDK git baseline: Repo:dpdk
  Branch: master
  CommitID:d03446724972d2a1bb645ce7f3e64f5ef0203d61

126551-126557 --> testing pass

Test environment and result as below:

+------------------+----------+
|   Environment    | abi_test |
+==================+==========+
| RHEL 7           | PASS     |
+------------------+----------+
| RHEL8            | PASS     |
+------------------+----------+
| Debian Buster    | PASS     |
+------------------+----------+
| CentOS Stream 9  | PASS     |
+------------------+----------+
| Debian Bullseye  | PASS     |
+------------------+----------+
| Ubuntu 22.04     | PASS     |
+------------------+----------+
| openSUSE Leap 15 | PASS     |
+------------------+----------+
| CentOS Stream 8  | PASS     |
+------------------+----------+


RHEL 7
	Kernel: 4.18.0-240.10.1.el8_3.x86_64
	Compiler: gcc 4.8.5 20150623 (Red Hat 4.8.5-44)

RHEL8
	Kernel: 4.18.0-240.10.1.el8_3.x86_64
	Compiler: gcc 8.3.1 20191121 (Red Hat 8.3.1-5)

Debian Buster
	Kernel: 5.4.0-122-generic
	Compiler: gcc 8.3.0-6

CentOS Stream 9
	Kernel: 4.18.0-240.10.1.el8_3.x86_64
	Compiler: gcc 11.3.1 20220421

Debian Bullseye
	Kernel: 5.4.0-122-generic
	Compiler: gcc 10.2.1-6

Ubuntu 22.04
	Kernel: Container Host Kernel
	Compiler: gcc 11.3.1-2

openSUSE Leap 15
	Kernel: 4.18.0-240.10.1.el8_3.x86_64
	Compiler: gcc 7.5.0

CentOS Stream 8
	Kernel: 4.18.0-240.10.1.el8_3.x86_64
	Compiler: gcc 8.4.1 20200928

To view detailed results, visit:
https://lab.dpdk.org/results/dashboard/patchsets/26127/

UNH-IOL DPDK Community Lab

To manage your email subscriptions, visit: 
https://lab.dpdk.org/results/dashboard/preferences/subscriptions/