From mboxrd@z Thu Jan  1 00:00:00 1970
Return-Path: <test-report-bounces@dpdk.org>
Received: from mails.dpdk.org (mails.dpdk.org [217.70.189.124])
	by inbox.dpdk.org (Postfix) with ESMTP id AB850429BB
	for <public@inbox.dpdk.org>; Fri, 28 Apr 2023 11:45:24 +0200 (CEST)
Received: from mails.dpdk.org (localhost [127.0.0.1])
	by mails.dpdk.org (Postfix) with ESMTP id A7D314113C;
	Fri, 28 Apr 2023 11:45:24 +0200 (CEST)
Received: from mail-il1-f227.google.com (mail-il1-f227.google.com
 [209.85.166.227])
 by mails.dpdk.org (Postfix) with ESMTP id 8763B4113C
 for <test-report@dpdk.org>; Fri, 28 Apr 2023 11:45:23 +0200 (CEST)
Received: by mail-il1-f227.google.com with SMTP id
 e9e14a558f8ab-32b2485c0b1so21892495ab.3
 for <test-report@dpdk.org>; Fri, 28 Apr 2023 02:45:23 -0700 (PDT)
DKIM-Signature: v=1; a=rsa-sha256; c=relaxed/relaxed;
 d=iol.unh.edu; s=unh-iol; t=1682675123; x=1685267123;
 h=cc:to:from:subject:message-id:date:from:to:cc:subject:date
 :message-id:reply-to;
 bh=sNm70hH7fl/iJ2/VPRsV13qUD8sa2fvqa3ScHkRDNls=;
 b=QrmJFrn84mJjF3RJN1UhpnzKhSFIfs/OctsNlPa90QV0MdZQErgHDF5C/NnpFyYrEb
 fm6k69K/FRFFUUwwGs1bPJqpDldwwwuXKCCsoSvL0wrI6dLHJw7dxHGvvSFEuOnUO6tG
 ESN4AeJLDB3iajdIVa13VqWqzhuZN+2KIxpuI=
X-Google-DKIM-Signature: v=1; a=rsa-sha256; c=relaxed/relaxed;
 d=1e100.net; s=20221208; t=1682675123; x=1685267123;
 h=cc:to:from:subject:message-id:date:x-gm-message-state:from:to:cc
 :subject:date:message-id:reply-to;
 bh=sNm70hH7fl/iJ2/VPRsV13qUD8sa2fvqa3ScHkRDNls=;
 b=cNgZpn+EuL75nyI5PYJvKPFobG388JiaqfiCJgGQkCnVSTBj7FlOWpypIRj7rB4n1C
 FQDmkMIYBshKduo+QiizcnujLjzmORhExu0XBpOkuUJY1a0pvklAWg8z4RzQEdefcjRC
 eKEDYfpvRLxSuf1gftwd8jUpj1E0fAbOvjU8ATneUGNWsFaNUvhZfHc06/79t8/fGNcO
 D2x0w+oQ5958CSj7GaaXOqkn0CO91QcTSbO6jEOdM8fur2002Gn+CQy3sRswYM1Gy1/r
 VbYFCxcrsUPKU8ibcZCG2DzRWJgjytQZHKhyaOism12fksbUsD3gGxMcu8VIZJosPvOM
 ODqw==
X-Gm-Message-State: AC+VfDwSJdRkUtlbelJZ1kUQPiLveYL/mcW3+1IdrMe9HZANV8LlEgI9
 ceDVfGK0MuczuR23uJXv19mqOK/3ZTwpbJb6dpFbBH6BNzwoEEUG5Rr8FQ==
X-Google-Smtp-Source: ACHHUZ5j8/ckog7zKk0PGAq6F6K7SCvSuucoR4r1K/zbVq9IlKLjorJJRhPk1bajeo/hfNEjD1ID8tMJ+dcc
X-Received: by 2002:a05:6e02:4d0:b0:32b:2424:56d8 with SMTP id
 f16-20020a056e0204d000b0032b242456d8mr3871983ils.19.1682675122957; 
 Fri, 28 Apr 2023 02:45:22 -0700 (PDT)
Received: from postal.iol.unh.edu (postal.iol.unh.edu. [132.177.123.84])
 by smtp-relay.gmail.com with ESMTPS id
 w18-20020a02b0d2000000b0040fb265f94dsm1924936jah.65.2023.04.28.02.45.22
 (version=TLS1_2 cipher=ECDHE-ECDSA-AES128-GCM-SHA256 bits=128/128);
 Fri, 28 Apr 2023 02:45:22 -0700 (PDT)
X-Relaying-Domain: iol.unh.edu
Date: Fri, 28 Apr 2023 02:45:22 -0700 (PDT)
Message-ID: <644b95b2.020a0220.3efb9.eb66SMTPIN_ADDED_MISSING@mx.google.com>
Received: from [172.17.0.3] (unknown [172.18.0.34])
 by postal.iol.unh.edu (Postfix) with ESMTP id 8522C605246B;
 Fri, 28 Apr 2023 05:45:22 -0400 (EDT)
Subject: |SUCCESS| pw126616 [PATCH] [v2] net/ixgbe: consider DCB/VMDq conf
 when getting RSS conf
From: dpdklab@iol.unh.edu
To: Test Report <test-report@dpdk.org>
Cc: dpdk-test-reports@iol.unh.edu, David Marchand <david.marchand@redhat.com>,
 Thomas Monjalon <thomas@monjalon.net>
Content-Type: text/plain
X-BeenThere: test-report@dpdk.org
X-Mailman-Version: 2.1.29
Precedence: list
List-Id: automatic DPDK test reports <test-report.dpdk.org>
List-Unsubscribe: <https://mails.dpdk.org/options/test-report>,
 <mailto:test-report-request@dpdk.org?subject=unsubscribe>
List-Archive: <http://mails.dpdk.org/archives/test-report/>
List-Post: <mailto:test-report@dpdk.org>
List-Help: <mailto:test-report-request@dpdk.org?subject=help>
List-Subscribe: <https://mails.dpdk.org/listinfo/test-report>,
 <mailto:test-report-request@dpdk.org?subject=subscribe>
Errors-To: test-report-bounces@dpdk.org

Test-Label: iol-aarch64-unit-testing
Test-Status: SUCCESS
http://dpdk.org/patch/126616

_Testing PASS_

Submitter: Min Zhou <zhoumin@loongson.cn>
Date: Friday, April 28 2023 08:42:57 
DPDK git baseline: Repo:dpdk
  Branch: master
  CommitID:d03446724972d2a1bb645ce7f3e64f5ef0203d61

126616 --> testing pass

Test environment and result as below:

+----------------------+---------------------------+------------------------------+--------------+
|     Environment      | cryptodev_sw_zuc_autotest | cryptodev_sw_snow3g_autotest | lpm_autotest |
+======================+===========================+==============================+==============+
| Debian 11            | PASS                      | PASS                         | SKIPPED      |
+----------------------+---------------------------+------------------------------+--------------+
| Ubuntu 20.04 ARM SVE | SKIPPED                   | SKIPPED                      | PASS         |
+----------------------+---------------------------+------------------------------+--------------+


Debian 11
	Kernel: Container Host Kernel
	Compiler: gcc 10.2.1

Ubuntu 20.04 ARM SVE
	Kernel: 5.4.0-80-generic
	Compiler: gcc 10.3.0 (Ubuntu 10.3.0-1ubuntu1~20.04)

To view detailed results, visit:
https://lab.dpdk.org/results/dashboard/patchsets/26137/

UNH-IOL DPDK Community Lab

To manage your email subscriptions, visit: 
https://lab.dpdk.org/results/dashboard/preferences/subscriptions/