From mboxrd@z Thu Jan  1 00:00:00 1970
Return-Path: <test-report-bounces@dpdk.org>
Received: from mails.dpdk.org (mails.dpdk.org [217.70.189.124])
	by inbox.dpdk.org (Postfix) with ESMTP id ACD8142A14
	for <public@inbox.dpdk.org>; Fri, 28 Apr 2023 14:18:04 +0200 (CEST)
Received: from mails.dpdk.org (localhost [127.0.0.1])
	by mails.dpdk.org (Postfix) with ESMTP id 9455240A87;
	Fri, 28 Apr 2023 14:18:04 +0200 (CEST)
Received: from mail-yb1-f227.google.com (mail-yb1-f227.google.com
 [209.85.219.227])
 by mails.dpdk.org (Postfix) with ESMTP id D44C740A87
 for <test-report@dpdk.org>; Fri, 28 Apr 2023 14:18:03 +0200 (CEST)
Received: by mail-yb1-f227.google.com with SMTP id
 3f1490d57ef6-b994571219fso7074525276.1
 for <test-report@dpdk.org>; Fri, 28 Apr 2023 05:18:03 -0700 (PDT)
DKIM-Signature: v=1; a=rsa-sha256; c=relaxed/relaxed;
 d=iol.unh.edu; s=unh-iol; t=1682684283; x=1685276283;
 h=cc:to:from:subject:message-id:date:from:to:cc:subject:date
 :message-id:reply-to;
 bh=ieaMSmlz4IjLoAMvVowGGP9ejDllwF9gxiy8pxT8T7M=;
 b=bohEZP0Op7U/Q0yNYwG9QVCytZ3kjhIQsXzuS4eZjhaIp1lbKLZwB76LI7TByxgked
 crZdZXv/YVjLzgx4kCc1j3u4E8z0o7ProvqNbVBynS7nH5hdCzMdg6LXZGzkdDjiUTsX
 ubzRP4m5Nn4z7cbUvc+AUYe/yUWhX3bRnNmwY=
X-Google-DKIM-Signature: v=1; a=rsa-sha256; c=relaxed/relaxed;
 d=1e100.net; s=20221208; t=1682684283; x=1685276283;
 h=cc:to:from:subject:message-id:date:x-gm-message-state:from:to:cc
 :subject:date:message-id:reply-to;
 bh=ieaMSmlz4IjLoAMvVowGGP9ejDllwF9gxiy8pxT8T7M=;
 b=LSVx1sm1/TrSd7V4vzXdYBpXs/ApoGThWmGDyZAXT3qI1Z6s8ObszhGYIVV87hMWaG
 K9ly4IXwRvlSTWatp346uZzeukkOB+ch7eUXXG3kC2SP51nrGLvgd67leiYtrg8ipRed
 3mQUfBdsg7xyeeZ6Tef+RmM5RikN6uWWlKiI38xOZkCRCaEtB85p1BHgyyzTQZjAayC/
 68+301gbQzFS/51Pg4poC/ZPy6mwUxyhV7QhwsgFvUGQxSov0GyXtT4+v/CxTCGFotAy
 d+zC6SMstWnFEL6aj2IwpFb3E2Bnl04C/Tw99Mq6u+gzR5Kr6glKjxpPOfdBMMJe+re8
 NP9g==
X-Gm-Message-State: AC+VfDyC6C1P9HTTtw5NCwTY+lglMi2h9T2x4ZBgMxJXNqz6hHS3ixvH
 AaTkH3jD1srHdFbLyLmY/OLUKLpldw697wCsgr2npXkV5uhH81Twm80DnGzvO8fuQ4YTeDlwrA=
 =
X-Google-Smtp-Source: ACHHUZ5uETRv4yeP0MAVPd7JTZDd+grIP2XbPpYoXrzdYCPf5QsG5OLH9T0S93hCVWJFpqjyvhFDTMEqoB3H
X-Received: by 2002:a25:89:0:b0:b9a:41ea:e8da with SMTP id
 131-20020a250089000000b00b9a41eae8damr3513027yba.3.1682684283239; 
 Fri, 28 Apr 2023 05:18:03 -0700 (PDT)
Received: from postal.iol.unh.edu (postal.iol.unh.edu.
 [2606:4100:3880:1234::84]) by smtp-relay.gmail.com with ESMTPS id
 j186-20020a0de0c3000000b0054f03bc46f7sm1649192ywe.52.2023.04.28.05.18.03
 (version=TLS1_2 cipher=ECDHE-ECDSA-AES128-GCM-SHA256 bits=128/128);
 Fri, 28 Apr 2023 05:18:03 -0700 (PDT)
X-Relaying-Domain: iol.unh.edu
Date: Fri, 28 Apr 2023 05:18:03 -0700 (PDT)
Message-ID: <644bb97b.0d0a0220.c0773.58adSMTPIN_ADDED_MISSING@mx.google.com>
Received: from [172.17.0.3] (unknown [172.18.0.34])
 by postal.iol.unh.edu (Postfix) with ESMTP id EC26A605246B;
 Fri, 28 Apr 2023 08:18:02 -0400 (EDT)
Subject: |SUCCESS| pw126626 [PATCH] net/liquidio: removed LiquidIO ethdev
 driver
From: dpdklab@iol.unh.edu
To: Test Report <test-report@dpdk.org>
Cc: dpdk-test-reports@iol.unh.edu, David Marchand <david.marchand@redhat.com>,
 Thomas Monjalon <thomas@monjalon.net>
Content-Type: text/plain
X-BeenThere: test-report@dpdk.org
X-Mailman-Version: 2.1.29
Precedence: list
List-Id: automatic DPDK test reports <test-report.dpdk.org>
List-Unsubscribe: <https://mails.dpdk.org/options/test-report>,
 <mailto:test-report-request@dpdk.org?subject=unsubscribe>
List-Archive: <http://mails.dpdk.org/archives/test-report/>
List-Post: <mailto:test-report@dpdk.org>
List-Help: <mailto:test-report-request@dpdk.org?subject=help>
List-Subscribe: <https://mails.dpdk.org/listinfo/test-report>,
 <mailto:test-report-request@dpdk.org?subject=subscribe>
Errors-To: test-report-bounces@dpdk.org

Test-Label: iol-x86_64-compile-testing
Test-Status: SUCCESS
http://dpdk.org/patch/126626

_Testing PASS_

Submitter: Jerin Jacob Kollanukkaran <jerinj@marvell.com>
Date: Friday, April 28 2023 10:31:26 
DPDK git baseline: Repo:dpdk
  Branch: master
  CommitID:d03446724972d2a1bb645ce7f3e64f5ef0203d61

126626 --> testing pass

Test environment and result as below:

+------------------+--------------------+
|   Environment    | dpdk_meson_compile |
+==================+====================+
| FreeBSD 13       | PASS               |
+------------------+--------------------+
| Ubuntu 22.04     | PASS               |
+------------------+--------------------+
| Debian Buster    | PASS               |
+------------------+--------------------+
| RHEL8            | PASS               |
+------------------+--------------------+
| RHEL 7           | PASS               |
+------------------+--------------------+
| Ubuntu 20.04     | PASS               |
+------------------+--------------------+
| CentOS Stream 8  | PASS               |
+------------------+--------------------+
| Alpine           | PASS               |
+------------------+--------------------+
| Debian Bullseye  | PASS               |
+------------------+--------------------+
| openSUSE Leap 15 | PASS               |
+------------------+--------------------+
| CentOS Stream 9  | PASS               |
+------------------+--------------------+


FreeBSD 13
	Kernel: 13.0
	Compiler: clang 11.0.1

Ubuntu 22.04
	Kernel: Container Host Kernel
	Compiler: gcc 12.2.1-2

Debian Buster
	Kernel: 5.4.0-122-generic
	Compiler: gcc 8.3.0-6

RHEL8
	Kernel: 4.18.0-240.10.1.el8_3.x86_64
	Compiler: gcc 8.3.1 20191121 (Red Hat 8.3.1-5)

RHEL 7
	Kernel: 4.18.0-240.10.1.el8_3.x86_64
	Compiler: gcc 4.8.5 20150623 (Red Hat 4.8.5-44)

Ubuntu 20.04
	Kernel: 4.18.0-240.10.1.el8_3.x86_64
	Compiler: gcc 9.3.0-17ubuntu1~20.04

CentOS Stream 8
	Kernel: 4.18.0-240.10.1.el8_3.x86_64
	Compiler: gcc 8.4.1 20200928

Alpine
	Kernel: 5.4.0-73-generic
	Compiler: gcc (Alpine 10.3.1_git20210424) 10.3.1 20210424

Debian Bullseye
	Kernel: 5.4.0-122-generic
	Compiler: gcc 10.2.1-6

openSUSE Leap 15
	Kernel: 4.18.0-240.10.1.el8_3.x86_64
	Compiler: gcc 7.5.0

CentOS Stream 9
	Kernel: 4.18.0-240.10.1.el8_3.x86_64
	Compiler: gcc 11.3.1 20220421

To view detailed results, visit:
https://lab.dpdk.org/results/dashboard/patchsets/26140/

UNH-IOL DPDK Community Lab

To manage your email subscriptions, visit: 
https://lab.dpdk.org/results/dashboard/preferences/subscriptions/