From mboxrd@z Thu Jan  1 00:00:00 1970
Return-Path: <test-report-bounces@dpdk.org>
Received: from mails.dpdk.org (mails.dpdk.org [217.70.189.124])
	by inbox.dpdk.org (Postfix) with ESMTP id E884C42A12
	for <public@inbox.dpdk.org>; Fri, 28 Apr 2023 17:51:13 +0200 (CEST)
Received: from mails.dpdk.org (localhost [127.0.0.1])
	by mails.dpdk.org (Postfix) with ESMTP id CDE8340A87;
	Fri, 28 Apr 2023 17:51:13 +0200 (CEST)
Received: from mail-oo1-f97.google.com (mail-oo1-f97.google.com
 [209.85.161.97]) by mails.dpdk.org (Postfix) with ESMTP id 5DBA540A87
 for <test-report@dpdk.org>; Fri, 28 Apr 2023 17:51:12 +0200 (CEST)
Received: by mail-oo1-f97.google.com with SMTP id
 006d021491bc7-547705d6197so13247eaf.3
 for <test-report@dpdk.org>; Fri, 28 Apr 2023 08:51:12 -0700 (PDT)
DKIM-Signature: v=1; a=rsa-sha256; c=relaxed/relaxed;
 d=iol.unh.edu; s=unh-iol; t=1682697071; x=1685289071;
 h=cc:to:from:subject:message-id:date:from:to:cc:subject:date
 :message-id:reply-to;
 bh=PCTyr/SFrn0XnJWUX8bzhMV4+K476BwKsHP4sxcQWXc=;
 b=T1HFmpv515QbMDUZMGhU7GRvyJaVin0LSJ1UbaG2WqUzFtcjJhcpMfhrCXShy+FZBs
 g183PGC3joKg3EKLF4twas0XEtxWoeCLklkfQtt3Af7A40oEJuLyZbULwHvyI0NyyS2U
 32uihSJOHEWL1V5klT5zCQYv7vw8/S/uDHUKY=
X-Google-DKIM-Signature: v=1; a=rsa-sha256; c=relaxed/relaxed;
 d=1e100.net; s=20221208; t=1682697071; x=1685289071;
 h=cc:to:from:subject:message-id:date:x-gm-message-state:from:to:cc
 :subject:date:message-id:reply-to;
 bh=PCTyr/SFrn0XnJWUX8bzhMV4+K476BwKsHP4sxcQWXc=;
 b=SbguDi49Dt5BqKd/+ZSxBKnazOIBYzIY7LwzPHSDmks8/931gg254B6dL4Mn6315FV
 ebKiVOP+wqBLr3XE+dpCNrATEtHq9DLOJVRM5hmkaKsc3o+x+CEC5j/Rex2nx/DWHGdb
 JLulGutNF2DIZLxIgGr5ZxlaZyuWWmuG4xcSj9sEb+Psx3nycNtlZizIeKaM7InoLfBY
 bRWSBz+AA1FausCkjJgEP1tbUunNJtWItoj+UBubgmdGRbQIctOgspeFRLH9vMCVaCT7
 VNvm3egMq9n6AhPe3PDw3llZcNrLVuXDby6yGEaNGzSVmxt+tREKnMyim0GoflYGW24k
 8ggg==
X-Gm-Message-State: AC+VfDzKlIIc7Nr9Al1o6sTG84UHOTCiZGiOw8PZsYAXzY29bmz8Q8o0
 3dtG8DhSyfr4BzShBOCWSPb3K0ieQTUZ/jE7b7zgONnSQHPk7fCed8ehLA==
X-Google-Smtp-Source: ACHHUZ7wJIoY1GVGbUf5Cfvr5SofitrB4fAgIHwOd91Snt5E9QBiHfw4tnj/KWDT07WdtosDTN4LFKnSOOa2
X-Received: by 2002:a4a:de8d:0:b0:547:810f:1a15 with SMTP id
 v13-20020a4ade8d000000b00547810f1a15mr2901412oou.3.1682697071737; 
 Fri, 28 Apr 2023 08:51:11 -0700 (PDT)
Received: from postal.iol.unh.edu (postal.iol.unh.edu. [132.177.123.84])
 by smtp-relay.gmail.com with ESMTPS id
 bh25-20020a056830381900b006a5ff348bb0sm2331632otb.11.2023.04.28.08.51.11
 (version=TLS1_2 cipher=ECDHE-ECDSA-AES128-GCM-SHA256 bits=128/128);
 Fri, 28 Apr 2023 08:51:11 -0700 (PDT)
X-Relaying-Domain: iol.unh.edu
Date: Fri, 28 Apr 2023 08:51:11 -0700 (PDT)
Message-ID: <644beb6f.050a0220.6b76c.e0fcSMTPIN_ADDED_MISSING@mx.google.com>
Received: from [172.17.0.3] (unknown [172.18.0.34])
 by postal.iol.unh.edu (Postfix) with ESMTP id 3680B605246B;
 Fri, 28 Apr 2023 11:51:11 -0400 (EDT)
Subject: |SUCCESS| pw126628-126634 [PATCH] [7/7] crypto/cnxk: remove redundant
 assignment
From: dpdklab@iol.unh.edu
To: Test Report <test-report@dpdk.org>
Cc: dpdk-test-reports@iol.unh.edu, David Marchand <david.marchand@redhat.com>,
 Thomas Monjalon <thomas@monjalon.net>
Content-Type: text/plain
X-BeenThere: test-report@dpdk.org
X-Mailman-Version: 2.1.29
Precedence: list
List-Id: automatic DPDK test reports <test-report.dpdk.org>
List-Unsubscribe: <https://mails.dpdk.org/options/test-report>,
 <mailto:test-report-request@dpdk.org?subject=unsubscribe>
List-Archive: <http://mails.dpdk.org/archives/test-report/>
List-Post: <mailto:test-report@dpdk.org>
List-Help: <mailto:test-report-request@dpdk.org?subject=help>
List-Subscribe: <https://mails.dpdk.org/listinfo/test-report>,
 <mailto:test-report-request@dpdk.org?subject=subscribe>
Errors-To: test-report-bounces@dpdk.org

Test-Label: iol-abi-testing
Test-Status: SUCCESS
http://dpdk.org/patch/126634

_Testing PASS_

Submitter: Tejasree Kondoj <ktejasree@marvell.com>
Date: Friday, April 28 2023 14:46:47 
DPDK git baseline: Repo:dpdk
  Branch: master
  CommitID:d03446724972d2a1bb645ce7f3e64f5ef0203d61

126628-126634 --> testing pass

Test environment and result as below:

+------------------+----------+
|   Environment    | abi_test |
+==================+==========+
| Ubuntu 22.04     | PASS     |
+------------------+----------+
| CentOS Stream 8  | PASS     |
+------------------+----------+
| Debian Buster    | PASS     |
+------------------+----------+
| Debian Bullseye  | PASS     |
+------------------+----------+
| RHEL 7           | PASS     |
+------------------+----------+
| CentOS Stream 9  | PASS     |
+------------------+----------+
| openSUSE Leap 15 | PASS     |
+------------------+----------+
| RHEL8            | PASS     |
+------------------+----------+


Ubuntu 22.04
	Kernel: 4.18.0-240.10.1.el8_3.x86_64
	Compiler: gcc 11.3.0

CentOS Stream 8
	Kernel: 4.18.0-240.10.1.el8_3.x86_64
	Compiler: gcc 8.4.1 20200928

Debian Buster
	Kernel: 5.4.0-122-generic
	Compiler: gcc 8.3.0-6

Debian Bullseye
	Kernel: 5.4.0-122-generic
	Compiler: gcc 10.2.1-6

RHEL 7
	Kernel: 4.18.0-240.10.1.el8_3.x86_64
	Compiler: gcc 4.8.5 20150623 (Red Hat 4.8.5-44)

CentOS Stream 9
	Kernel: 4.18.0-240.10.1.el8_3.x86_64
	Compiler: gcc 11.3.1 20220421

openSUSE Leap 15
	Kernel: 4.18.0-240.10.1.el8_3.x86_64
	Compiler: gcc 7.5.0

RHEL8
	Kernel: 4.18.0-240.10.1.el8_3.x86_64
	Compiler: gcc 8.3.1 20191121 (Red Hat 8.3.1-5)

To view detailed results, visit:
https://lab.dpdk.org/results/dashboard/patchsets/26141/

UNH-IOL DPDK Community Lab

To manage your email subscriptions, visit: 
https://lab.dpdk.org/results/dashboard/preferences/subscriptions/