From mboxrd@z Thu Jan  1 00:00:00 1970
Return-Path: <test-report-bounces@dpdk.org>
Received: from mails.dpdk.org (mails.dpdk.org [217.70.189.124])
	by inbox.dpdk.org (Postfix) with ESMTP id 42C5442A39
	for <public@inbox.dpdk.org>; Tue,  2 May 2023 06:18:44 +0200 (CEST)
Received: from mails.dpdk.org (localhost [127.0.0.1])
	by mails.dpdk.org (Postfix) with ESMTP id 3EF5E40E2D;
	Tue,  2 May 2023 06:18:44 +0200 (CEST)
Received: from mail-qk1-f226.google.com (mail-qk1-f226.google.com
 [209.85.222.226])
 by mails.dpdk.org (Postfix) with ESMTP id 4B8F240E2D
 for <test-report@dpdk.org>; Tue,  2 May 2023 06:18:43 +0200 (CEST)
Received: by mail-qk1-f226.google.com with SMTP id
 af79cd13be357-7515631b965so780213985a.0
 for <test-report@dpdk.org>; Mon, 01 May 2023 21:18:43 -0700 (PDT)
DKIM-Signature: v=1; a=rsa-sha256; c=relaxed/relaxed;
 d=iol.unh.edu; s=unh-iol; t=1683001122; x=1685593122;
 h=cc:to:from:subject:message-id:date:from:to:cc:subject:date
 :message-id:reply-to;
 bh=Epn9GO9B+tKNLl2JJ9V51xJSbanO7OZyDvQHD7UXiNo=;
 b=HCl7B49Yureq3y51ijYCuz5yBztM9PhXh/ulAHBplsMQ7RDQMRmRs8h+6qObWPR0jM
 niApLM7G7jFodjq5jTQI6/pJ/A6np2jK8v8+nCYTNW4Lmw9CG5kuIeAQXCSLSGYBvDNv
 cfHnzZEHs5dkTk11f9VEOf0g+zpnhn5hF+An0=
X-Google-DKIM-Signature: v=1; a=rsa-sha256; c=relaxed/relaxed;
 d=1e100.net; s=20221208; t=1683001122; x=1685593122;
 h=cc:to:from:subject:message-id:date:x-gm-message-state:from:to:cc
 :subject:date:message-id:reply-to;
 bh=Epn9GO9B+tKNLl2JJ9V51xJSbanO7OZyDvQHD7UXiNo=;
 b=SolA9YbA9qKeC5/F94QKUFlEGUdiE5oIAqT/Ty+YxMjClQe+9hM68nIDjlP6T2Z4vV
 N9eB9ESMLuCFEy5Ty1FAjorKQQlHXQpaEUw3sjP4TCVY7lUycYkMytmLNyVotnUDtRSv
 KRBXHBHd2OMMKTPPoLYI8hhNJ0o0jjlh940QNuTo8/k1w28L/P6NJDtGUm+5kNKz4Dyp
 HoZxGfvYwU7LfHOsbkrjcxy+4gpYtvS+f4e8xlE9dCyoE8jQrjImufljN+ZsnE2sZIIG
 nHEahuCXmv/C9EI+hxzT0ApAYvEvcLwmHad527c+nDgxtSYG0+8dN0t4096FzBA2RZ/E
 sW9g==
X-Gm-Message-State: AC+VfDywNFV8FyCoToTADeO4d9yWFKrGINsZwlavNF+mmVDwY6pO6fOX
 y+qEOxWz0C4AldG5aENk6W5peFWewz02R+joIezBgLSHnbwjS9K5EMlRZg==
X-Google-Smtp-Source: ACHHUZ6s8VXAt6bav93huUt8SP571wfyOoOlJuNIcXirkq6AuKeTX8rANC4PYXa86B5mOXWHGjPINvftv8d5
X-Received: by 2002:a05:6214:e46:b0:5ef:8b6e:583c with SMTP id
 o6-20020a0562140e4600b005ef8b6e583cmr3101815qvc.5.1683001122703; 
 Mon, 01 May 2023 21:18:42 -0700 (PDT)
Received: from postal.iol.unh.edu (postal.iol.unh.edu. [132.177.123.84])
 by smtp-relay.gmail.com with ESMTPS id
 dy14-20020ad44e8e000000b005dd8b74ba17sm176148qvb.71.2023.05.01.21.18.42
 (version=TLS1_2 cipher=ECDHE-ECDSA-AES128-GCM-SHA256 bits=128/128);
 Mon, 01 May 2023 21:18:42 -0700 (PDT)
X-Relaying-Domain: iol.unh.edu
Date: Mon, 01 May 2023 21:18:42 -0700 (PDT)
Message-ID: <64508f22.d40a0220.90b5f.4fdfSMTPIN_ADDED_MISSING@mx.google.com>
Received: from [172.17.0.2] (unknown [172.18.0.34])
 by postal.iol.unh.edu (Postfix) with ESMTP id 6F724605246B;
 Tue,  2 May 2023 00:18:42 -0400 (EDT)
Subject: |SUCCESS| pw126640-126653 [PATCH] [v8,
 14/14] eal: do not define typeof macro when building with MSVC
From: dpdklab@iol.unh.edu
To: Test Report <test-report@dpdk.org>
Cc: dpdk-test-reports@iol.unh.edu, David Marchand <david.marchand@redhat.com>,
 Thomas Monjalon <thomas@monjalon.net>
Content-Type: text/plain
X-BeenThere: test-report@dpdk.org
X-Mailman-Version: 2.1.29
Precedence: list
List-Id: automatic DPDK test reports <test-report.dpdk.org>
List-Unsubscribe: <https://mails.dpdk.org/options/test-report>,
 <mailto:test-report-request@dpdk.org?subject=unsubscribe>
List-Archive: <http://mails.dpdk.org/archives/test-report/>
List-Post: <mailto:test-report@dpdk.org>
List-Help: <mailto:test-report-request@dpdk.org?subject=help>
List-Subscribe: <https://mails.dpdk.org/listinfo/test-report>,
 <mailto:test-report-request@dpdk.org?subject=subscribe>
Errors-To: test-report-bounces@dpdk.org

Test-Label: iol-abi-testing
Test-Status: SUCCESS
http://dpdk.org/patch/126653

_Testing PASS_

Submitter: Tyler Retzlaff <roretzla@linux.microsoft.com>
Date: Tuesday, May 02 2023 03:15:41 
DPDK git baseline: Repo:dpdk
  Branch: master
  CommitID:d03446724972d2a1bb645ce7f3e64f5ef0203d61

126640-126653 --> testing pass

Test environment and result as below:

+------------------+----------+
|   Environment    | abi_test |
+==================+==========+
| RHEL 7           | PASS     |
+------------------+----------+
| Ubuntu 22.04     | PASS     |
+------------------+----------+
| CentOS Stream 9  | PASS     |
+------------------+----------+
| Debian Bullseye  | PASS     |
+------------------+----------+
| openSUSE Leap 15 | PASS     |
+------------------+----------+


RHEL 7
	Kernel: 4.18.0-240.10.1.el8_3.x86_64
	Compiler: gcc 4.8.5 20150623 (Red Hat 4.8.5-44)

Ubuntu 22.04
	Kernel: Container Host Kernel
	Compiler: clang 14.0.5-1.fc36

CentOS Stream 9
	Kernel: 4.18.0-240.10.1.el8_3.x86_64
	Compiler: gcc 11.3.1 20220421

Debian Bullseye
	Kernel: 5.4.0-122-generic
	Compiler: gcc 10.2.1-6

openSUSE Leap 15
	Kernel: 4.18.0-240.10.1.el8_3.x86_64
	Compiler: gcc 7.5.0

To view detailed results, visit:
https://lab.dpdk.org/results/dashboard/patchsets/26142/

UNH-IOL DPDK Community Lab

To manage your email subscriptions, visit: 
https://lab.dpdk.org/results/dashboard/preferences/subscriptions/