From mboxrd@z Thu Jan  1 00:00:00 1970
Return-Path: <test-report-bounces@dpdk.org>
Received: from mails.dpdk.org (mails.dpdk.org [217.70.189.124])
	by inbox.dpdk.org (Postfix) with ESMTP id AE7C842A39
	for <public@inbox.dpdk.org>; Tue,  2 May 2023 06:25:51 +0200 (CEST)
Received: from mails.dpdk.org (localhost [127.0.0.1])
	by mails.dpdk.org (Postfix) with ESMTP id 9007640E2D;
	Tue,  2 May 2023 06:25:51 +0200 (CEST)
Received: from mail-pl1-f225.google.com (mail-pl1-f225.google.com
 [209.85.214.225])
 by mails.dpdk.org (Postfix) with ESMTP id 56F9340E2D
 for <test-report@dpdk.org>; Tue,  2 May 2023 06:25:50 +0200 (CEST)
Received: by mail-pl1-f225.google.com with SMTP id
 d9443c01a7336-1ab0c697c84so1504545ad.3
 for <test-report@dpdk.org>; Mon, 01 May 2023 21:25:50 -0700 (PDT)
DKIM-Signature: v=1; a=rsa-sha256; c=relaxed/relaxed;
 d=iol.unh.edu; s=unh-iol; t=1683001549; x=1685593549;
 h=cc:to:from:subject:message-id:date:from:to:cc:subject:date
 :message-id:reply-to;
 bh=YP8P3pI6gBHp9Rhsruys43x1Rd0GNb56fqw19R2nP+A=;
 b=WljBtuIY4Qd4aiggDeo6rtStYZhXm8UN3x2xtSP4As8v5LMkm/7Cc5Nsgt9+zLZDrw
 RNBRhb1hxWZzBkHnWJzKyfS1XFcv+GpqhtvZcD88r/pYiMN6LdBR2ogFunXIL5yw75zT
 JNVFoMNxI+Dulam0JJHlppwpjqi4g16qpOWbs=
X-Google-DKIM-Signature: v=1; a=rsa-sha256; c=relaxed/relaxed;
 d=1e100.net; s=20221208; t=1683001549; x=1685593549;
 h=cc:to:from:subject:message-id:date:x-gm-message-state:from:to:cc
 :subject:date:message-id:reply-to;
 bh=YP8P3pI6gBHp9Rhsruys43x1Rd0GNb56fqw19R2nP+A=;
 b=MdsYsdqfeQYXaisvqYslKIFU5PsavpCE10uG3f9e+i37eYaEjqNnduKGC1OHTz1oy0
 AaohDbokEKn3TIfut6qLXTAyjsUVPfNE6n+iNEzf/BibWb9/tzDS4boeIH8pU05Za7SI
 6rZteWKG45/8ZCIwlIyQYIEOibWdqnBTPFfk8NDXFBLIC+U8rReMmbxWMD6VchQ+PXnv
 GAs0sEsWAAuQSFesF8xBP17EjcdW2O/6dUxtwgfW9MsFbOWPkSnKskzBePSK9lyEZRH2
 HdGRd/NEDcNWvyzIb6XkUUwqgOu5UTiGRcJ2lJn5ImxsTfJEvulkDfGaxLh/hZy0W+Kw
 kSrQ==
X-Gm-Message-State: AC+VfDwvN0I988dzenyFor8FIRFTcfjVUEFlNg7l1IQ7RVh3X/bBLDGH
 NrLIt3maARqdkcJGzEKI8FQkhtgd2vx68uNpZNqo9L30pM0B4Im8PBd6hw==
X-Google-Smtp-Source: ACHHUZ5KjB1Mv8h3/q2UEFogLedTN2VZh3Fvre+Xr4ibxBct9I3vd7zcCibL7WKuW9mrL1evETbJtf6QmoBH
X-Received: by 2002:a17:902:868a:b0:1a9:6183:f965 with SMTP id
 g10-20020a170902868a00b001a96183f965mr16452089plo.60.1683001549558; 
 Mon, 01 May 2023 21:25:49 -0700 (PDT)
Received: from postal.iol.unh.edu (postal.iol.unh.edu. [132.177.123.84])
 by smtp-relay.gmail.com with ESMTPS id
 i6-20020a170902eb4600b001ab0498404bsm109007pli.64.2023.05.01.21.25.49
 (version=TLS1_2 cipher=ECDHE-ECDSA-AES128-GCM-SHA256 bits=128/128);
 Mon, 01 May 2023 21:25:49 -0700 (PDT)
X-Relaying-Domain: iol.unh.edu
Date: Mon, 01 May 2023 21:25:49 -0700 (PDT)
Message-ID: <645090cd.170a0220.68df4.3839SMTPIN_ADDED_MISSING@mx.google.com>
Received: from [172.17.0.3] (unknown [172.18.0.34])
 by postal.iol.unh.edu (Postfix) with ESMTP id 11C9F605246B;
 Tue,  2 May 2023 00:25:49 -0400 (EDT)
Subject: |SUCCESS| pw126640-126653 [PATCH] [v8,
 14/14] eal: do not define typeof macro when building with MSVC
From: dpdklab@iol.unh.edu
To: Test Report <test-report@dpdk.org>
Cc: dpdk-test-reports@iol.unh.edu, David Marchand <david.marchand@redhat.com>,
 Thomas Monjalon <thomas@monjalon.net>
Content-Type: text/plain
X-BeenThere: test-report@dpdk.org
X-Mailman-Version: 2.1.29
Precedence: list
List-Id: automatic DPDK test reports <test-report.dpdk.org>
List-Unsubscribe: <https://mails.dpdk.org/options/test-report>,
 <mailto:test-report-request@dpdk.org?subject=unsubscribe>
List-Archive: <http://mails.dpdk.org/archives/test-report/>
List-Post: <mailto:test-report@dpdk.org>
List-Help: <mailto:test-report-request@dpdk.org?subject=help>
List-Subscribe: <https://mails.dpdk.org/listinfo/test-report>,
 <mailto:test-report-request@dpdk.org?subject=subscribe>
Errors-To: test-report-bounces@dpdk.org

Test-Label: iol-abi-testing
Test-Status: SUCCESS
http://dpdk.org/patch/126653

_Testing PASS_

Submitter: Tyler Retzlaff <roretzla@linux.microsoft.com>
Date: Tuesday, May 02 2023 03:15:41 
DPDK git baseline: Repo:dpdk
  Branch: master
  CommitID:d03446724972d2a1bb645ce7f3e64f5ef0203d61

126640-126653 --> testing pass

Test environment and result as below:

+------------------+----------+
|   Environment    | abi_test |
+==================+==========+
| RHEL 7           | PASS     |
+------------------+----------+
| Ubuntu 22.04     | PASS     |
+------------------+----------+
| CentOS Stream 9  | PASS     |
+------------------+----------+
| Debian Bullseye  | PASS     |
+------------------+----------+
| openSUSE Leap 15 | PASS     |
+------------------+----------+
| Debian Buster    | PASS     |
+------------------+----------+
| CentOS Stream 8  | PASS     |
+------------------+----------+
| RHEL8            | PASS     |
+------------------+----------+


RHEL 7
	Kernel: 4.18.0-240.10.1.el8_3.x86_64
	Compiler: gcc 4.8.5 20150623 (Red Hat 4.8.5-44)

Ubuntu 22.04
	Kernel: Container Host Kernel
	Compiler: clang 14.0.5-1.fc36

CentOS Stream 9
	Kernel: 4.18.0-240.10.1.el8_3.x86_64
	Compiler: gcc 11.3.1 20220421

Debian Bullseye
	Kernel: 5.4.0-122-generic
	Compiler: gcc 10.2.1-6

openSUSE Leap 15
	Kernel: 4.18.0-240.10.1.el8_3.x86_64
	Compiler: gcc 7.5.0

Debian Buster
	Kernel: 5.4.0-122-generic
	Compiler: gcc 8.3.0-6

CentOS Stream 8
	Kernel: 4.18.0-240.10.1.el8_3.x86_64
	Compiler: gcc 8.4.1 20200928

RHEL8
	Kernel: 4.18.0-240.10.1.el8_3.x86_64
	Compiler: gcc 8.3.1 20191121 (Red Hat 8.3.1-5)

To view detailed results, visit:
https://lab.dpdk.org/results/dashboard/patchsets/26142/

UNH-IOL DPDK Community Lab

To manage your email subscriptions, visit: 
https://lab.dpdk.org/results/dashboard/preferences/subscriptions/