From mboxrd@z Thu Jan  1 00:00:00 1970
Return-Path: <test-report-bounces@dpdk.org>
Received: from mails.dpdk.org (mails.dpdk.org [217.70.189.124])
	by inbox.dpdk.org (Postfix) with ESMTP id 064FA42A3D
	for <public@inbox.dpdk.org>; Tue,  2 May 2023 10:23:06 +0200 (CEST)
Received: from mails.dpdk.org (localhost [127.0.0.1])
	by mails.dpdk.org (Postfix) with ESMTP id DEC8740E2D;
	Tue,  2 May 2023 10:23:06 +0200 (CEST)
Received: from mail-il1-f226.google.com (mail-il1-f226.google.com
 [209.85.166.226])
 by mails.dpdk.org (Postfix) with ESMTP id 456C040E2D
 for <test-report@dpdk.org>; Tue,  2 May 2023 10:23:06 +0200 (CEST)
Received: by mail-il1-f226.google.com with SMTP id
 e9e14a558f8ab-33119abae99so6634345ab.0
 for <test-report@dpdk.org>; Tue, 02 May 2023 01:23:06 -0700 (PDT)
DKIM-Signature: v=1; a=rsa-sha256; c=relaxed/relaxed;
 d=iol.unh.edu; s=unh-iol; t=1683015785; x=1685607785;
 h=cc:to:from:subject:message-id:date:from:to:cc:subject:date
 :message-id:reply-to;
 bh=kmUEWwiGVle3EWMeQkxqiAF0dbT8WejUCSxgVdSD6VE=;
 b=azP5dCPYTm5arV6Q+P+zQrcDMgn6nO4pZ/QkLFSk6xUHAKrhfTGQmKdMM2G1HGMKTU
 TQp28+n1E+pecnPxDdyySr4nvedzdLTNTJrP9HwSDAha9flTcmR3SVdD14qBpxFlt5Vn
 TmhDff3y3JX67hz+nTxG9q2i4njnJUvA6sATQ=
X-Google-DKIM-Signature: v=1; a=rsa-sha256; c=relaxed/relaxed;
 d=1e100.net; s=20221208; t=1683015785; x=1685607785;
 h=cc:to:from:subject:message-id:date:x-gm-message-state:from:to:cc
 :subject:date:message-id:reply-to;
 bh=kmUEWwiGVle3EWMeQkxqiAF0dbT8WejUCSxgVdSD6VE=;
 b=eq6arT9/xvnk02fT6evfR7kpdu/VDqh12qee2U5HuzFKMY0LmgqytUBisEl3xAueji
 YYECqKKi/6g1S3NNzU6u5LbVwtdLO4729CD/L6T6G5s5tluIZi1kNBpA3TpBGDLGjinM
 vrXNdj7CKQgdysywT3zEbs58UUFO55JBINDEWxpDIV8o0Vf23cKH+QcggCWwQ116JTJ7
 fYvS+Wh34sFobS5osGyBjkZ0LsxQwr52RhVI9zjfEMbQD+gDWgcadr9fVxdzOuhXdCs3
 Szn8kxu+Uzn5Bn4PVq73tRCMzc/M1O7Ic1+ekKC8UTCR9DizCUObWYJvCjQeHol06bk6
 PEMA==
X-Gm-Message-State: AC+VfDxks5gBYx7Pah7VWy92NaAImvbBk+BWPjtPpD1xy47iohKVVUvD
 xO1XO8k5gUsGfAnOLn3VOwNxRBfDrmpMQiwOW6RdONt5kYk2duDVmitK8g==
X-Google-Smtp-Source: ACHHUZ6myktj/UnrWkqWpawOdHtXa0IcJlTjnBI4xOSqlCyr/Ovg23823jD2XFQ+ZaDqdtLVbGypWWPsoOpg
X-Received: by 2002:a05:6e02:c82:b0:331:cfc:d291 with SMTP id
 b2-20020a056e020c8200b003310cfcd291mr1910035ile.5.1683015785645; 
 Tue, 02 May 2023 01:23:05 -0700 (PDT)
Received: from postal.iol.unh.edu (postal.iol.unh.edu. [132.177.123.84])
 by smtp-relay.gmail.com with ESMTPS id
 t11-20020a92d14b000000b00328d9799526sm1292327ilg.69.2023.05.02.01.23.05
 (version=TLS1_2 cipher=ECDHE-ECDSA-AES128-GCM-SHA256 bits=128/128);
 Tue, 02 May 2023 01:23:05 -0700 (PDT)
X-Relaying-Domain: iol.unh.edu
Date: Tue, 02 May 2023 01:23:05 -0700 (PDT)
Message-ID: <6450c869.920a0220.c88c8.e156SMTPIN_ADDED_MISSING@mx.google.com>
Received: from [172.17.0.2] (unknown [172.18.0.34])
 by postal.iol.unh.edu (Postfix) with ESMTP id 3A492605246B;
 Tue,  2 May 2023 04:23:05 -0400 (EDT)
Subject: |SUCCESS| pw126656 [PATCH] [v2] eventdev/eth_tx: fix runtime
 parameter test
From: dpdklab@iol.unh.edu
To: Test Report <test-report@dpdk.org>
Cc: dpdk-test-reports@iol.unh.edu, David Marchand <david.marchand@redhat.com>,
 Thomas Monjalon <thomas@monjalon.net>
Content-Type: text/plain
X-BeenThere: test-report@dpdk.org
X-Mailman-Version: 2.1.29
Precedence: list
List-Id: automatic DPDK test reports <test-report.dpdk.org>
List-Unsubscribe: <https://mails.dpdk.org/options/test-report>,
 <mailto:test-report-request@dpdk.org?subject=unsubscribe>
List-Archive: <http://mails.dpdk.org/archives/test-report/>
List-Post: <mailto:test-report@dpdk.org>
List-Help: <mailto:test-report-request@dpdk.org?subject=help>
List-Subscribe: <https://mails.dpdk.org/listinfo/test-report>,
 <mailto:test-report-request@dpdk.org?subject=subscribe>
Errors-To: test-report-bounces@dpdk.org

Test-Label: iol-abi-testing
Test-Status: SUCCESS
http://dpdk.org/patch/126656

_Testing PASS_

Submitter: Naga Harish K S V <s.v.naga.harish.k@intel.com>
Date: Tuesday, May 02 2023 05:57:11 
DPDK git baseline: Repo:dpdk
  Branch: master
  CommitID:d03446724972d2a1bb645ce7f3e64f5ef0203d61

126656 --> testing pass

Test environment and result as below:

+------------------+----------+
|   Environment    | abi_test |
+==================+==========+
| Ubuntu 22.04     | PASS     |
+------------------+----------+
| Debian Bullseye  | PASS     |
+------------------+----------+
| RHEL 7           | PASS     |
+------------------+----------+
| CentOS Stream 9  | PASS     |
+------------------+----------+
| Debian Buster    | PASS     |
+------------------+----------+
| CentOS Stream 8  | PASS     |
+------------------+----------+
| openSUSE Leap 15 | PASS     |
+------------------+----------+


Ubuntu 22.04
	Kernel: Container Host Kernel
	Compiler: gcc 11.3.1-2

Debian Bullseye
	Kernel: 5.4.0-122-generic
	Compiler: gcc 10.2.1-6

RHEL 7
	Kernel: 4.18.0-240.10.1.el8_3.x86_64
	Compiler: gcc 4.8.5 20150623 (Red Hat 4.8.5-44)

CentOS Stream 9
	Kernel: 4.18.0-240.10.1.el8_3.x86_64
	Compiler: gcc 11.3.1 20220421

Debian Buster
	Kernel: 5.4.0-122-generic
	Compiler: gcc 8.3.0-6

CentOS Stream 8
	Kernel: 4.18.0-240.10.1.el8_3.x86_64
	Compiler: gcc 8.4.1 20200928

openSUSE Leap 15
	Kernel: 4.18.0-240.10.1.el8_3.x86_64
	Compiler: gcc 7.5.0

To view detailed results, visit:
https://lab.dpdk.org/results/dashboard/patchsets/26144/

UNH-IOL DPDK Community Lab

To manage your email subscriptions, visit: 
https://lab.dpdk.org/results/dashboard/preferences/subscriptions/