From mboxrd@z Thu Jan  1 00:00:00 1970
Return-Path: <test-report-bounces@dpdk.org>
Received: from mails.dpdk.org (mails.dpdk.org [217.70.189.124])
	by inbox.dpdk.org (Postfix) with ESMTP id 9740A42A50
	for <public@inbox.dpdk.org>; Wed,  3 May 2023 17:20:36 +0200 (CEST)
Received: from mails.dpdk.org (localhost [127.0.0.1])
	by mails.dpdk.org (Postfix) with ESMTP id 6F6A7410F9;
	Wed,  3 May 2023 17:20:36 +0200 (CEST)
Received: from mail-pg1-f228.google.com (mail-pg1-f228.google.com
 [209.85.215.228])
 by mails.dpdk.org (Postfix) with ESMTP id D5F5D410F9
 for <test-report@dpdk.org>; Wed,  3 May 2023 17:20:34 +0200 (CEST)
Received: by mail-pg1-f228.google.com with SMTP id
 41be03b00d2f7-52160f75920so3688393a12.2
 for <test-report@dpdk.org>; Wed, 03 May 2023 08:20:34 -0700 (PDT)
DKIM-Signature: v=1; a=rsa-sha256; c=relaxed/relaxed;
 d=iol.unh.edu; s=unh-iol; t=1683127234; x=1685719234;
 h=cc:to:from:subject:message-id:date:from:to:cc:subject:date
 :message-id:reply-to;
 bh=70PocFpFr27WPaurkfMu/Dl6rkcojJuPqTlegAy/djo=;
 b=BbnlGjqOYE+PvNH4QlUUxh+7zYAPTQ/8ufbo3hhM4lRd/7ujl3y1JPTnQ+cUWRSsXd
 e6cVH+qBW/P+kA4RC1S0U7IoFyKD1qbjMtbaaqJTIjNQ9gxle0Gly2yD7q9tlskS0UGv
 G1yD5pyb0hFvp6cY/tGMgxweQTsI72SmdQWSM=
X-Google-DKIM-Signature: v=1; a=rsa-sha256; c=relaxed/relaxed;
 d=1e100.net; s=20221208; t=1683127234; x=1685719234;
 h=cc:to:from:subject:message-id:date:x-gm-message-state:from:to:cc
 :subject:date:message-id:reply-to;
 bh=70PocFpFr27WPaurkfMu/Dl6rkcojJuPqTlegAy/djo=;
 b=GisajRxcBNFF5NxT4+HO+yjA6oqSNh/qzFAA8XXHxWKOckzeK+Y6yLuw971wY7xS1q
 DEBou2trjkxXPhneafMedlft+OKd2N0YUfuq6IrtD109BcmCln7eqgqMgiEpK7S2vJgp
 WZfngk/vcu/YdTgyYh0Ezf+p7CmQEH6LjS5alPqUw0LvT8hSzqtJ2yJP4W2wySW+i2VY
 rsZ1lQh1Vp7nHLPK40HRs7jv8J8vGyIc6GJ6xlER6UPXtiXL60PX/Hgm/OBTHZDQft4o
 rL1W0aofAm7DCgG0Zev+0Kb2EegellpCZddk4IzajkoCjFEojoO4CMw3n3mIGQj3ygYO
 GEPQ==
X-Gm-Message-State: AC+VfDzzbjWU8pwBZ+CDvTVRA6BQi9C6REtL2/zyUQKC+zfijVOsM//n
 Rp5WTYNxopJMQxUVtL2wXsrb5i+ZtDD9EcodhBkfFTXyqhj9JmNF5VT+lA==
X-Google-Smtp-Source: ACHHUZ6S0nOqw66FrL09QFdVBoo6TNvLJBkVudBV0F4Y+GGagJMwZkDu9v3dGANtJ+Fjerh5TLafjjtioMKV
X-Received: by 2002:a17:903:1105:b0:1a9:bc13:7e20 with SMTP id
 n5-20020a170903110500b001a9bc137e20mr392495plh.44.1683127234040; 
 Wed, 03 May 2023 08:20:34 -0700 (PDT)
Received: from postal.iol.unh.edu (postal.iol.unh.edu. [132.177.123.84])
 by smtp-relay.gmail.com with ESMTPS id
 jh13-20020a170903328d00b001aaee1fbeabsm325988plb.10.2023.05.03.08.20.33
 (version=TLS1_2 cipher=ECDHE-ECDSA-AES128-GCM-SHA256 bits=128/128);
 Wed, 03 May 2023 08:20:34 -0700 (PDT)
X-Relaying-Domain: iol.unh.edu
Date: Wed, 03 May 2023 08:20:34 -0700 (PDT)
Message-ID: <64527bc2.170a0220.f61e3.eb74SMTPIN_ADDED_MISSING@mx.google.com>
Received: from [172.17.0.2] (unknown [172.18.0.34])
 by postal.iol.unh.edu (Postfix) with ESMTP id 47BB0605246B;
 Wed,  3 May 2023 11:20:33 -0400 (EDT)
Subject: |SUCCESS| pw126672-126674 [PATCH] [3/3] net/mlx5: support enhanced
 multi-packet write on Windows
From: dpdklab@iol.unh.edu
To: Test Report <test-report@dpdk.org>
Cc: dpdk-test-reports@iol.unh.edu, David Marchand <david.marchand@redhat.com>,
 Thomas Monjalon <thomas@monjalon.net>
Content-Type: text/plain
X-BeenThere: test-report@dpdk.org
X-Mailman-Version: 2.1.29
Precedence: list
List-Id: automatic DPDK test reports <test-report.dpdk.org>
List-Unsubscribe: <https://mails.dpdk.org/options/test-report>,
 <mailto:test-report-request@dpdk.org?subject=unsubscribe>
List-Archive: <http://mails.dpdk.org/archives/test-report/>
List-Post: <mailto:test-report@dpdk.org>
List-Help: <mailto:test-report-request@dpdk.org?subject=help>
List-Subscribe: <https://mails.dpdk.org/listinfo/test-report>,
 <mailto:test-report-request@dpdk.org?subject=subscribe>
Errors-To: test-report-bounces@dpdk.org

Test-Label: iol-aarch64-compile-testing
Test-Status: SUCCESS
http://dpdk.org/patch/126674

_Testing PASS_

Submitter: Tal Shnaiderman <talshn@nvidia.com>
Date: Wednesday, May 03 2023 11:49:21 
DPDK git baseline: Repo:dpdk
  Branch: master
  CommitID:d03446724972d2a1bb645ce7f3e64f5ef0203d61

126672-126674 --> testing pass

Test environment and result as below:

+----------------------------------------+--------------------+
|              Environment               | dpdk_meson_compile |
+========================================+====================+
| Ubuntu 20.04 ARM Clang Native          | PASS               |
+----------------------------------------+--------------------+
| Ubuntu 20.04 ARM GCC Native            | PASS               |
+----------------------------------------+--------------------+
| Ubuntu 20.04 ARM Clang Cross Compile   | PASS               |
+----------------------------------------+--------------------+
| Ubuntu 20.04 aarch32 GCC Cross Compile | PASS               |
+----------------------------------------+--------------------+
| Ubuntu 20.04 ARM GCC Cross Compile     | PASS               |
+----------------------------------------+--------------------+
| Ubuntu 20.04 ARM SVE                   | PASS               |
+----------------------------------------+--------------------+


Ubuntu 20.04 ARM Clang Native
	Kernel: 5.4.0-53-generic
	Compiler: clang 10.0.0-4ubuntu1

Ubuntu 20.04 ARM GCC Native
	Kernel: 5.4.0-53-generic
	Compiler: gcc 9.3

Ubuntu 20.04 ARM Clang Cross Compile
	Kernel: 5.4.0-72-generic
	Compiler: clang version 10.0.0-4ubuntu1

Ubuntu 20.04 aarch32 GCC Cross Compile
	Kernel: 5.4.0-72-generic
	Compiler: gcc 9.3.0

Ubuntu 20.04 ARM GCC Cross Compile
	Kernel: 5.4.0-72-generic
	Compiler: aarch64-linux-gnu-gcc (Ubuntu 9.3.0-17ubuntu1~20.04) 9.3.0

Ubuntu 20.04 ARM SVE
	Kernel: 5.4.0-80-generic
	Compiler: gcc 10.3.0 (Ubuntu 10.3.0-1ubuntu1~20.04)

To view detailed results, visit:
https://lab.dpdk.org/results/dashboard/patchsets/26158/

UNH-IOL DPDK Community Lab

To manage your email subscriptions, visit: 
https://lab.dpdk.org/results/dashboard/preferences/subscriptions/