From mboxrd@z Thu Jan  1 00:00:00 1970
Return-Path: <test-report-bounces@dpdk.org>
Received: from mails.dpdk.org (mails.dpdk.org [217.70.189.124])
	by inbox.dpdk.org (Postfix) with ESMTP id BF1D742A50
	for <public@inbox.dpdk.org>; Wed,  3 May 2023 17:58:09 +0200 (CEST)
Received: from mails.dpdk.org (localhost [127.0.0.1])
	by mails.dpdk.org (Postfix) with ESMTP id BBD97410F9;
	Wed,  3 May 2023 17:58:09 +0200 (CEST)
Received: from mail-pf1-f228.google.com (mail-pf1-f228.google.com
 [209.85.210.228])
 by mails.dpdk.org (Postfix) with ESMTP id 9AEAC410F9
 for <test-report@dpdk.org>; Wed,  3 May 2023 17:58:08 +0200 (CEST)
Received: by mail-pf1-f228.google.com with SMTP id
 d2e1a72fcca58-64374860853so37832b3a.1
 for <test-report@dpdk.org>; Wed, 03 May 2023 08:58:08 -0700 (PDT)
DKIM-Signature: v=1; a=rsa-sha256; c=relaxed/relaxed;
 d=iol.unh.edu; s=unh-iol; t=1683129488; x=1685721488;
 h=cc:to:from:subject:message-id:date:from:to:cc:subject:date
 :message-id:reply-to;
 bh=FX8eTI9Ho3KtNd5DcLVYOLia1+dGPMlYrkd66B/5Q2o=;
 b=Qcu9xEsmLGRNlnLcWeWghH3uO3x3tIIZkyGqkZsE/rHbQ5TFYv69rjmIKh7+bDqn4n
 nwi1JKJ4PZY2vfHmC4BsqtIORsLRd2ZY1adXkB19Qa6IB8vmCWNRqxvpcbJZ4dVOpbCf
 2wA9PwIh2nRnYEIE5ubEb2lQj8DmcCVL0WS5o=
X-Google-DKIM-Signature: v=1; a=rsa-sha256; c=relaxed/relaxed;
 d=1e100.net; s=20221208; t=1683129488; x=1685721488;
 h=cc:to:from:subject:message-id:date:x-gm-message-state:from:to:cc
 :subject:date:message-id:reply-to;
 bh=FX8eTI9Ho3KtNd5DcLVYOLia1+dGPMlYrkd66B/5Q2o=;
 b=YNIvdNMK2mFZWFcw8hgICpRhtfHlNfMNGX7sRZwTvxIk4uXcjySMjeIofqkX6TsVnd
 kYDeDQEZbOBKWRR73AITQLfhP4MgLPTmCjmnN8IEcde+8APsCQjU1YYgkuts0EjJDquY
 0MOHkWCsKB6/gNcVPCi4yed4+7PMjq0xgqZV9Lm9/x+xQcDqj2VczAvDr7f7iBmbBrdj
 2anXGgH7N8P4szu9bgAeL2TDDq/ytMkFowwFVgw3NdN00hpPWgwmPZsd1eB8UpH7i3e2
 PQB3kDMfi0si0/k14Go5f+9M1RyzdhrVfxTvVpOjXcqjtI1IeD14rEF/uXEJhNH8gDdp
 jGxA==
X-Gm-Message-State: AC+VfDw9GKAw/LQjhcToQjSI3KV7+9lCFE9C6SOx8IRjwUTNSo8of6n1
 IBA+801rApA7IitvKAbN3bxoo8+0fd6I4sDWDT2M38qYOFlCaaaCjh19wA==
X-Google-Smtp-Source: ACHHUZ7wu2/djmFO5r6nqPJLIHDuyfugNbsgIk5Rsx/L8RrAeV28PEkr7wc2Qsd2WnKlNLaVHqJHA8ZzNVhP
X-Received: by 2002:a05:6a21:3a48:b0:f0:ac6b:379f with SMTP id
 zu8-20020a056a213a4800b000f0ac6b379fmr22984046pzb.15.1683129487797; 
 Wed, 03 May 2023 08:58:07 -0700 (PDT)
Received: from postal.iol.unh.edu (postal.iol.unh.edu. [132.177.123.84])
 by smtp-relay.gmail.com with ESMTPS id
 k24-20020a63f018000000b0051b8deb2b5fsm1854195pgh.11.2023.05.03.08.58.07
 (version=TLS1_2 cipher=ECDHE-ECDSA-AES128-GCM-SHA256 bits=128/128);
 Wed, 03 May 2023 08:58:07 -0700 (PDT)
X-Relaying-Domain: iol.unh.edu
Date: Wed, 03 May 2023 08:58:07 -0700 (PDT)
Message-ID: <6452848f.630a0220.d569.1997SMTPIN_ADDED_MISSING@mx.google.com>
Received: from [172.17.0.2] (unknown [172.18.0.34])
 by postal.iol.unh.edu (Postfix) with ESMTP id 46EF4605246B;
 Wed,  3 May 2023 11:58:07 -0400 (EDT)
Subject: |SUCCESS| pw126405-126414 [PATCH] [v2,
 11/11] net/bnxt: Avoid submitting hwrm rss request when rss mode
 disabled
From: dpdklab@iol.unh.edu
To: Test Report <test-report@dpdk.org>
Cc: dpdk-test-reports@iol.unh.edu
Content-Type: text/plain
X-BeenThere: test-report@dpdk.org
X-Mailman-Version: 2.1.29
Precedence: list
List-Id: automatic DPDK test reports <test-report.dpdk.org>
List-Unsubscribe: <https://mails.dpdk.org/options/test-report>,
 <mailto:test-report-request@dpdk.org?subject=unsubscribe>
List-Archive: <http://mails.dpdk.org/archives/test-report/>
List-Post: <mailto:test-report@dpdk.org>
List-Help: <mailto:test-report-request@dpdk.org?subject=help>
List-Subscribe: <https://mails.dpdk.org/listinfo/test-report>,
 <mailto:test-report-request@dpdk.org?subject=subscribe>
Errors-To: test-report-bounces@dpdk.org

Test-Label: iol-abi-testing
Test-Status: SUCCESS
http://dpdk.org/patch/126414

_Testing PASS_

Submitter: Randy Schacher <stuart.schacher@broadcom.com>
Date: Friday, April 21 2023 18:11:55 
DPDK git baseline: Repo:dpdk
  Branch: master
  CommitID:d03446724972d2a1bb645ce7f3e64f5ef0203d61

126405-126414 --> testing pass

Test environment and result as below:

+------------------+----------+
|   Environment    | abi_test |
+==================+==========+
| Debian Bullseye  | PASS     |
+------------------+----------+
| Ubuntu 22.04     | PASS     |
+------------------+----------+
| openSUSE Leap 15 | PASS     |
+------------------+----------+
| RHEL8            | PASS     |
+------------------+----------+
| RHEL 7           | PASS     |
+------------------+----------+


Debian Bullseye
	Kernel: 5.4.0-122-generic
	Compiler: gcc 10.2.1-6

Ubuntu 22.04
	Kernel: Container Host Kernel
	Compiler: gcc 11.3.1-2

openSUSE Leap 15
	Kernel: 4.18.0-240.10.1.el8_3.x86_64
	Compiler: gcc 7.5.0

RHEL8
	Kernel: 4.18.0-240.10.1.el8_3.x86_64
	Compiler: gcc 8.3.1 20191121 (Red Hat 8.3.1-5)

RHEL 7
	Kernel: 4.18.0-240.10.1.el8_3.x86_64
	Compiler: gcc 4.8.5 20150623 (Red Hat 4.8.5-44)

To view detailed results, visit:
https://lab.dpdk.org/results/dashboard/patchsets/26087/

UNH-IOL DPDK Community Lab

To manage your email subscriptions, visit: 
https://lab.dpdk.org/results/dashboard/preferences/subscriptions/