From mboxrd@z Thu Jan  1 00:00:00 1970
Return-Path: <test-report-bounces@dpdk.org>
Received: from mails.dpdk.org (mails.dpdk.org [217.70.189.124])
	by inbox.dpdk.org (Postfix) with ESMTP id 00A3E42A52
	for <public@inbox.dpdk.org>; Wed,  3 May 2023 20:43:30 +0200 (CEST)
Received: from mails.dpdk.org (localhost [127.0.0.1])
	by mails.dpdk.org (Postfix) with ESMTP id EFA7E410F9;
	Wed,  3 May 2023 20:43:30 +0200 (CEST)
Received: from mail-vk1-f226.google.com (mail-vk1-f226.google.com
 [209.85.221.226])
 by mails.dpdk.org (Postfix) with ESMTP id 5AB7F410F9
 for <test-report@dpdk.org>; Wed,  3 May 2023 20:43:30 +0200 (CEST)
Received: by mail-vk1-f226.google.com with SMTP id
 71dfb90a1353d-44fbe7f0b7aso233608e0c.3
 for <test-report@dpdk.org>; Wed, 03 May 2023 11:43:30 -0700 (PDT)
DKIM-Signature: v=1; a=rsa-sha256; c=relaxed/relaxed;
 d=iol.unh.edu; s=unh-iol; t=1683139409; x=1685731409;
 h=cc:to:from:subject:message-id:date:from:to:cc:subject:date
 :message-id:reply-to;
 bh=Cqwc6jK2S8q0ctgpz9VDjAJA3mw62Ozhm/VHz3QZi94=;
 b=cgt6A7agCzs+MlkJkR3+ZZ4EJiaOnqyMXXUPLqbbBfZRZUdJeND+/b9+U0rwkEe53h
 895BXqiCT2dWbpkzpTbrKITgXCz7Fj2eB/zXeRtWrFTxe2CO5TmfljJnGkmjRJDjJesS
 GrlkjZhchR+ugpZ24s8WbTa1Mw18NWMXdXcOo=
X-Google-DKIM-Signature: v=1; a=rsa-sha256; c=relaxed/relaxed;
 d=1e100.net; s=20221208; t=1683139409; x=1685731409;
 h=cc:to:from:subject:message-id:date:x-gm-message-state:from:to:cc
 :subject:date:message-id:reply-to;
 bh=Cqwc6jK2S8q0ctgpz9VDjAJA3mw62Ozhm/VHz3QZi94=;
 b=lz/C4E66ZX1fF9jYtD9HU3GHKHB04wtGyrKDYIzmwp5KiRo/ICet5vP1J0iq3tkHHy
 qNPvYcOPdVSUJT1alCKx/jVDRefa3pLDtxf0/jmO1uwUquRvmLYSiG6FGXi3E+BqL+Em
 YKxTHtCuw+N4g/xspF3Y7p7x3m7DXik6ZQeknB3r+aEqnlvSBoDjQMAuBCU2R9eFN4Ys
 Z2Na4lZxfhxji5GGr6GEUqSbQzh3aNVTk4nXuuGaawfUqSBWHjk4zX03M1ic9oYsSOOa
 CsyaTsnWgG7rOr+InxFKp8Rm7PlLO0auzQja/kBNJVJ7tqPOPKkeHaAp+gCEE3TahmUr
 PK5Q==
X-Gm-Message-State: AC+VfDxKBFlQiwnGqwdMaftbvX1FvFMUDz9PPOFhKrvU0e2W011hCbbg
 Yz1J27AqWKZ0OCed2Q/xVcIYh4c5NrTiUr/9w2eg38SWoqdzbPbtyMyX3IU+mzG3WHBhGwRI1A=
 =
X-Google-Smtp-Source: ACHHUZ7WhZ997AvD50YqpAGlfwWNltv6+PiB118dX0wQx9zNGn7xOYkUJRQub05x3h6SibYjQQNZIgjLHZuh
X-Received: by 2002:a1f:6086:0:b0:440:611a:da1f with SMTP id
 u128-20020a1f6086000000b00440611ada1fmr6836099vkb.2.1683139409763; 
 Wed, 03 May 2023 11:43:29 -0700 (PDT)
Received: from postal.iol.unh.edu (postal.iol.unh.edu.
 [2606:4100:3880:1234::84]) by smtp-relay.gmail.com with ESMTPS id
 e13-20020a056122130d00b004439f007e82sm3367920vkp.2.2023.05.03.11.43.29
 (version=TLS1_2 cipher=ECDHE-ECDSA-AES128-GCM-SHA256 bits=128/128);
 Wed, 03 May 2023 11:43:29 -0700 (PDT)
X-Relaying-Domain: iol.unh.edu
Date: Wed, 03 May 2023 11:43:29 -0700 (PDT)
Message-ID: <6452ab51.050a0220.3fae4.7321SMTPIN_ADDED_MISSING@mx.google.com>
Received: from [172.17.0.2] (unknown [172.18.0.34])
 by postal.iol.unh.edu (Postfix) with ESMTP id 6ED9E605246B;
 Wed,  3 May 2023 14:43:29 -0400 (EDT)
Subject: |SUCCESS| pw126677 [PATCH] [v2] build: announce requirement for C11
From: dpdklab@iol.unh.edu
To: Test Report <test-report@dpdk.org>
Cc: Bruce Richardson <bruce.richardson@intel.com>,
 David Marchand <david.marchand@redhat.com>,
 Thomas Monjalon <thomas@monjalon.net>
Content-Type: text/plain
X-BeenThere: test-report@dpdk.org
X-Mailman-Version: 2.1.29
Precedence: list
List-Id: automatic DPDK test reports <test-report.dpdk.org>
List-Unsubscribe: <https://mails.dpdk.org/options/test-report>,
 <mailto:test-report-request@dpdk.org?subject=unsubscribe>
List-Archive: <http://mails.dpdk.org/archives/test-report/>
List-Post: <mailto:test-report@dpdk.org>
List-Help: <mailto:test-report-request@dpdk.org?subject=help>
List-Subscribe: <https://mails.dpdk.org/listinfo/test-report>,
 <mailto:test-report-request@dpdk.org?subject=subscribe>
Errors-To: test-report-bounces@dpdk.org

Test-Label: iol-abi-testing
Test-Status: SUCCESS
http://dpdk.org/patch/126677

_Testing PASS_

Submitter: Bruce Richardson <bruce.richardson@intel.com>
Date: Wednesday, May 03 2023 17:30:22 
DPDK git baseline: Repo:dpdk
  Branch: master
  CommitID:d03446724972d2a1bb645ce7f3e64f5ef0203d61

126677 --> testing pass

Test environment and result as below:

+------------------+----------+
|   Environment    | abi_test |
+==================+==========+
| Ubuntu 22.04     | PASS     |
+------------------+----------+
| RHEL 7           | PASS     |
+------------------+----------+
| CentOS Stream 9  | PASS     |
+------------------+----------+
| openSUSE Leap 15 | PASS     |
+------------------+----------+
| Debian Bullseye  | PASS     |
+------------------+----------+
| RHEL8            | PASS     |
+------------------+----------+
| Debian Buster    | PASS     |
+------------------+----------+


Ubuntu 22.04
	Kernel: Container Host Kernel
	Compiler: gcc 12.2.1-2

RHEL 7
	Kernel: 4.18.0-240.10.1.el8_3.x86_64
	Compiler: gcc 4.8.5 20150623 (Red Hat 4.8.5-44)

CentOS Stream 9
	Kernel: 4.18.0-240.10.1.el8_3.x86_64
	Compiler: gcc 11.3.1 20220421

openSUSE Leap 15
	Kernel: 4.18.0-240.10.1.el8_3.x86_64
	Compiler: gcc 7.5.0

Debian Bullseye
	Kernel: 5.4.0-122-generic
	Compiler: gcc 10.2.1-6

RHEL8
	Kernel: 4.18.0-240.10.1.el8_3.x86_64
	Compiler: gcc 8.3.1 20191121 (Red Hat 8.3.1-5)

Debian Buster
	Kernel: 5.4.0-122-generic
	Compiler: gcc 8.3.0-6

To view detailed results, visit:
https://lab.dpdk.org/results/dashboard/patchsets/26161/

UNH-IOL DPDK Community Lab

To manage your email subscriptions, visit: 
https://lab.dpdk.org/results/dashboard/preferences/subscriptions/