From mboxrd@z Thu Jan  1 00:00:00 1970
Return-Path: <test-report-bounces@dpdk.org>
Received: from mails.dpdk.org (mails.dpdk.org [217.70.189.124])
	by inbox.dpdk.org (Postfix) with ESMTP id F00E842A6B
	for <public@inbox.dpdk.org>; Fri,  5 May 2023 09:58:38 +0200 (CEST)
Received: from mails.dpdk.org (localhost [127.0.0.1])
	by mails.dpdk.org (Postfix) with ESMTP id E9C88406B6;
	Fri,  5 May 2023 09:58:38 +0200 (CEST)
Received: from mail-qk1-f226.google.com (mail-qk1-f226.google.com
 [209.85.222.226])
 by mails.dpdk.org (Postfix) with ESMTP id 43A37406B6
 for <test-report@dpdk.org>; Fri,  5 May 2023 09:58:37 +0200 (CEST)
Received: by mail-qk1-f226.google.com with SMTP id
 af79cd13be357-7515631b965so869154185a.0
 for <test-report@dpdk.org>; Fri, 05 May 2023 00:58:37 -0700 (PDT)
DKIM-Signature: v=1; a=rsa-sha256; c=relaxed/relaxed;
 d=iol.unh.edu; s=unh-iol; t=1683273516; x=1685865516;
 h=cc:to:from:subject:message-id:date:from:to:cc:subject:date
 :message-id:reply-to;
 bh=VhoCs6i9dJT8HYq0nCAENAL9qBB7A/t7LIdL6C8OA2Q=;
 b=flT7qa9GssjqEen/+ycHxrLfE8k0FRoCjyyj6i5mvwtsfyBxNI4sg7oDMjOdL4XX6S
 Yp/qBFOIcUxnrhUIlx+MThqgEUhxD1i86ZOhYbcx+8sdCRdklrI0o7UJxa0B3/KnZIZk
 99OTnNRrKjWvQS1ot7XZdT3Jx1SGuzoVVc4FU=
X-Google-DKIM-Signature: v=1; a=rsa-sha256; c=relaxed/relaxed;
 d=1e100.net; s=20221208; t=1683273516; x=1685865516;
 h=cc:to:from:subject:message-id:date:x-gm-message-state:from:to:cc
 :subject:date:message-id:reply-to;
 bh=VhoCs6i9dJT8HYq0nCAENAL9qBB7A/t7LIdL6C8OA2Q=;
 b=Tyh2VQUMBXYL5jgU/Nd7hTxGQgt8ETfpKH/vFrDJCZL8JNu7PhhbvH54c/cjw2Hzqg
 lUMt/8iYicLCUHEU2BbEwAnfzWrRFbKppqY5EysTLpCPe/a2iyoZUM4o5tEsy82HaAOE
 pBQqqBNWOQus3VlLiYxRu17ozFgpo8fKRLaMxm0nTmLucyY+EmvqDfyzy8BS+CRb1yUW
 c1tCUFSX9uQYJ637gvr5YhOO+tieyFJsFugmxi6TJoTzXvQkRQX4qhfgo5QNSEhU6t6R
 LpnLdzjUITLtysgtp9erBsdPh7NE5U5lMguf6oRRBNJ8yNl3vNmuTsdYdet1UjDiaqqj
 E+WA==
X-Gm-Message-State: AC+VfDwAF5mOXfEqRJBwcgDOSAMx/PdJBx7HUvb3gcyN01L5TzjivvUN
 ma37AUnXVWg1/Ce9ywCRSMRT9KqXAv4AiaRMkg37PmPcxUO3dCKiXAXBDQ==
X-Google-Smtp-Source: ACHHUZ4dhWq2of3kvpfzRWcsSJMnkq9q9XFy5HWSnbaILUJAwAqPi2iSaSBKeUE+bX7gJbYj28fjz1owgpoI
X-Received: by 2002:ac8:5784:0:b0:3f2:4c09:268c with SMTP id
 v4-20020ac85784000000b003f24c09268cmr1107922qta.1.1683273516622; 
 Fri, 05 May 2023 00:58:36 -0700 (PDT)
Received: from postal.iol.unh.edu (postal.iol.unh.edu. [132.177.123.84])
 by smtp-relay.gmail.com with ESMTPS id
 o10-20020ac841ca000000b003e642309404sm26761qtm.9.2023.05.05.00.58.36
 (version=TLS1_2 cipher=ECDHE-ECDSA-AES128-GCM-SHA256 bits=128/128);
 Fri, 05 May 2023 00:58:36 -0700 (PDT)
X-Relaying-Domain: iol.unh.edu
Date: Fri, 05 May 2023 00:58:36 -0700 (PDT)
Message-ID: <6454b72c.c80a0220.629c8.258dSMTPIN_ADDED_MISSING@mx.google.com>
Received: from [172.17.0.2] (unknown [172.18.0.34])
 by postal.iol.unh.edu (Postfix) with ESMTP id 5BFB1605246B;
 Fri,  5 May 2023 03:58:36 -0400 (EDT)
Subject: |SUCCESS| pw126698 [PATCH] [v3] ring: fix use after free in ring
 release
From: dpdklab@iol.unh.edu
To: Test Report <test-report@dpdk.org>
Cc: dpdk-test-reports@iol.unh.edu, David Marchand <david.marchand@redhat.com>,
 Thomas Monjalon <thomas@monjalon.net>
Content-Type: text/plain
X-BeenThere: test-report@dpdk.org
X-Mailman-Version: 2.1.29
Precedence: list
List-Id: automatic DPDK test reports <test-report.dpdk.org>
List-Unsubscribe: <https://mails.dpdk.org/options/test-report>,
 <mailto:test-report-request@dpdk.org?subject=unsubscribe>
List-Archive: <http://mails.dpdk.org/archives/test-report/>
List-Post: <mailto:test-report@dpdk.org>
List-Help: <mailto:test-report-request@dpdk.org?subject=help>
List-Subscribe: <https://mails.dpdk.org/listinfo/test-report>,
 <mailto:test-report-request@dpdk.org?subject=subscribe>
Errors-To: test-report-bounces@dpdk.org

Test-Label: iol-abi-testing
Test-Status: SUCCESS
http://dpdk.org/patch/126698

_Testing PASS_

Submitter: Yunjian Wang <wangyunjian@huawei.com>
Date: Friday, May 05 2023 06:48:34 
DPDK git baseline: Repo:dpdk
  Branch: master
  CommitID:d03446724972d2a1bb645ce7f3e64f5ef0203d61

126698 --> testing pass

Test environment and result as below:

+------------------+----------+
|   Environment    | abi_test |
+==================+==========+
| Ubuntu 22.04     | PASS     |
+------------------+----------+
| CentOS Stream 9  | PASS     |
+------------------+----------+
| Debian Bullseye  | PASS     |
+------------------+----------+
| CentOS Stream 8  | PASS     |
+------------------+----------+
| RHEL8            | PASS     |
+------------------+----------+
| RHEL 7           | PASS     |
+------------------+----------+
| openSUSE Leap 15 | PASS     |
+------------------+----------+
| Debian Buster    | PASS     |
+------------------+----------+


Ubuntu 22.04
	Kernel: Container Host Kernel
	Compiler: gcc 11.3.1-2

CentOS Stream 9
	Kernel: 4.18.0-240.10.1.el8_3.x86_64
	Compiler: gcc 11.3.1 20220421

Debian Bullseye
	Kernel: 5.4.0-122-generic
	Compiler: gcc 10.2.1-6

CentOS Stream 8
	Kernel: 4.18.0-240.10.1.el8_3.x86_64
	Compiler: gcc 8.4.1 20200928

RHEL8
	Kernel: 4.18.0-240.10.1.el8_3.x86_64
	Compiler: gcc 8.3.1 20191121 (Red Hat 8.3.1-5)

RHEL 7
	Kernel: 4.18.0-240.10.1.el8_3.x86_64
	Compiler: gcc 4.8.5 20150623 (Red Hat 4.8.5-44)

openSUSE Leap 15
	Kernel: 4.18.0-240.10.1.el8_3.x86_64
	Compiler: gcc 7.5.0

Debian Buster
	Kernel: 5.4.0-122-generic
	Compiler: gcc 8.3.0-6

To view detailed results, visit:
https://lab.dpdk.org/results/dashboard/patchsets/26168/

UNH-IOL DPDK Community Lab

To manage your email subscriptions, visit: 
https://lab.dpdk.org/results/dashboard/preferences/subscriptions/