From mboxrd@z Thu Jan  1 00:00:00 1970
Return-Path: <test-report-bounces@dpdk.org>
Received: from mails.dpdk.org (mails.dpdk.org [217.70.189.124])
	by inbox.dpdk.org (Postfix) with ESMTP id 6904442A60
	for <public@inbox.dpdk.org>; Fri,  5 May 2023 21:06:42 +0200 (CEST)
Received: from mails.dpdk.org (localhost [127.0.0.1])
	by mails.dpdk.org (Postfix) with ESMTP id 6501B40042;
	Fri,  5 May 2023 21:06:42 +0200 (CEST)
Received: from mail-qk1-f228.google.com (mail-qk1-f228.google.com
 [209.85.222.228])
 by mails.dpdk.org (Postfix) with ESMTP id 8EA7F40042
 for <test-report@dpdk.org>; Fri,  5 May 2023 21:06:41 +0200 (CEST)
Received: by mail-qk1-f228.google.com with SMTP id
 af79cd13be357-75131c2997bso1106194785a.1
 for <test-report@dpdk.org>; Fri, 05 May 2023 12:06:41 -0700 (PDT)
DKIM-Signature: v=1; a=rsa-sha256; c=relaxed/relaxed;
 d=iol.unh.edu; s=unh-iol; t=1683313601; x=1685905601;
 h=cc:to:from:subject:message-id:date:from:to:cc:subject:date
 :message-id:reply-to;
 bh=4/rpBdCkc5b0xHHu6KbejVmPR7M1p5ErLvIZb8aKIj4=;
 b=RME8eiRCx4mLbXYedxcDNS7+4xjwdDFf/HRMva2bG0DMW7RYba58AkOPjQlGPrKRZc
 tCzPy1hZIu+hdRMLiMdFhxdhnfpsx0ToM/2UCAjSyJgwXQgjo6s0eCXxkV0LvfRFpo+g
 C8GGfFFlbj1bsq2UcQspDVbfUd21+uhJHkYOs=
X-Google-DKIM-Signature: v=1; a=rsa-sha256; c=relaxed/relaxed;
 d=1e100.net; s=20221208; t=1683313601; x=1685905601;
 h=cc:to:from:subject:message-id:date:x-gm-message-state:from:to:cc
 :subject:date:message-id:reply-to;
 bh=4/rpBdCkc5b0xHHu6KbejVmPR7M1p5ErLvIZb8aKIj4=;
 b=lwOLDLc44vosU7LV783yi7m4hta4KaFot0er+Dw7h98a3iQgbQZZluO6H7OeX822Fz
 s9oxIEPVTODqxb3JNiPc41zQblKs+smnoMlKsZ7U4WxdRsClm64QB3Pmy9q4KY0QGtxr
 8hx+xkqE3qh+crr3uab00yDlZ5bZP+j/TPIgq1keLLzHcWHSKvkiPzGYARYr9FupZKrZ
 hleokVisE1Xxl00SCo8bsdJehIS7Mf59ib1Zlp5Shnpg1tnO0Bo/H2UUcIiUwNfjsNvn
 CYDWtsRrZQK1YaOrPlgTxa3bCcfeSlhy/uU/H24OvAJ66cebYa1t80GE4Pm6GMG/Yj63
 M5Yw==
X-Gm-Message-State: AC+VfDwSCMBuRFexrjnTVLvKx4YKub3uWVsjXt65Ha54YsyfMQobkRJj
 5RVlxrHfdLZabKykNtV3LBzRBhRfWrkzX611GsSAJUaF7pTSEd39veExlw==
X-Google-Smtp-Source: ACHHUZ6n8VGMFxotRxqpnsWvYhe4AFaXTT4PLWN2CSa6mXAx1NyrgRLVd/R47iPismJzD4zACMdJSVYxCFVE
X-Received: by 2002:ad4:5943:0:b0:616:859a:471a with SMTP id
 eo3-20020ad45943000000b00616859a471amr13884628qvb.17.1683313600829; 
 Fri, 05 May 2023 12:06:40 -0700 (PDT)
Received: from postal.iol.unh.edu (postal.iol.unh.edu. [132.177.123.84])
 by smtp-relay.gmail.com with ESMTPS id
 u18-20020ac87512000000b003f0a171bf3csm61632qtq.28.2023.05.05.12.06.40
 (version=TLS1_2 cipher=ECDHE-ECDSA-AES128-GCM-SHA256 bits=128/128);
 Fri, 05 May 2023 12:06:40 -0700 (PDT)
X-Relaying-Domain: iol.unh.edu
Date: Fri, 05 May 2023 12:06:40 -0700 (PDT)
Message-ID: <645553c0.c80a0220.50292.49bdSMTPIN_ADDED_MISSING@mx.google.com>
Received: from [172.17.0.2] (unknown [172.18.0.34])
 by postal.iol.unh.edu (Postfix) with ESMTP id 8DA82605246B;
 Fri,  5 May 2023 15:06:40 -0400 (EDT)
Subject: |SUCCESS| pw126704-126717 [PATCH] [14/14] baseband/fpga_5gnr: use
 rte_pktmbu_mtod_offset
From: dpdklab@iol.unh.edu
To: Test Report <test-report@dpdk.org>
Cc: dpdk-test-reports@iol.unh.edu, David Marchand <david.marchand@redhat.com>,
 Thomas Monjalon <thomas@monjalon.net>
Content-Type: text/plain
X-BeenThere: test-report@dpdk.org
X-Mailman-Version: 2.1.29
Precedence: list
List-Id: automatic DPDK test reports <test-report.dpdk.org>
List-Unsubscribe: <https://mails.dpdk.org/options/test-report>,
 <mailto:test-report-request@dpdk.org?subject=unsubscribe>
List-Archive: <http://mails.dpdk.org/archives/test-report/>
List-Post: <mailto:test-report@dpdk.org>
List-Help: <mailto:test-report-request@dpdk.org?subject=help>
List-Subscribe: <https://mails.dpdk.org/listinfo/test-report>,
 <mailto:test-report-request@dpdk.org?subject=subscribe>
Errors-To: test-report-bounces@dpdk.org

Test-Label: iol-abi-testing
Test-Status: SUCCESS
http://dpdk.org/patch/126717

_Testing PASS_

Submitter: Stephen Hemminger <stephen@networkplumber.org>
Date: Friday, May 05 2023 17:48:13 
DPDK git baseline: Repo:dpdk
  Branch: master
  CommitID:d03446724972d2a1bb645ce7f3e64f5ef0203d61

126704-126717 --> testing pass

Test environment and result as below:

+-----------------+----------+
|   Environment   | abi_test |
+=================+==========+
| Ubuntu 22.04    | PASS     |
+-----------------+----------+
| Debian Buster   | PASS     |
+-----------------+----------+
| CentOS Stream 8 | PASS     |
+-----------------+----------+
| RHEL 7          | PASS     |
+-----------------+----------+
| Debian Bullseye | PASS     |
+-----------------+----------+
| CentOS Stream 9 | PASS     |
+-----------------+----------+
| RHEL8           | PASS     |
+-----------------+----------+


Ubuntu 22.04
	Kernel: Container Host Kernel
	Compiler: gcc 12.2.1-2

Debian Buster
	Kernel: 5.4.0-122-generic
	Compiler: gcc 8.3.0-6

CentOS Stream 8
	Kernel: 4.18.0-240.10.1.el8_3.x86_64
	Compiler: gcc 8.4.1 20200928

RHEL 7
	Kernel: 4.18.0-240.10.1.el8_3.x86_64
	Compiler: gcc 4.8.5 20150623 (Red Hat 4.8.5-44)

Debian Bullseye
	Kernel: 5.4.0-122-generic
	Compiler: gcc 10.2.1-6

CentOS Stream 9
	Kernel: 4.18.0-240.10.1.el8_3.x86_64
	Compiler: gcc 11.3.1 20220421

RHEL8
	Kernel: 4.18.0-240.10.1.el8_3.x86_64
	Compiler: gcc 8.3.1 20191121 (Red Hat 8.3.1-5)

To view detailed results, visit:
https://lab.dpdk.org/results/dashboard/patchsets/26171/

UNH-IOL DPDK Community Lab

To manage your email subscriptions, visit: 
https://lab.dpdk.org/results/dashboard/preferences/subscriptions/