From mboxrd@z Thu Jan  1 00:00:00 1970
Return-Path: <test-report-bounces@dpdk.org>
Received: from mails.dpdk.org (mails.dpdk.org [217.70.189.124])
	by inbox.dpdk.org (Postfix) with ESMTP id CD6EC42A7C
	for <public@inbox.dpdk.org>; Sat,  6 May 2023 13:04:48 +0200 (CEST)
Received: from mails.dpdk.org (localhost [127.0.0.1])
	by mails.dpdk.org (Postfix) with ESMTP id C5AE6406B8;
	Sat,  6 May 2023 13:04:48 +0200 (CEST)
Received: from mail-oa1-f100.google.com (mail-oa1-f100.google.com
 [209.85.160.100])
 by mails.dpdk.org (Postfix) with ESMTP id 9B19D406B8
 for <test-report@dpdk.org>; Sat,  6 May 2023 13:04:47 +0200 (CEST)
Received: by mail-oa1-f100.google.com with SMTP id
 586e51a60fabf-1928eee97f7so2371781fac.2
 for <test-report@dpdk.org>; Sat, 06 May 2023 04:04:47 -0700 (PDT)
DKIM-Signature: v=1; a=rsa-sha256; c=relaxed/relaxed;
 d=iol.unh.edu; s=unh-iol; t=1683371087; x=1685963087;
 h=cc:to:from:subject:message-id:date:from:to:cc:subject:date
 :message-id:reply-to;
 bh=boyMyBQZxkMB2S/ItnIporNagQrVx9TWI216KVMzvAY=;
 b=hQQmVft0E9KnynsB/v1XqXPhvGZju3+EDB/lnG1zXkNvPxgOB5ODmukUY2idkgom5w
 07M31NB4z9pJWpdGRakeiA46bJD0fWDw4c9CdtycVH6o+IbQk+wU2SFWZIxLM8L+oPl/
 ULVC/XlWiyBMLXKDvPCPd9waKJBynb3sl6bj0=
X-Google-DKIM-Signature: v=1; a=rsa-sha256; c=relaxed/relaxed;
 d=1e100.net; s=20221208; t=1683371087; x=1685963087;
 h=cc:to:from:subject:message-id:date:x-gm-message-state:from:to:cc
 :subject:date:message-id:reply-to;
 bh=boyMyBQZxkMB2S/ItnIporNagQrVx9TWI216KVMzvAY=;
 b=j/ZbplFzs6Npa2xxRVJzgEpUBe4hdPU6jBhFGBxIabekO/a76h9q62DemvcP1142bE
 GQ99RLO95NPDh10aR6gCwz0EKPTBuo+pPSDwEqJUXlu9HPMnGQr/TY8I27PVYWT8KWLa
 Rp5gDZLvkNJrEE4MVI9kOBBDFRhFJDR2W5AFeEleiPxyN2R0RSgj5nrSCx124vqRliCi
 ouUVZ1bef+0LJU3Ym0FKTS/Y6Su8U/V0FA6K328pr+2uASixD8IqWI3bqCoBunNLKtSI
 T4pmjMK8TzEgL4C3exTL78asG/0OT7CIHpvWYfkdakxcK2/7vTKOU29HFIVWhnKZ41Rc
 5lEA==
X-Gm-Message-State: AC+VfDzHaiXbm5Xb00cc3gM6FwvLG199zf4v2Pe4MLa1f+4uv1CtC9Wc
 VFEHTALjYBjWrLSpD0wEuppseu/ovH+hzMbLuOSkeJWKHodqDyzGYQqndA==
X-Google-Smtp-Source: ACHHUZ7S/Roo+hJQuclglvvBF0zoLCLlpxHojvTMIVryvz2xMPYD7H71lJOwXkj/Ur82Sa6f6u8T++yHjzUt
X-Received: by 2002:a05:6870:3654:b0:18b:1c64:2d3f with SMTP id
 v20-20020a056870365400b0018b1c642d3fmr1880535oak.54.1683371086957; 
 Sat, 06 May 2023 04:04:46 -0700 (PDT)
Received: from postal.iol.unh.edu (postal.iol.unh.edu. [132.177.123.84])
 by smtp-relay.gmail.com with ESMTPS id
 dx16-20020a056870769000b0018b1f9c1c2asm208235oab.1.2023.05.06.04.04.46
 (version=TLS1_2 cipher=ECDHE-ECDSA-AES128-GCM-SHA256 bits=128/128);
 Sat, 06 May 2023 04:04:46 -0700 (PDT)
X-Relaying-Domain: iol.unh.edu
Date: Sat, 06 May 2023 04:04:46 -0700 (PDT)
Message-ID: <6456344e.050a0220.4f653.0021SMTPIN_ADDED_MISSING@mx.google.com>
Received: from [172.17.0.2] (unknown [172.18.0.34])
 by postal.iol.unh.edu (Postfix) with ESMTP id 86B62605246B;
 Sat,  6 May 2023 07:04:46 -0400 (EDT)
Subject: |SUCCESS| pw126725 [PATCH] app/test-pmd: fix not polling all queues
 without defered starting
From: dpdklab@iol.unh.edu
To: Test Report <test-report@dpdk.org>
Cc: Jie Hai <haijie1@huawei.com>, David Marchand <david.marchand@redhat.com>,
 Thomas Monjalon <thomas@monjalon.net>
Content-Type: text/plain
X-BeenThere: test-report@dpdk.org
X-Mailman-Version: 2.1.29
Precedence: list
List-Id: automatic DPDK test reports <test-report.dpdk.org>
List-Unsubscribe: <https://mails.dpdk.org/options/test-report>,
 <mailto:test-report-request@dpdk.org?subject=unsubscribe>
List-Archive: <http://mails.dpdk.org/archives/test-report/>
List-Post: <mailto:test-report@dpdk.org>
List-Help: <mailto:test-report-request@dpdk.org?subject=help>
List-Subscribe: <https://mails.dpdk.org/listinfo/test-report>,
 <mailto:test-report-request@dpdk.org?subject=subscribe>
Errors-To: test-report-bounces@dpdk.org

Test-Label: iol-abi-testing
Test-Status: SUCCESS
http://dpdk.org/patch/126725

_Testing PASS_

Submitter: Jie Hai <haijie1@huawei.com>
Date: Saturday, May 06 2023 09:26:35 
DPDK git baseline: Repo:dpdk
  Branch: master
  CommitID:d03446724972d2a1bb645ce7f3e64f5ef0203d61

126725 --> testing pass

Test environment and result as below:

+-----------------+----------+
|   Environment   | abi_test |
+=================+==========+
| RHEL8           | PASS     |
+-----------------+----------+
| CentOS Stream 9 | PASS     |
+-----------------+----------+
| Debian Bullseye | PASS     |
+-----------------+----------+
| Ubuntu 22.04    | PASS     |
+-----------------+----------+
| CentOS Stream 8 | PASS     |
+-----------------+----------+
| Debian Buster   | PASS     |
+-----------------+----------+


RHEL8
	Kernel: 4.18.0-240.10.1.el8_3.x86_64
	Compiler: gcc 8.3.1 20191121 (Red Hat 8.3.1-5)

CentOS Stream 9
	Kernel: 4.18.0-240.10.1.el8_3.x86_64
	Compiler: gcc 11.3.1 20220421

Debian Bullseye
	Kernel: 5.4.0-122-generic
	Compiler: gcc 10.2.1-6

Ubuntu 22.04
	Kernel: Container Host Kernel
	Compiler: gcc 11.3.1-2

CentOS Stream 8
	Kernel: 4.18.0-240.10.1.el8_3.x86_64
	Compiler: gcc 8.4.1 20200928

Debian Buster
	Kernel: 5.4.0-122-generic
	Compiler: gcc 8.3.0-6

To view detailed results, visit:
https://lab.dpdk.org/results/dashboard/patchsets/26177/

UNH-IOL DPDK Community Lab

To manage your email subscriptions, visit: 
https://lab.dpdk.org/results/dashboard/preferences/subscriptions/