From mboxrd@z Thu Jan  1 00:00:00 1970
Return-Path: <test-report-bounces@dpdk.org>
Received: from mails.dpdk.org (mails.dpdk.org [217.70.189.124])
	by inbox.dpdk.org (Postfix) with ESMTP id 5E8E542A85
	for <public@inbox.dpdk.org>; Sun,  7 May 2023 10:34:21 +0200 (CEST)
Received: from mails.dpdk.org (localhost [127.0.0.1])
	by mails.dpdk.org (Postfix) with ESMTP id 3C37440DFB;
	Sun,  7 May 2023 10:34:21 +0200 (CEST)
Received: from mail-yw1-f227.google.com (mail-yw1-f227.google.com
 [209.85.128.227])
 by mails.dpdk.org (Postfix) with ESMTP id 6807B40DFB
 for <test-report@dpdk.org>; Sun,  7 May 2023 10:34:20 +0200 (CEST)
Received: by mail-yw1-f227.google.com with SMTP id
 00721157ae682-55a64f0053fso51457677b3.3
 for <test-report@dpdk.org>; Sun, 07 May 2023 01:34:20 -0700 (PDT)
DKIM-Signature: v=1; a=rsa-sha256; c=relaxed/relaxed;
 d=iol.unh.edu; s=unh-iol; t=1683448459; x=1686040459;
 h=cc:to:from:subject:message-id:date:from:to:cc:subject:date
 :message-id:reply-to;
 bh=uadkBlP31z/i+k6PAkEY6J6moQbQTB3/QcmFOxuD0qQ=;
 b=ZRUNnWfBo6cDfxk0yECD9x4GRM4cW5g0P8QuS7aGhGtGj0yzKEvnPiOEowiSalAOxH
 TrUGGscC/+KZ0JTVn0LougnWpz388Ji7Cx/a39/+6Gen+WKRDGOSsok3jOv85MRsB6Sr
 pNjuFLCbYwxpdR/0z/KoI2JkOPF2d+dj/tFj0=
X-Google-DKIM-Signature: v=1; a=rsa-sha256; c=relaxed/relaxed;
 d=1e100.net; s=20221208; t=1683448459; x=1686040459;
 h=cc:to:from:subject:message-id:date:x-gm-message-state:from:to:cc
 :subject:date:message-id:reply-to;
 bh=uadkBlP31z/i+k6PAkEY6J6moQbQTB3/QcmFOxuD0qQ=;
 b=LOGGIkQyO+0pJgIV+POQyz3/v0yPVsH1dD8WG2oAzfFa1xZPs5wuTO14Bu4czsJHNg
 m6R2qC07mjJ9sNRGk5m3i4IFg1E0iSwoEfBsSyLuDV7lfWMAQ4Et/vG+pjL7IR+wg/kL
 QTC+kiqNDRR8636OqUnDXaBoCC03WoWdkCu0prtO7wDry4xzXxFEyOr9GsDKyjMyq9yM
 LpOsKbjHs6MMa/mxg36gR8kkqLt49WiYGWFIsee0TT4BZszdNoO6op6dSZshxrATASpk
 4HxCtsuvZgXRxyJXq+HvfJjGBiICNwZp5Z+iQfUHax9e7vei5hKAa7dpeTvVOPmQRl9H
 igkQ==
X-Gm-Message-State: AC+VfDzeocJI2mEkwMVTl6nFu6wHd2O2dX7cSTHRsSwixOXqAN3qS6GX
 DuGvJkz/zbm5zf8xZEztUXB7hwlg9r8hqjM3aGpMjrfnXQ3Pfpjb4nGacA==
X-Google-Smtp-Source: ACHHUZ6rE7NSk+SKqXtA1XnRqhy6giQ1No0xqeEwAjggfQoipb3CUr7kz1DXz9c6i+Na1XRz0xV6CaMoQDVh
X-Received: by 2002:a0d:dfd5:0:b0:55a:1026:4ad9 with SMTP id
 i204-20020a0ddfd5000000b0055a10264ad9mr7013747ywe.4.1683448459805; 
 Sun, 07 May 2023 01:34:19 -0700 (PDT)
Received: from postal.iol.unh.edu (postal.iol.unh.edu. [132.177.123.84])
 by smtp-relay.gmail.com with ESMTPS id
 q84-20020a817557000000b0055d83ece096sm425253ywc.21.2023.05.07.01.34.19
 (version=TLS1_2 cipher=ECDHE-ECDSA-AES128-GCM-SHA256 bits=128/128);
 Sun, 07 May 2023 01:34:19 -0700 (PDT)
X-Relaying-Domain: iol.unh.edu
Date: Sun, 07 May 2023 01:34:19 -0700 (PDT)
Message-ID: <6457628b.810a0220.d99a4.2f4eSMTPIN_ADDED_MISSING@mx.google.com>
Received: from [172.17.0.2] (unknown [172.18.0.34])
 by postal.iol.unh.edu (Postfix) with ESMTP id 6A80C605246B;
 Sun,  7 May 2023 04:34:19 -0400 (EDT)
Subject: |SUCCESS| pw126745-126749 [PATCH] [v3, 5/5] mlx5dr: Definer,
 translate RTE quota item
From: dpdklab@iol.unh.edu
To: Test Report <test-report@dpdk.org>
Cc: dpdk-test-reports@iol.unh.edu, David Marchand <david.marchand@redhat.com>,
 Thomas Monjalon <thomas@monjalon.net>
Content-Type: text/plain
X-BeenThere: test-report@dpdk.org
X-Mailman-Version: 2.1.29
Precedence: list
List-Id: automatic DPDK test reports <test-report.dpdk.org>
List-Unsubscribe: <https://mails.dpdk.org/options/test-report>,
 <mailto:test-report-request@dpdk.org?subject=unsubscribe>
List-Archive: <http://mails.dpdk.org/archives/test-report/>
List-Post: <mailto:test-report@dpdk.org>
List-Help: <mailto:test-report-request@dpdk.org?subject=help>
List-Subscribe: <https://mails.dpdk.org/listinfo/test-report>,
 <mailto:test-report-request@dpdk.org?subject=subscribe>
Errors-To: test-report-bounces@dpdk.org

Test-Label: iol-abi-testing
Test-Status: SUCCESS
http://dpdk.org/patch/126749

_Testing PASS_

Submitter: Gregory Etelson <getelson@nvidia.com>
Date: Sunday, May 07 2023 07:39:52 
DPDK git baseline: Repo:dpdk
  Branch: master
  CommitID:d03446724972d2a1bb645ce7f3e64f5ef0203d61

126745-126749 --> testing pass

Test environment and result as below:

+------------------+----------+
|   Environment    | abi_test |
+==================+==========+
| Ubuntu 22.04     | PASS     |
+------------------+----------+
| openSUSE Leap 15 | PASS     |
+------------------+----------+
| CentOS Stream 9  | PASS     |
+------------------+----------+


Ubuntu 22.04
	Kernel: Container Host Kernel
	Compiler: gcc 11.3.1-2

openSUSE Leap 15
	Kernel: 4.18.0-240.10.1.el8_3.x86_64
	Compiler: gcc 7.5.0

CentOS Stream 9
	Kernel: 4.18.0-240.10.1.el8_3.x86_64
	Compiler: gcc 11.3.1 20220421

To view detailed results, visit:
https://lab.dpdk.org/results/dashboard/patchsets/26182/

UNH-IOL DPDK Community Lab

To manage your email subscriptions, visit: 
https://lab.dpdk.org/results/dashboard/preferences/subscriptions/