From mboxrd@z Thu Jan  1 00:00:00 1970
Return-Path: <test-report-bounces@dpdk.org>
Received: from mails.dpdk.org (mails.dpdk.org [217.70.189.124])
	by inbox.dpdk.org (Postfix) with ESMTP id C06C342A97
	for <public@inbox.dpdk.org>; Mon,  8 May 2023 17:29:49 +0200 (CEST)
Received: from mails.dpdk.org (localhost [127.0.0.1])
	by mails.dpdk.org (Postfix) with ESMTP id A5FFD40685;
	Mon,  8 May 2023 17:29:49 +0200 (CEST)
Received: from mail-qv1-f98.google.com (mail-qv1-f98.google.com
 [209.85.219.98]) by mails.dpdk.org (Postfix) with ESMTP id 7981440685
 for <test-report@dpdk.org>; Mon,  8 May 2023 17:29:48 +0200 (CEST)
Received: by mail-qv1-f98.google.com with SMTP id
 6a1803df08f44-5f45fad3be1so39835976d6.0
 for <test-report@dpdk.org>; Mon, 08 May 2023 08:29:48 -0700 (PDT)
DKIM-Signature: v=1; a=rsa-sha256; c=relaxed/relaxed;
 d=iol.unh.edu; s=unh-iol; t=1683559788; x=1686151788;
 h=cc:to:from:subject:message-id:date:from:to:cc:subject:date
 :message-id:reply-to;
 bh=p0yDd/t+G+IWDtfJeoUoH1FUWyj+NPvVpVMwXUuWwgE=;
 b=S7Byz2UGKO7EKcgRaNUA3NiryIE1PYBPINHzBEAyxedfBuBalGoiFUgRKoI5pSY9b4
 NStbynbbg7/qUSA8ZO8toBMHJ7BfcD16tVETIzWswtMcrZFfNSSMq7CMDO89JXpWZZYg
 lCrt2f7/m4ksMDCsKpinBh2rwxocs2F2yFuP4=
X-Google-DKIM-Signature: v=1; a=rsa-sha256; c=relaxed/relaxed;
 d=1e100.net; s=20221208; t=1683559788; x=1686151788;
 h=cc:to:from:subject:message-id:date:x-gm-message-state:from:to:cc
 :subject:date:message-id:reply-to;
 bh=p0yDd/t+G+IWDtfJeoUoH1FUWyj+NPvVpVMwXUuWwgE=;
 b=j80lHCgtJAtHZOhVQ/V5fOCpzxGIAtdZOgfIL2LgFg6BqIunL6SEzPBV2EnIrgLNgF
 8rJo5YLPCNtG+fSX23QgNvHHxthAvwOWjfUhbynMlrAWGX9v2Fgu0gw4UyU9Dxhl8wMq
 AWnWpkKeMd2C89PbiXO9UpyvqkyI4QOZyGtJFi0Uyw6MrZ+7SvsoLoCDeB3FZyR7GNed
 fSnJmnMVMpcqvb8QYUYw8d7XohkYqJC5gfH9Rtv0MNdK90NNVj6yKdTB4wsDXsYvAD3r
 vsQ+ocreANWPWpeuvO9gyxt+ZwnU4rI9rxjUJDmE2PTZH1ODuSpaF/xABiyYcyaWoANc
 kSSA==
X-Gm-Message-State: AC+VfDykSZA/QytU4jtlbrFJXOybaSy07qfQHq2jM9YtPr0T7acngpkg
 owWmo+Wj52QNDDXrKo23BjiK9QfaSP14GodWHygPBaFYqxr8QjLr53eTUA==
X-Google-Smtp-Source: ACHHUZ7Ao7ZoJrfqUVDrGS7xkXf8zFlZGb30OkLeV7ObwyTsYsdGopOUXWwtxXMXjMyeRiYJuuuCIdxvxJn2
X-Received: by 2002:a05:6214:5011:b0:5ef:56e4:f629 with SMTP id
 jo17-20020a056214501100b005ef56e4f629mr16698950qvb.38.1683559787938; 
 Mon, 08 May 2023 08:29:47 -0700 (PDT)
Received: from postal.iol.unh.edu (postal.iol.unh.edu. [132.177.123.84])
 by smtp-relay.gmail.com with ESMTPS id
 f11-20020a0cf7cb000000b005ef46ef0424sm6144qvo.6.2023.05.08.08.29.47
 (version=TLS1_2 cipher=ECDHE-ECDSA-AES128-GCM-SHA256 bits=128/128);
 Mon, 08 May 2023 08:29:47 -0700 (PDT)
X-Relaying-Domain: iol.unh.edu
Date: Mon, 08 May 2023 08:29:47 -0700 (PDT)
Message-ID: <6459156b.0c0a0220.13a1.07c9SMTPIN_ADDED_MISSING@mx.google.com>
Received: from [172.17.0.2] (unknown [172.18.0.34])
 by postal.iol.unh.edu (Postfix) with ESMTP id 9827C605246B;
 Mon,  8 May 2023 11:29:47 -0400 (EDT)
Subject: |SUCCESS| pw126753 [PATCH] [v2] app/test-pmd: fix not polling all
 queues without deferred starting
From: dpdklab@iol.unh.edu
To: Test Report <test-report@dpdk.org>
Cc: Jie Hai <haijie1@huawei.com>, David Marchand <david.marchand@redhat.com>,
 Thomas Monjalon <thomas@monjalon.net>
Content-Type: text/plain
X-BeenThere: test-report@dpdk.org
X-Mailman-Version: 2.1.29
Precedence: list
List-Id: automatic DPDK test reports <test-report.dpdk.org>
List-Unsubscribe: <https://mails.dpdk.org/options/test-report>,
 <mailto:test-report-request@dpdk.org?subject=unsubscribe>
List-Archive: <http://mails.dpdk.org/archives/test-report/>
List-Post: <mailto:test-report@dpdk.org>
List-Help: <mailto:test-report-request@dpdk.org?subject=help>
List-Subscribe: <https://mails.dpdk.org/listinfo/test-report>,
 <mailto:test-report-request@dpdk.org?subject=subscribe>
Errors-To: test-report-bounces@dpdk.org

Test-Label: iol-abi-testing
Test-Status: SUCCESS
http://dpdk.org/patch/126753

_Testing PASS_

Submitter: Jie Hai <haijie1@huawei.com>
Date: Monday, May 08 2023 03:10:45 
DPDK git baseline: Repo:dpdk
  Branch: master
  CommitID:d03446724972d2a1bb645ce7f3e64f5ef0203d61

126753 --> testing pass

Test environment and result as below:

+-----------------+----------+
|   Environment   | abi_test |
+=================+==========+
| RHEL 7          | PASS     |
+-----------------+----------+
| Debian Bullseye | PASS     |
+-----------------+----------+
| Debian Buster   | PASS     |
+-----------------+----------+


RHEL 7
	Kernel: 4.18.0-240.10.1.el8_3.x86_64
	Compiler: gcc 4.8.5 20150623 (Red Hat 4.8.5-44)

Debian Bullseye
	Kernel: 5.4.0-122-generic
	Compiler: gcc 10.2.1-6

Debian Buster
	Kernel: 5.4.0-122-generic
	Compiler: gcc 8.3.0-6

To view detailed results, visit:
https://lab.dpdk.org/results/dashboard/patchsets/26186/

UNH-IOL DPDK Community Lab

To manage your email subscriptions, visit: 
https://lab.dpdk.org/results/dashboard/preferences/subscriptions/