From mboxrd@z Thu Jan  1 00:00:00 1970
Return-Path: <test-report-bounces@dpdk.org>
Received: from mails.dpdk.org (mails.dpdk.org [217.70.189.124])
	by inbox.dpdk.org (Postfix) with ESMTP id 7C81742A99
	for <public@inbox.dpdk.org>; Mon,  8 May 2023 18:58:48 +0200 (CEST)
Received: from mails.dpdk.org (localhost [127.0.0.1])
	by mails.dpdk.org (Postfix) with ESMTP id 5815040685;
	Mon,  8 May 2023 18:58:48 +0200 (CEST)
Received: from mail-yb1-f228.google.com (mail-yb1-f228.google.com
 [209.85.219.228])
 by mails.dpdk.org (Postfix) with ESMTP id 0360A40685
 for <test-report@dpdk.org>; Mon,  8 May 2023 18:58:46 +0200 (CEST)
Received: by mail-yb1-f228.google.com with SMTP id
 3f1490d57ef6-b8f34bca001so6266171276.3
 for <test-report@dpdk.org>; Mon, 08 May 2023 09:58:46 -0700 (PDT)
DKIM-Signature: v=1; a=rsa-sha256; c=relaxed/relaxed;
 d=iol.unh.edu; s=unh-iol; t=1683565126; x=1686157126;
 h=cc:to:from:subject:message-id:date:from:to:cc:subject:date
 :message-id:reply-to;
 bh=CG9Ic3Tdx3HqlblhfaO997uQwGSuqB5F1q6kFl4zShU=;
 b=eahOoa5CQ7rMwL1FQtvDqZg8eUMUYbC78AjVKYFPL4bzK+Wk6dFbnuiyo9Mv6FoU42
 OinnVU2FxHLOA9pe0CBstbMU87k44XkWRLrkWrI1GxtYeD0UvE8gZCI4Z9AedcfBAjdU
 YJJRX6bp6TSbk5DjQJl7j1dgH50Dd/KAWeikg=
X-Google-DKIM-Signature: v=1; a=rsa-sha256; c=relaxed/relaxed;
 d=1e100.net; s=20221208; t=1683565126; x=1686157126;
 h=cc:to:from:subject:message-id:date:x-gm-message-state:from:to:cc
 :subject:date:message-id:reply-to;
 bh=CG9Ic3Tdx3HqlblhfaO997uQwGSuqB5F1q6kFl4zShU=;
 b=Ir60dvEVzarmujj55ubND5c+zIGoRacQ+G+QHlktodPTpjSh0rh8L7aN/WEzQaPkyC
 k3ciEmRLk6Jsz/6U2qEdcTOpg5NDEYNL2cgo1VokqEtQ9GEw9FATnXSX5XEzZZiZOzKV
 1yjonHTeKtHu8PkM4J+osyRIwQTiJFxpKNtMi44AnljE7HN9VZkqnbxC/gPXtJlfaGjk
 HzZQMj6iZ9VQ7ZUWUa1p3CCdelvnX57sotlv6HU7kmyyPPF4Rt+P60H4r5bTZh1/sB8Q
 cvaVTsQNZ6rJ5vPTaqCrtj+yrVprtm532wY9BNDg0qTTPZOoLXG59pr3fbI/XCJ08fT6
 DRhQ==
X-Gm-Message-State: AC+VfDwitgtySGU7zfa/ZDn/b/3KQmDKgfa3RiyXno5Q7pt+BJXv72Kh
 H84qgGznr+JmK+jsvknT6oIT/w9jq5lhpc+ITV00LsJFZJgYVSWd4TBy9nXYHlNSrtEwMU9WEA=
 =
X-Google-Smtp-Source: ACHHUZ61SlY9wL6wdnYVuWRE6RymBgfsBLcMiqJWkujtEbP8fShexwTx3C4Yab6BlnWc2ynb3NUz9WZdmUju
X-Received: by 2002:a25:6943:0:b0:b9d:853e:5cef with SMTP id
 e64-20020a256943000000b00b9d853e5cefmr13944204ybc.37.1683565126384; 
 Mon, 08 May 2023 09:58:46 -0700 (PDT)
Received: from postal.iol.unh.edu (postal.iol.unh.edu.
 [2606:4100:3880:1234::84]) by smtp-relay.gmail.com with ESMTPS id
 187-20020a2505c4000000b00b9de6a6093bsm694045ybf.6.2023.05.08.09.58.46
 (version=TLS1_2 cipher=ECDHE-ECDSA-AES128-GCM-SHA256 bits=128/128);
 Mon, 08 May 2023 09:58:46 -0700 (PDT)
X-Relaying-Domain: iol.unh.edu
Date: Mon, 08 May 2023 09:58:46 -0700 (PDT)
Message-ID: <64592a46.250a0220.14286.93ddSMTPIN_ADDED_MISSING@mx.google.com>
Received: from [172.17.0.2] (unknown [172.18.0.34])
 by postal.iol.unh.edu (Postfix) with ESMTP id EEE28605246B;
 Mon,  8 May 2023 12:58:45 -0400 (EDT)
Subject: |SUCCESS| pw126768 [PATCH] [v2] ethdev: add Tx queue flow matching
 item
From: dpdklab@iol.unh.edu
To: Test Report <test-report@dpdk.org>
Cc: dpdk-test-reports@iol.unh.edu, David Marchand <david.marchand@redhat.com>,
 Thomas Monjalon <thomas@monjalon.net>
Content-Type: text/plain
X-BeenThere: test-report@dpdk.org
X-Mailman-Version: 2.1.29
Precedence: list
List-Id: automatic DPDK test reports <test-report.dpdk.org>
List-Unsubscribe: <https://mails.dpdk.org/options/test-report>,
 <mailto:test-report-request@dpdk.org?subject=unsubscribe>
List-Archive: <http://mails.dpdk.org/archives/test-report/>
List-Post: <mailto:test-report@dpdk.org>
List-Help: <mailto:test-report-request@dpdk.org?subject=help>
List-Subscribe: <https://mails.dpdk.org/listinfo/test-report>,
 <mailto:test-report-request@dpdk.org?subject=subscribe>
Errors-To: test-report-bounces@dpdk.org

Test-Label: iol-abi-testing
Test-Status: SUCCESS
http://dpdk.org/patch/126768

_Testing PASS_

Submitter: Kiran Kumar Kokkilagadda <kirankumark@marvell.com>
Date: Monday, May 08 2023 13:49:34 
DPDK git baseline: Repo:dpdk
  Branch: master
  CommitID:d03446724972d2a1bb645ce7f3e64f5ef0203d61

126768 --> testing pass

Test environment and result as below:

+-----------------+----------+
|   Environment   | abi_test |
+=================+==========+
| Debian Bullseye | PASS     |
+-----------------+----------+
| CentOS Stream 9 | PASS     |
+-----------------+----------+
| RHEL 7          | PASS     |
+-----------------+----------+


Debian Bullseye
	Kernel: 5.4.0-122-generic
	Compiler: gcc 10.2.1-6

CentOS Stream 9
	Kernel: 4.18.0-240.10.1.el8_3.x86_64
	Compiler: gcc 11.3.1 20220421

RHEL 7
	Kernel: 4.18.0-240.10.1.el8_3.x86_64
	Compiler: gcc 4.8.5 20150623 (Red Hat 4.8.5-44)

To view detailed results, visit:
https://lab.dpdk.org/results/dashboard/patchsets/26191/

UNH-IOL DPDK Community Lab

To manage your email subscriptions, visit: 
https://lab.dpdk.org/results/dashboard/preferences/subscriptions/