From mboxrd@z Thu Jan  1 00:00:00 1970
Return-Path: <test-report-bounces@dpdk.org>
Received: from mails.dpdk.org (mails.dpdk.org [217.70.189.124])
	by inbox.dpdk.org (Postfix) with ESMTP id B520E42A9D
	for <public@inbox.dpdk.org>; Tue,  9 May 2023 06:02:46 +0200 (CEST)
Received: from mails.dpdk.org (localhost [127.0.0.1])
	by mails.dpdk.org (Postfix) with ESMTP id 9762F410D7;
	Tue,  9 May 2023 06:02:46 +0200 (CEST)
Received: from mail-oo1-f100.google.com (mail-oo1-f100.google.com
 [209.85.161.100])
 by mails.dpdk.org (Postfix) with ESMTP id C05B6410D7
 for <test-report@dpdk.org>; Tue,  9 May 2023 06:02:44 +0200 (CEST)
Received: by mail-oo1-f100.google.com with SMTP id
 006d021491bc7-54fb3ef9c53so337552eaf.3
 for <test-report@dpdk.org>; Mon, 08 May 2023 21:02:44 -0700 (PDT)
DKIM-Signature: v=1; a=rsa-sha256; c=relaxed/relaxed;
 d=iol.unh.edu; s=unh-iol; t=1683604964; x=1686196964;
 h=cc:to:from:subject:message-id:date:from:to:cc:subject:date
 :message-id:reply-to;
 bh=qbJYHbvruwbkUdaHS0MjkvaLpZM+enIcuIhOlPHjAtY=;
 b=OVDuik78u+E7zbXv0gvR4t3q8SanurB/NNMHoJtnvaFHyibOSjB8zWj3aDmzrAZBz9
 7GP13Rnc/qsg30Lk2Bz9N2NhgmY6bVyB5kCMcHF49YBXQBiOUpRvFggYsikYOD5wo8bt
 QvgN49KzmUH9r7sRxpFFOHJvhupc+mzzXh7ZA=
X-Google-DKIM-Signature: v=1; a=rsa-sha256; c=relaxed/relaxed;
 d=1e100.net; s=20221208; t=1683604964; x=1686196964;
 h=cc:to:from:subject:message-id:date:x-gm-message-state:from:to:cc
 :subject:date:message-id:reply-to;
 bh=qbJYHbvruwbkUdaHS0MjkvaLpZM+enIcuIhOlPHjAtY=;
 b=D3CGQFJpdw0ae0ahzGeejiH99va3P6LXKbINTck3NKjmH7YWQA/4G6jZZpdo61Sjrc
 oQZeFbzTu2nRfSgva89tsfIGEFxwkh5jggX8kYxPiBeEO8iFEGPtvhfYINpByzoJkcLN
 L07LrNvb7R2vhP3tr38UCkG5NMuoyNLdm31TFdQlAbgmzwnPgDkJH1JtXsuHHHMZya9c
 Dqar28wz6G3hp0EbKRGYkuNkC2uED96hgQO5gyVA8tRp0l2EDYU2pnL+ARxnOnjkZiAo
 9Y1PmhSIn5qhk5AvoCPIHSCQRPDvEQXRYHGULevZQA4K0v+ZUaTTfdNHgwP5CcR8HYRX
 phjA==
X-Gm-Message-State: AC+VfDy1Y4uktswjzNlUFfH/iFJbwe2+ybfG4ZT/IG0oyi0tXPVvXk+5
 RaR491b5pdA9yf7yv1/HqDB6dKzPInrvmjHvRn5s8578GIxrZ7SGYKkwJw==
X-Google-Smtp-Source: ACHHUZ4qMCJV9G8VSeW9ItiMHaNCnDzMEo+bx2lH3zaYfRduwMIidA99fvMcl1y52XVJ4XFVT/C4yQZQFFZl
X-Received: by 2002:a4a:d218:0:b0:546:bf26:49c7 with SMTP id
 c24-20020a4ad218000000b00546bf2649c7mr603203oos.8.1683604964042; 
 Mon, 08 May 2023 21:02:44 -0700 (PDT)
Received: from postal.iol.unh.edu (postal.iol.unh.edu. [132.177.123.84])
 by smtp-relay.gmail.com with ESMTPS id
 p2-20020a4ad442000000b0051aa0220570sm775825oos.21.2023.05.08.21.02.43
 (version=TLS1_2 cipher=ECDHE-ECDSA-AES128-GCM-SHA256 bits=128/128);
 Mon, 08 May 2023 21:02:44 -0700 (PDT)
X-Relaying-Domain: iol.unh.edu
Date: Mon, 08 May 2023 21:02:44 -0700 (PDT)
Message-ID: <6459c5e4.4a0a0220.349c7.adafSMTPIN_ADDED_MISSING@mx.google.com>
Received: from [172.17.0.2] (unknown [172.18.0.34])
 by postal.iol.unh.edu (Postfix) with ESMTP id 2B623605246B;
 Tue,  9 May 2023 00:02:43 -0400 (EDT)
Subject: |SUCCESS| pw126772-126774 [PATCH] [v5,
 3/3] ring: add telemetry cmd for ring info
From: dpdklab@iol.unh.edu
To: Test Report <test-report@dpdk.org>
Cc: dpdk-test-reports@iol.unh.edu, David Marchand <david.marchand@redhat.com>,
 Thomas Monjalon <thomas@monjalon.net>
Content-Type: text/plain
X-BeenThere: test-report@dpdk.org
X-Mailman-Version: 2.1.29
Precedence: list
List-Id: automatic DPDK test reports <test-report.dpdk.org>
List-Unsubscribe: <https://mails.dpdk.org/options/test-report>,
 <mailto:test-report-request@dpdk.org?subject=unsubscribe>
List-Archive: <http://mails.dpdk.org/archives/test-report/>
List-Post: <mailto:test-report@dpdk.org>
List-Help: <mailto:test-report-request@dpdk.org?subject=help>
List-Subscribe: <https://mails.dpdk.org/listinfo/test-report>,
 <mailto:test-report-request@dpdk.org?subject=subscribe>
Errors-To: test-report-bounces@dpdk.org

Test-Label: iol-aarch64-unit-testing
Test-Status: SUCCESS
http://dpdk.org/patch/126774

_Testing PASS_

Submitter: Jie Hai <haijie1@huawei.com>
Date: Tuesday, May 09 2023 01:29:07 
DPDK git baseline: Repo:dpdk
  Branch: master
  CommitID:d03446724972d2a1bb645ce7f3e64f5ef0203d61

126772-126774 --> testing pass

Test environment and result as below:

+----------------------+---------------------------+------------------------------+--------------+
|     Environment      | cryptodev_sw_zuc_autotest | cryptodev_sw_snow3g_autotest | lpm_autotest |
+======================+===========================+==============================+==============+
| Debian 11            | PASS                      | PASS                         | SKIPPED      |
+----------------------+---------------------------+------------------------------+--------------+
| Ubuntu 20.04 ARM SVE | SKIPPED                   | SKIPPED                      | PASS         |
+----------------------+---------------------------+------------------------------+--------------+


Debian 11
	Kernel: Container Host Kernel
	Compiler: gcc 10.2.1

Ubuntu 20.04 ARM SVE
	Kernel: 5.4.0-80-generic
	Compiler: gcc 10.3.0 (Ubuntu 10.3.0-1ubuntu1~20.04)

To view detailed results, visit:
https://lab.dpdk.org/results/dashboard/patchsets/26194/

UNH-IOL DPDK Community Lab

To manage your email subscriptions, visit: 
https://lab.dpdk.org/results/dashboard/preferences/subscriptions/