From mboxrd@z Thu Jan  1 00:00:00 1970
Return-Path: <test-report-bounces@dpdk.org>
Received: from mails.dpdk.org (mails.dpdk.org [217.70.189.124])
	by inbox.dpdk.org (Postfix) with ESMTP id 9D1D242A9D
	for <public@inbox.dpdk.org>; Tue,  9 May 2023 06:52:09 +0200 (CEST)
Received: from mails.dpdk.org (localhost [127.0.0.1])
	by mails.dpdk.org (Postfix) with ESMTP id 983C8410D7;
	Tue,  9 May 2023 06:52:09 +0200 (CEST)
Received: from mail-yw1-f226.google.com (mail-yw1-f226.google.com
 [209.85.128.226])
 by mails.dpdk.org (Postfix) with ESMTP id B8615410D7
 for <test-report@dpdk.org>; Tue,  9 May 2023 06:52:08 +0200 (CEST)
Received: by mail-yw1-f226.google.com with SMTP id
 00721157ae682-559debdedb5so81287187b3.0
 for <test-report@dpdk.org>; Mon, 08 May 2023 21:52:08 -0700 (PDT)
DKIM-Signature: v=1; a=rsa-sha256; c=relaxed/relaxed;
 d=iol.unh.edu; s=unh-iol; t=1683607928; x=1686199928;
 h=cc:to:from:subject:message-id:date:from:to:cc:subject:date
 :message-id:reply-to;
 bh=o1P9FiW/ELObku0+3oB8uUP2HKwTMcPMiA5iAC520IY=;
 b=E98V5P3HLThjf0x2MdvPbJ4H28d6Cnxz2xYNbOSWUkNP8abvWIf6aVzEznRBcuNowm
 KfGpK4KL6N6AN8iRzFrtGdkv+g7ZslZxPvbPY0aLIZyoNi/VzerKmxo5WYYTZbYdvs06
 mNbLhFTgoEzXJsdulz0rsaT4uv7SOL3+UhNvk=
X-Google-DKIM-Signature: v=1; a=rsa-sha256; c=relaxed/relaxed;
 d=1e100.net; s=20221208; t=1683607928; x=1686199928;
 h=cc:to:from:subject:message-id:date:x-gm-message-state:from:to:cc
 :subject:date:message-id:reply-to;
 bh=o1P9FiW/ELObku0+3oB8uUP2HKwTMcPMiA5iAC520IY=;
 b=RwfsnrcMP81j++TU8hocgc2grM0irmnjOrZT3iUQc1G148k5UUFWZZLhAaJ5RV4gkj
 Ofr5W7Amek1wxv7uDMmkq9un5tohiI0MzUBdoOZv+JQ5hWG/P9hwsma25t7r4kmIQkDM
 GJUVbvN7bp+CZlPp+GH6g7LyxQ6D8VrWaSBD44gGFPq8UNAJt9HmtutnXjmwvrx6uyrN
 LTTWVMSukx4BBr9il0RoWFstaI8W1W7t9W3n++T19HV4wyglBufi9Byfk4PjMrHlV306
 Af7H/RdxeXoolioYsYHq2Zg+9onf6+3CG20fJMCGvcYs0tJaVxsj2OgTjkVNvFGK2toU
 Dm7w==
X-Gm-Message-State: AC+VfDxohcalIl3O+wrYOWFcV67A0oQXviP6H5rwKCPEoP2fpaqtgaFv
 qm7Qpe3jhV78H2Xx1IoMsgaRCwiIprHEfMhCKUYozWRV35K/sfQAzqt6Zw==
X-Google-Smtp-Source: ACHHUZ5dfht1+yhU2hkbtpvA9mq2Qvmy2jMJLufqllkBrEJ7E2MbctC74DLxXHUEJJ2lGwtoMy8f2U94R0Z9
X-Received: by 2002:a0d:c641:0:b0:552:b9db:f4b7 with SMTP id
 i62-20020a0dc641000000b00552b9dbf4b7mr13712121ywd.3.1683607928127; 
 Mon, 08 May 2023 21:52:08 -0700 (PDT)
Received: from postal.iol.unh.edu (postal.iol.unh.edu. [132.177.123.84])
 by smtp-relay.gmail.com with ESMTPS id
 j126-20020a0dc784000000b00559c87101b1sm917498ywd.55.2023.05.08.21.52.08
 (version=TLS1_2 cipher=ECDHE-ECDSA-AES128-GCM-SHA256 bits=128/128);
 Mon, 08 May 2023 21:52:08 -0700 (PDT)
X-Relaying-Domain: iol.unh.edu
Date: Mon, 08 May 2023 21:52:08 -0700 (PDT)
Message-ID: <6459d178.0d0a0220.93c97.286eSMTPIN_ADDED_MISSING@mx.google.com>
Received: from [172.17.0.2] (unknown [172.18.0.34])
 by postal.iol.unh.edu (Postfix) with ESMTP id 9BF63605246B;
 Tue,  9 May 2023 00:52:07 -0400 (EDT)
Subject: |SUCCESS| pw126778 [PATCH] [net,
 v2] net/vmxnet3: fix drop of empty segments in tx
From: dpdklab@iol.unh.edu
To: Test Report <test-report@dpdk.org>
Cc: dpdk-test-reports@iol.unh.edu, David Marchand <david.marchand@redhat.com>,
 Thomas Monjalon <thomas@monjalon.net>
Content-Type: text/plain
X-BeenThere: test-report@dpdk.org
X-Mailman-Version: 2.1.29
Precedence: list
List-Id: automatic DPDK test reports <test-report.dpdk.org>
List-Unsubscribe: <https://mails.dpdk.org/options/test-report>,
 <mailto:test-report-request@dpdk.org?subject=unsubscribe>
List-Archive: <http://mails.dpdk.org/archives/test-report/>
List-Post: <mailto:test-report@dpdk.org>
List-Help: <mailto:test-report-request@dpdk.org?subject=help>
List-Subscribe: <https://mails.dpdk.org/listinfo/test-report>,
 <mailto:test-report-request@dpdk.org?subject=subscribe>
Errors-To: test-report-bounces@dpdk.org

Test-Label: iol-abi-testing
Test-Status: SUCCESS
http://dpdk.org/patch/126778

_Testing PASS_

Submitter: Ronak Doshi <doshir@vmware.com>
Date: Tuesday, May 09 2023 02:21:06 
DPDK git baseline: Repo:dpdk
  Branch: master
  CommitID:d03446724972d2a1bb645ce7f3e64f5ef0203d61

126778 --> testing pass

Test environment and result as below:

+-----------------+----------+
|   Environment   | abi_test |
+=================+==========+
| CentOS Stream 9 | PASS     |
+-----------------+----------+
| Debian Bullseye | PASS     |
+-----------------+----------+
| RHEL8           | PASS     |
+-----------------+----------+
| CentOS Stream 8 | PASS     |
+-----------------+----------+
| Ubuntu 22.04    | PASS     |
+-----------------+----------+


CentOS Stream 9
	Kernel: 4.18.0-240.10.1.el8_3.x86_64
	Compiler: gcc 11.3.1 20220421

Debian Bullseye
	Kernel: 5.4.0-122-generic
	Compiler: gcc 10.2.1-6

RHEL8
	Kernel: 4.18.0-240.10.1.el8_3.x86_64
	Compiler: gcc 8.3.1 20191121 (Red Hat 8.3.1-5)

CentOS Stream 8
	Kernel: 4.18.0-240.10.1.el8_3.x86_64
	Compiler: gcc 8.4.1 20200928

Ubuntu 22.04
	Kernel: Container Host Kernel
	Compiler: gcc 11.3.1-2

To view detailed results, visit:
https://lab.dpdk.org/results/dashboard/patchsets/26198/

UNH-IOL DPDK Community Lab

To manage your email subscriptions, visit: 
https://lab.dpdk.org/results/dashboard/preferences/subscriptions/