From mboxrd@z Thu Jan  1 00:00:00 1970
Return-Path: <test-report-bounces@dpdk.org>
Received: from mails.dpdk.org (mails.dpdk.org [217.70.189.124])
	by inbox.dpdk.org (Postfix) with ESMTP id 3677842A1B
	for <public@inbox.dpdk.org>; Thu, 11 May 2023 11:33:42 +0200 (CEST)
Received: from mails.dpdk.org (localhost [127.0.0.1])
	by mails.dpdk.org (Postfix) with ESMTP id 32A8542D5E;
	Thu, 11 May 2023 11:33:42 +0200 (CEST)
Received: from mail-yw1-f227.google.com (mail-yw1-f227.google.com
 [209.85.128.227])
 by mails.dpdk.org (Postfix) with ESMTP id 2B2AC42D5E
 for <test-report@dpdk.org>; Thu, 11 May 2023 11:33:41 +0200 (CEST)
Received: by mail-yw1-f227.google.com with SMTP id
 00721157ae682-55d2e87048cso124094347b3.1
 for <test-report@dpdk.org>; Thu, 11 May 2023 02:33:41 -0700 (PDT)
DKIM-Signature: v=1; a=rsa-sha256; c=relaxed/relaxed;
 d=iol.unh.edu; s=unh-iol; t=1683797620; x=1686389620;
 h=cc:to:from:subject:message-id:date:from:to:cc:subject:date
 :message-id:reply-to;
 bh=MYjJqICZQr9y5DpVIYpXJTA/Qsc8/OaDqcRSkJXhqLs=;
 b=QPUT7480GdNAVcr//UTSAVMk5xjgGlujoKH0Pb35IdlamxE9koGjK2RuQjG5IZUZpq
 YJ444ws5ZFdOzXWD01jT+NYJbeLCHKVtebcpsD3ZQ2efCMmN2nENCIYRjRE6ixQjnNU4
 RzC9WkGs6DzgUyIf9GESU8En6mMvJ0D6ltud4=
X-Google-DKIM-Signature: v=1; a=rsa-sha256; c=relaxed/relaxed;
 d=1e100.net; s=20221208; t=1683797620; x=1686389620;
 h=cc:to:from:subject:message-id:date:x-gm-message-state:from:to:cc
 :subject:date:message-id:reply-to;
 bh=MYjJqICZQr9y5DpVIYpXJTA/Qsc8/OaDqcRSkJXhqLs=;
 b=Ymq8/DhCx6u2WApDDztYXKjRydYxlb5EqRuDQX0VJSWvEz1vNYJbXXD2PzfOeY8m6Q
 Y8Se5VnrLk9QqVaJHJ5Mqyxv6aDNI0KlUled/EetaHLK8BgYx/fi8Ywfa4DC/qKVr3X4
 IngzJA1TF7//8HUwniN0ry9SJS5FRGyTlCtMAWanBEWcvZr+4xGddcXkjHMy9dZ/UgLC
 xOEa/QnYGoz/ZfaolR4C0PXDmcZOHzbgPt8eEjbyPCqphMTZmOh+p7bXb7Pr3fFkJ5o5
 +pmpEl6bN5rU/Xk7w0xRBPSgTWZft4k0FGC3gOJwmHmY2xspEl5AtZqVio4O0qEbw15f
 RdHQ==
X-Gm-Message-State: AC+VfDygaHk73ZblaXIHIZqkLaz/dWkIeiQDPhIkBg5wiG1+YTHntWu8
 49rPpyzEVgBBUfHvm8CZbtbPKgpZX+DgsbjwcSlMzc/xI8pTqc6D83OFc9AVWxaz0gpC+GjMtg=
 =
X-Google-Smtp-Source: ACHHUZ6mdOM5X9QTNljCQO6Ah6VcasKfaYHmVUrkOJzKSIRz8rwRg0HL0tt7oInjYFAJ3PVmv25F09okscyJ
X-Received: by 2002:a0d:ef41:0:b0:552:d36e:e6db with SMTP id
 y62-20020a0def41000000b00552d36ee6dbmr21254104ywe.6.1683797620526; 
 Thu, 11 May 2023 02:33:40 -0700 (PDT)
Received: from postal.iol.unh.edu (postal.iol.unh.edu.
 [2606:4100:3880:1234::84]) by smtp-relay.gmail.com with ESMTPS id
 d188-20020a254fc5000000b00b9e92e4c69fsm1254624ybb.20.2023.05.11.02.33.40
 (version=TLS1_2 cipher=ECDHE-ECDSA-AES128-GCM-SHA256 bits=128/128);
 Thu, 11 May 2023 02:33:40 -0700 (PDT)
X-Relaying-Domain: iol.unh.edu
Date: Thu, 11 May 2023 02:33:40 -0700 (PDT)
Message-ID: <645cb674.250a0220.3b98c.7c0bSMTPIN_ADDED_MISSING@mx.google.com>
Received: from [172.17.0.2] (unknown [172.18.0.34])
 by postal.iol.unh.edu (Postfix) with ESMTP id EA9EA605246B;
 Thu, 11 May 2023 05:33:39 -0400 (EDT)
Subject: |SUCCESS| pw126812-126814 [PATCH] [v1,
 3/3] net/mlx5/hws: add support for infiniband BTH match
From: dpdklab@iol.unh.edu
To: Test Report <test-report@dpdk.org>
Cc: dpdk-test-reports@iol.unh.edu
Content-Type: text/plain
X-BeenThere: test-report@dpdk.org
X-Mailman-Version: 2.1.29
Precedence: list
List-Id: automatic DPDK test reports <test-report.dpdk.org>
List-Unsubscribe: <https://mails.dpdk.org/options/test-report>,
 <mailto:test-report-request@dpdk.org?subject=unsubscribe>
List-Archive: <http://mails.dpdk.org/archives/test-report/>
List-Post: <mailto:test-report@dpdk.org>
List-Help: <mailto:test-report-request@dpdk.org?subject=help>
List-Subscribe: <https://mails.dpdk.org/listinfo/test-report>,
 <mailto:test-report-request@dpdk.org?subject=subscribe>
Errors-To: test-report-bounces@dpdk.org

Test-Label: iol-abi-testing
Test-Status: SUCCESS
http://dpdk.org/patch/126814

_Testing PASS_

Submitter: Dong Zhou <dongzhou@nvidia.com>
Date: Thursday, May 11 2023 07:55:04 
DPDK git baseline: Repo:dpdk
  Branch: master
  CommitID:d03446724972d2a1bb645ce7f3e64f5ef0203d61

126812-126814 --> testing pass

Test environment and result as below:

+-----------------+----------+
|   Environment   | abi_test |
+=================+==========+
| Debian Bullseye | PASS     |
+-----------------+----------+
| Ubuntu 22.04    | PASS     |
+-----------------+----------+
| Debian Buster   | PASS     |
+-----------------+----------+
| CentOS Stream 9 | PASS     |
+-----------------+----------+
| CentOS Stream 8 | PASS     |
+-----------------+----------+
| RHEL 7          | PASS     |
+-----------------+----------+


Debian Bullseye
	Kernel: 5.4.0-122-generic
	Compiler: gcc 10.2.1-6

Ubuntu 22.04
	Kernel: Container Host Kernel
	Compiler: clang 14.0.5-1.fc36

Debian Buster
	Kernel: 5.4.0-122-generic
	Compiler: gcc 8.3.0-6

CentOS Stream 9
	Kernel: 4.18.0-240.10.1.el8_3.x86_64
	Compiler: gcc 11.3.1 20220421

CentOS Stream 8
	Kernel: 4.18.0-240.10.1.el8_3.x86_64
	Compiler: gcc 8.4.1 20200928

RHEL 7
	Kernel: 4.18.0-240.10.1.el8_3.x86_64
	Compiler: gcc 4.8.5 20150623 (Red Hat 4.8.5-44)

To view detailed results, visit:
https://lab.dpdk.org/results/dashboard/patchsets/26205/

UNH-IOL DPDK Community Lab

To manage your email subscriptions, visit: 
https://lab.dpdk.org/results/dashboard/preferences/subscriptions/