From mboxrd@z Thu Jan  1 00:00:00 1970
Return-Path: <test-report-bounces@dpdk.org>
Received: from mails.dpdk.org (mails.dpdk.org [217.70.189.124])
	by inbox.dpdk.org (Postfix) with ESMTP id 20F6D42A1B
	for <public@inbox.dpdk.org>; Thu, 11 May 2023 11:38:00 +0200 (CEST)
Received: from mails.dpdk.org (localhost [127.0.0.1])
	by mails.dpdk.org (Postfix) with ESMTP id 0635042D62;
	Thu, 11 May 2023 11:38:00 +0200 (CEST)
Received: from mail-yw1-f228.google.com (mail-yw1-f228.google.com
 [209.85.128.228])
 by mails.dpdk.org (Postfix) with ESMTP id BDE5B42D62
 for <test-report@dpdk.org>; Thu, 11 May 2023 11:37:59 +0200 (CEST)
Received: by mail-yw1-f228.google.com with SMTP id
 00721157ae682-55a26b46003so126535387b3.1
 for <test-report@dpdk.org>; Thu, 11 May 2023 02:37:59 -0700 (PDT)
DKIM-Signature: v=1; a=rsa-sha256; c=relaxed/relaxed;
 d=iol.unh.edu; s=unh-iol; t=1683797879; x=1686389879;
 h=cc:to:from:subject:message-id:date:from:to:cc:subject:date
 :message-id:reply-to;
 bh=Cu+nS7KWqGEX422bETnJy2AtebYx1Lq7TQAmsLd7NhA=;
 b=DY/T+yHF80Egh9DVi7Lc9VNpGkdhIvU3gqsMAO17EWg5LSUwWdfQbWKC3XdE2qgWAr
 mn8jZITmn8lIE/ltPJ7ilA6474ZclzTkrtzhwgUD4tBjIoAG2Ob3LRYFTxsYzeF+Ebar
 7yU4+3uF2XHlXDP8AO98I6hd7NWbE2m4r5F8s=
X-Google-DKIM-Signature: v=1; a=rsa-sha256; c=relaxed/relaxed;
 d=1e100.net; s=20221208; t=1683797879; x=1686389879;
 h=cc:to:from:subject:message-id:date:x-gm-message-state:from:to:cc
 :subject:date:message-id:reply-to;
 bh=Cu+nS7KWqGEX422bETnJy2AtebYx1Lq7TQAmsLd7NhA=;
 b=SqkR3EYX0Oqkdhc0ZHqUlPZhk7vmnmOp+GCwWGPqy2K4U/soug38+nYgJe9bxWbZvs
 ti89TjSNzko07KhUG4AFQjEOljr/e6dLw+0ovI6KzTklp5qnKeOX0FE3o6GbpetxEyGh
 dnm0etnBS5CxahzVH2Z4JHVr8Up3Bq6P7ddD/o2XGNoY15LO9r1vw4MwM5nduAF/zgU5
 fcjgAoKq0KrG5afLh84aTV37AB9JfocuPMFhW5tPrc84/704r5QCb5+XXRyIXaex0sDh
 P/AxQA9VR5RgsKCUnsJlCYqoNQnPmi5oyP4y5E5Byo9pQOJV0noaEXloo7tnWA4nY5Cq
 YaXw==
X-Gm-Message-State: AC+VfDyU9jzNhqyvSe0DcbY1ZrZP6I3l8HgyRlybgFS5NbDSUk6L1a17
 4/AxCIXDhL639h2f/5oqf71bCq8uzD6cagUCDceGnN5K35cUarXi/qYhqp32jDqZlpCBCIa41A=
 =
X-Google-Smtp-Source: ACHHUZ5W+L9mIGmZ+Y1a2sh0IT1umFMnCM3+3uZ8eBawIZY3sldsi2nh4liZEBfD0Ft24pG5KZmzJAxmUgYb
X-Received: by 2002:a0d:df11:0:b0:55c:9348:2b67 with SMTP id
 i17-20020a0ddf11000000b0055c93482b67mr21561292ywe.44.1683797879147; 
 Thu, 11 May 2023 02:37:59 -0700 (PDT)
Received: from postal.iol.unh.edu (postal.iol.unh.edu.
 [2606:4100:3880:1234::84]) by smtp-relay.gmail.com with ESMTPS id
 e6-20020a81dd06000000b00552cb289f49sm1548754ywn.68.2023.05.11.02.37.59
 (version=TLS1_2 cipher=ECDHE-ECDSA-AES128-GCM-SHA256 bits=128/128);
 Thu, 11 May 2023 02:37:59 -0700 (PDT)
X-Relaying-Domain: iol.unh.edu
Date: Thu, 11 May 2023 02:37:59 -0700 (PDT)
Message-ID: <645cb777.810a0220.d8ffc.73f4SMTPIN_ADDED_MISSING@mx.google.com>
Received: from [172.17.0.2] (unknown [172.18.0.34])
 by postal.iol.unh.edu (Postfix) with ESMTP id 989FD605246B;
 Thu, 11 May 2023 05:37:58 -0400 (EDT)
Subject: |SUCCESS| pw126812-126814 [PATCH] [v1,
 3/3] net/mlx5/hws: add support for infiniband BTH match
From: dpdklab@iol.unh.edu
To: Test Report <test-report@dpdk.org>
Cc: dpdk-test-reports@iol.unh.edu
Content-Type: text/plain
X-BeenThere: test-report@dpdk.org
X-Mailman-Version: 2.1.29
Precedence: list
List-Id: automatic DPDK test reports <test-report.dpdk.org>
List-Unsubscribe: <https://mails.dpdk.org/options/test-report>,
 <mailto:test-report-request@dpdk.org?subject=unsubscribe>
List-Archive: <http://mails.dpdk.org/archives/test-report/>
List-Post: <mailto:test-report@dpdk.org>
List-Help: <mailto:test-report-request@dpdk.org?subject=help>
List-Subscribe: <https://mails.dpdk.org/listinfo/test-report>,
 <mailto:test-report-request@dpdk.org?subject=subscribe>
Errors-To: test-report-bounces@dpdk.org

Test-Label: iol-abi-testing
Test-Status: SUCCESS
http://dpdk.org/patch/126814

_Testing PASS_

Submitter: Dong Zhou <dongzhou@nvidia.com>
Date: Thursday, May 11 2023 07:55:04 
DPDK git baseline: Repo:dpdk
  Branch: master
  CommitID:d03446724972d2a1bb645ce7f3e64f5ef0203d61

126812-126814 --> testing pass

Test environment and result as below:

+------------------+----------+
|   Environment    | abi_test |
+==================+==========+
| Debian Bullseye  | PASS     |
+------------------+----------+
| Ubuntu 22.04     | PASS     |
+------------------+----------+
| Debian Buster    | PASS     |
+------------------+----------+
| CentOS Stream 9  | PASS     |
+------------------+----------+
| CentOS Stream 8  | PASS     |
+------------------+----------+
| RHEL 7           | PASS     |
+------------------+----------+
| openSUSE Leap 15 | PASS     |
+------------------+----------+


Debian Bullseye
	Kernel: 5.4.0-122-generic
	Compiler: gcc 10.2.1-6

Ubuntu 22.04
	Kernel: Container Host Kernel
	Compiler: clang 14.0.5-1.fc36

Debian Buster
	Kernel: 5.4.0-122-generic
	Compiler: gcc 8.3.0-6

CentOS Stream 9
	Kernel: 4.18.0-240.10.1.el8_3.x86_64
	Compiler: gcc 11.3.1 20220421

CentOS Stream 8
	Kernel: 4.18.0-240.10.1.el8_3.x86_64
	Compiler: gcc 8.4.1 20200928

RHEL 7
	Kernel: 4.18.0-240.10.1.el8_3.x86_64
	Compiler: gcc 4.8.5 20150623 (Red Hat 4.8.5-44)

openSUSE Leap 15
	Kernel: 4.18.0-240.10.1.el8_3.x86_64
	Compiler: gcc 7.5.0

To view detailed results, visit:
https://lab.dpdk.org/results/dashboard/patchsets/26205/

UNH-IOL DPDK Community Lab

To manage your email subscriptions, visit: 
https://lab.dpdk.org/results/dashboard/preferences/subscriptions/