From mboxrd@z Thu Jan  1 00:00:00 1970
Return-Path: <test-report-bounces@dpdk.org>
Received: from mails.dpdk.org (mails.dpdk.org [217.70.189.124])
	by inbox.dpdk.org (Postfix) with ESMTP id 95E3342A77
	for <public@inbox.dpdk.org>; Thu, 11 May 2023 12:06:10 +0200 (CEST)
Received: from mails.dpdk.org (localhost [127.0.0.1])
	by mails.dpdk.org (Postfix) with ESMTP id 7683642D5E;
	Thu, 11 May 2023 12:06:10 +0200 (CEST)
Received: from mail-ua1-f100.google.com (mail-ua1-f100.google.com
 [209.85.222.100])
 by mails.dpdk.org (Postfix) with ESMTP id F296842D5E
 for <test-report@dpdk.org>; Thu, 11 May 2023 12:06:09 +0200 (CEST)
Received: by mail-ua1-f100.google.com with SMTP id
 a1e0cc1a2514c-780bb3b96e0so3906583241.0
 for <test-report@dpdk.org>; Thu, 11 May 2023 03:06:09 -0700 (PDT)
DKIM-Signature: v=1; a=rsa-sha256; c=relaxed/relaxed;
 d=iol.unh.edu; s=unh-iol; t=1683799569; x=1686391569;
 h=cc:to:from:subject:message-id:date:from:to:cc:subject:date
 :message-id:reply-to;
 bh=iAi2l3Ryf83ViCJSkaRpLo0tYdPw0h4nc2zxa25H01M=;
 b=W6iawW2PY4Qo1tWxjX20gKWGL+rM3jF+iJwHv7HKYpejtoVMKDv892Ym6dVxNnqSBS
 3MqsXlaUSdXc8MIUdzsdtBK4hLnWhBth6Y6H5X5AhSekCvnoSHep49dUCAvg3i8tUUoP
 qjutBCkm6aoS41WDt21WZ07G0Q5XcFIyPFR34=
X-Google-DKIM-Signature: v=1; a=rsa-sha256; c=relaxed/relaxed;
 d=1e100.net; s=20221208; t=1683799569; x=1686391569;
 h=cc:to:from:subject:message-id:date:x-gm-message-state:from:to:cc
 :subject:date:message-id:reply-to;
 bh=iAi2l3Ryf83ViCJSkaRpLo0tYdPw0h4nc2zxa25H01M=;
 b=MjRu2EDlpFuc0Tj+12hQT8Q3P7pVGyxWxXUI37IXcgl0Jv75nTUOsfuA4Ao65DTl4n
 otwsCAuhzB2/vrNpUdbHSM/7EWLn/sRYrgs78o/GeFf+aRi689oXab64p/8NIOyiykno
 FUAJKecOF7I+GWk2a5v4IxTVQlDqNK3NfLpoNazb7w8VSo8has+sOG8ypRvTZ+fA2Knu
 2YgAUeGs2sAaUeDGo/XUFzlFdRehlTuRW7p9QhIgHxOasWFsxsVE0Q7v0xMxLiBw0bPR
 +aDJlp2urSgj2LdSigJVeZrl8KXRMFkgqWg58diUpMK9x4dItZdonsn+W/6M2TVVs6yr
 cbLA==
X-Gm-Message-State: AC+VfDy6Zzz2Uvdq2jKYlU7URsb/uwlDLqhDBZCuiWZOwu1eE377E4E4
 T9v5Hb+HzequRRF/kHBfzxcclqY4twsy63mfHcNMVpR5yzb3QpKlE3KCGg==
X-Google-Smtp-Source: ACHHUZ4shgMivyG0c87PgjjSCGEP4X74tX7T6CFuM9qs1dtW26grXl52ZKxDzPJZLm/9LQiWcazqZue5bFA0
X-Received: by 2002:a67:f854:0:b0:434:71c2:a4d9 with SMTP id
 b20-20020a67f854000000b0043471c2a4d9mr7779442vsp.7.1683799569275; 
 Thu, 11 May 2023 03:06:09 -0700 (PDT)
Received: from postal.iol.unh.edu (postal.iol.unh.edu. [132.177.123.84])
 by smtp-relay.gmail.com with ESMTPS id
 w12-20020a9f2c8c000000b0076c0c1af85fsm1375495uaj.11.2023.05.11.03.06.09
 (version=TLS1_2 cipher=ECDHE-ECDSA-AES128-GCM-SHA256 bits=128/128);
 Thu, 11 May 2023 03:06:09 -0700 (PDT)
X-Relaying-Domain: iol.unh.edu
Date: Thu, 11 May 2023 03:06:09 -0700 (PDT)
Message-ID: <645cbe11.9f0a0220.b7de8.85ceSMTPIN_ADDED_MISSING@mx.google.com>
Received: from [172.17.0.2] (unknown [172.18.0.34])
 by postal.iol.unh.edu (Postfix) with ESMTP id D752E605246B;
 Thu, 11 May 2023 06:06:08 -0400 (EDT)
Subject: |SUCCESS| pw126812-126814 [PATCH] [v1,
 3/3] net/mlx5/hws: add support for infiniband BTH match
From: dpdklab@iol.unh.edu
To: Test Report <test-report@dpdk.org>
Cc: dpdk-test-reports@iol.unh.edu
Content-Type: text/plain
X-BeenThere: test-report@dpdk.org
X-Mailman-Version: 2.1.29
Precedence: list
List-Id: automatic DPDK test reports <test-report.dpdk.org>
List-Unsubscribe: <https://mails.dpdk.org/options/test-report>,
 <mailto:test-report-request@dpdk.org?subject=unsubscribe>
List-Archive: <http://mails.dpdk.org/archives/test-report/>
List-Post: <mailto:test-report@dpdk.org>
List-Help: <mailto:test-report-request@dpdk.org?subject=help>
List-Subscribe: <https://mails.dpdk.org/listinfo/test-report>,
 <mailto:test-report-request@dpdk.org?subject=subscribe>
Errors-To: test-report-bounces@dpdk.org

Test-Label: iol-aarch64-compile-testing
Test-Status: SUCCESS
http://dpdk.org/patch/126814

_Testing PASS_

Submitter: Dong Zhou <dongzhou@nvidia.com>
Date: Thursday, May 11 2023 07:55:04 
DPDK git baseline: Repo:dpdk
  Branch: master
  CommitID:d03446724972d2a1bb645ce7f3e64f5ef0203d61

126812-126814 --> testing pass

Test environment and result as below:

+----------------------------------------+--------------------+
|              Environment               | dpdk_meson_compile |
+========================================+====================+
| Ubuntu 20.04 ARM GCC Native            | PASS               |
+----------------------------------------+--------------------+
| Ubuntu 20.04 ARM Clang Native          | PASS               |
+----------------------------------------+--------------------+
| Ubuntu 20.04 aarch32 GCC Cross Compile | PASS               |
+----------------------------------------+--------------------+
| Ubuntu 20.04 ARM Clang Cross Compile   | PASS               |
+----------------------------------------+--------------------+
| Ubuntu 20.04 ARM SVE                   | PASS               |
+----------------------------------------+--------------------+
| Ubuntu 20.04 ARM GCC Cross Compile     | PASS               |
+----------------------------------------+--------------------+


Ubuntu 20.04 ARM GCC Native
	Kernel: 5.4.0-53-generic
	Compiler: gcc 9.3

Ubuntu 20.04 ARM Clang Native
	Kernel: 5.4.0-53-generic
	Compiler: clang 10.0.0-4ubuntu1

Ubuntu 20.04 aarch32 GCC Cross Compile
	Kernel: 5.4.0-72-generic
	Compiler: gcc 9.3.0

Ubuntu 20.04 ARM Clang Cross Compile
	Kernel: 5.4.0-72-generic
	Compiler: clang version 10.0.0-4ubuntu1

Ubuntu 20.04 ARM SVE
	Kernel: 5.4.0-80-generic
	Compiler: gcc 10.3.0 (Ubuntu 10.3.0-1ubuntu1~20.04)

Ubuntu 20.04 ARM GCC Cross Compile
	Kernel: 5.4.0-72-generic
	Compiler: aarch64-linux-gnu-gcc (Ubuntu 9.3.0-17ubuntu1~20.04) 9.3.0

To view detailed results, visit:
https://lab.dpdk.org/results/dashboard/patchsets/26205/

UNH-IOL DPDK Community Lab

To manage your email subscriptions, visit: 
https://lab.dpdk.org/results/dashboard/preferences/subscriptions/