From mboxrd@z Thu Jan  1 00:00:00 1970
Return-Path: <test-report-bounces@dpdk.org>
Received: from mails.dpdk.org (mails.dpdk.org [217.70.189.124])
	by inbox.dpdk.org (Postfix) with ESMTP id EE53842AE6
	for <public@inbox.dpdk.org>; Fri, 12 May 2023 16:14:12 +0200 (CEST)
Received: from mails.dpdk.org (localhost [127.0.0.1])
	by mails.dpdk.org (Postfix) with ESMTP id 0E20D40041;
	Fri, 12 May 2023 16:14:12 +0200 (CEST)
Received: from mail-pf1-f228.google.com (mail-pf1-f228.google.com
 [209.85.210.228])
 by mails.dpdk.org (Postfix) with ESMTP id 7FC7840041
 for <test-report@dpdk.org>; Fri, 12 May 2023 16:14:10 +0200 (CEST)
Received: by mail-pf1-f228.google.com with SMTP id
 d2e1a72fcca58-643a6f993a7so6144588b3a.1
 for <test-report@dpdk.org>; Fri, 12 May 2023 07:14:10 -0700 (PDT)
DKIM-Signature: v=1; a=rsa-sha256; c=relaxed/relaxed;
 d=iol.unh.edu; s=unh-iol; t=1683900849; x=1686492849;
 h=cc:to:from:subject:message-id:date:from:to:cc:subject:date
 :message-id:reply-to;
 bh=AlnRRJUeQ/lkSDhgYl/d2SYu+wLR4ytAaRMc2Hi6rZI=;
 b=gj/S07vdoq/rgUcRSGz/1wDiXqyzltUMKjDuW1OWezJ4CEqZq32Q+nA4CYWyq8qdQb
 rg3ZHuOyRK1jeKFmRnhO6rKz3ExQukvgEufyayDprOpRv3yp8GazUJfNQOVuQN5Ml7A6
 g4v0LT7pHsNmcg/dPT+3zhJWBrGbq8vzzKwpE=
X-Google-DKIM-Signature: v=1; a=rsa-sha256; c=relaxed/relaxed;
 d=1e100.net; s=20221208; t=1683900849; x=1686492849;
 h=cc:to:from:subject:message-id:date:x-gm-message-state:from:to:cc
 :subject:date:message-id:reply-to;
 bh=AlnRRJUeQ/lkSDhgYl/d2SYu+wLR4ytAaRMc2Hi6rZI=;
 b=ew3kqCZGZI/T5AeuET9zDgK1eDpheig7Jy22KjXi6dZwc/WPsoHH29ggo+9At4OIvR
 /pCJxA5eiWi9j0G43Wp+MMPANaBX0liAoo5in1gHwHa2iaM1T5VNtQga0/8DU81EoojA
 VSJ/mzz8k/ZNaEhADDT2WJDB/F8K7YK9i1IELkc+5e3qr8nEXiexDomlLCHOezfLD56f
 tvaFrw6WqOcuX2p/jwPPtNswvB2PbnW4lgdinjTrxwd/AaFuw9T12dcjkaodDnpDiPZN
 EY0rffjmSLjNezrMG0tRQ98T0k05OSlnKoaM7JhuXLlV6uTIr0OTqdJa9sMZcDVGrPq/
 EdGA==
X-Gm-Message-State: AC+VfDylxmFeFJVbQ9MQVqTXpdUqe05H4/bHU1kaEnpSFt0pz622mlvJ
 T8QbLeX2Ij/K+AeUiKVpV6/h/g4u98CuLwVLF9+Xz63zs8IdjhI6hwQpwPNyqDr5V9lcjsHk7g=
 =
X-Google-Smtp-Source: ACHHUZ7h47fD80yDNlDKoPeEqwI4QdCqKUWgnKUx9Ch+DnqsPgTqhNfTsITGBef77HUo5E+cuVTkh5gyoNkP
X-Received: by 2002:a05:6a00:134b:b0:643:b263:404 with SMTP id
 k11-20020a056a00134b00b00643b2630404mr31406795pfu.33.1683900849678; 
 Fri, 12 May 2023 07:14:09 -0700 (PDT)
Received: from postal.iol.unh.edu (postal.iol.unh.edu.
 [2606:4100:3880:1234::84]) by smtp-relay.gmail.com with ESMTPS id
 z10-20020aa7888a000000b006466f0b50d9sm1149439pfe.24.2023.05.12.07.14.09
 (version=TLS1_2 cipher=ECDHE-ECDSA-AES128-GCM-SHA256 bits=128/128);
 Fri, 12 May 2023 07:14:09 -0700 (PDT)
X-Relaying-Domain: iol.unh.edu
Date: Fri, 12 May 2023 07:14:09 -0700 (PDT)
Message-ID: <645e49b1.a70a0220.9896a.7d1dSMTPIN_ADDED_MISSING@mx.google.com>
Received: from [172.17.0.2] (unknown [172.18.0.34])
 by postal.iol.unh.edu (Postfix) with ESMTP id DB63E605246B;
 Fri, 12 May 2023 10:14:08 -0400 (EDT)
Subject: |SUCCESS| pw126835 [PATCH] test/crypto: fix IPsec AES CCM test vector
From: dpdklab@iol.unh.edu
To: Test Report <test-report@dpdk.org>
Cc: dpdk-test-reports@iol.unh.edu
Content-Type: text/plain
X-BeenThere: test-report@dpdk.org
X-Mailman-Version: 2.1.29
Precedence: list
List-Id: automatic DPDK test reports <test-report.dpdk.org>
List-Unsubscribe: <https://mails.dpdk.org/options/test-report>,
 <mailto:test-report-request@dpdk.org?subject=unsubscribe>
List-Archive: <http://mails.dpdk.org/archives/test-report/>
List-Post: <mailto:test-report@dpdk.org>
List-Help: <mailto:test-report-request@dpdk.org?subject=help>
List-Subscribe: <https://mails.dpdk.org/listinfo/test-report>,
 <mailto:test-report-request@dpdk.org?subject=subscribe>
Errors-To: test-report-bounces@dpdk.org

Test-Label: iol-abi-testing
Test-Status: SUCCESS
http://dpdk.org/patch/126835

_Testing PASS_

Submitter: Tejasree Kondoj <ktejasree@marvell.com>
Date: Friday, May 12 2023 12:59:33 
DPDK git baseline: Repo:dpdk
  Branch: master
  CommitID:d03446724972d2a1bb645ce7f3e64f5ef0203d61

126835 --> testing pass

Test environment and result as below:

+------------------+----------+
|   Environment    | abi_test |
+==================+==========+
| Debian Bullseye  | PASS     |
+------------------+----------+
| RHEL 7           | PASS     |
+------------------+----------+
| CentOS Stream 9  | PASS     |
+------------------+----------+
| Ubuntu 22.04     | PASS     |
+------------------+----------+
| openSUSE Leap 15 | PASS     |
+------------------+----------+
| Debian Buster    | PASS     |
+------------------+----------+
| CentOS Stream 8  | PASS     |
+------------------+----------+


Debian Bullseye
	Kernel: 5.4.0-122-generic
	Compiler: gcc 10.2.1-6

RHEL 7
	Kernel: 4.18.0-240.10.1.el8_3.x86_64
	Compiler: gcc 4.8.5 20150623 (Red Hat 4.8.5-44)

CentOS Stream 9
	Kernel: 4.18.0-240.10.1.el8_3.x86_64
	Compiler: gcc 11.3.1 20220421

Ubuntu 22.04
	Kernel: Container Host Kernel
	Compiler: clang 14.0.5-1.fc36

openSUSE Leap 15
	Kernel: 4.18.0-240.10.1.el8_3.x86_64
	Compiler: gcc 7.5.0

Debian Buster
	Kernel: 5.4.0-122-generic
	Compiler: gcc 8.3.0-6

CentOS Stream 8
	Kernel: 4.18.0-240.10.1.el8_3.x86_64
	Compiler: gcc 8.4.1 20200928

To view detailed results, visit:
https://lab.dpdk.org/results/dashboard/patchsets/26217/

UNH-IOL DPDK Community Lab

To manage your email subscriptions, visit: 
https://lab.dpdk.org/results/dashboard/preferences/subscriptions/