From mboxrd@z Thu Jan  1 00:00:00 1970
Return-Path: <test-report-bounces@dpdk.org>
Received: from mails.dpdk.org (mails.dpdk.org [217.70.189.124])
	by inbox.dpdk.org (Postfix) with ESMTP id A33FE42AE6
	for <public@inbox.dpdk.org>; Fri, 12 May 2023 16:17:12 +0200 (CEST)
Received: from mails.dpdk.org (localhost [127.0.0.1])
	by mails.dpdk.org (Postfix) with ESMTP id 9DB7140041;
	Fri, 12 May 2023 16:17:12 +0200 (CEST)
Received: from mail-qv1-f97.google.com (mail-qv1-f97.google.com
 [209.85.219.97]) by mails.dpdk.org (Postfix) with ESMTP id 0FE0E40041
 for <test-report@dpdk.org>; Fri, 12 May 2023 16:17:12 +0200 (CEST)
Received: by mail-qv1-f97.google.com with SMTP id
 6a1803df08f44-61b5a6865dfso79025836d6.3
 for <test-report@dpdk.org>; Fri, 12 May 2023 07:17:12 -0700 (PDT)
DKIM-Signature: v=1; a=rsa-sha256; c=relaxed/relaxed;
 d=iol.unh.edu; s=unh-iol; t=1683901031; x=1686493031;
 h=cc:to:from:subject:message-id:date:from:to:cc:subject:date
 :message-id:reply-to;
 bh=0jy4WElZozvvCvfhKHsFtZ4bCB47re2UijBc4DnXPWE=;
 b=TVVs/EwkmGmB4KI3srY15yXVmafQStv72/g5sQv/VsoCpLX8DMZ9RRoa34+rvU/JL2
 RCF0HhfG8ruBT1OcA0SENMnSwwN2As7DZIbybRPsdMr62D9t9nR/ANYya0cB7xwzsoch
 GXWcplAHo6HtddzLAJtkKTiyMaD5FytGcjlBw=
X-Google-DKIM-Signature: v=1; a=rsa-sha256; c=relaxed/relaxed;
 d=1e100.net; s=20221208; t=1683901031; x=1686493031;
 h=cc:to:from:subject:message-id:date:x-gm-message-state:from:to:cc
 :subject:date:message-id:reply-to;
 bh=0jy4WElZozvvCvfhKHsFtZ4bCB47re2UijBc4DnXPWE=;
 b=fzQe3Aw1Jf99vnuQpWo4QaSEeQ5uvCgavndkVCCaWv1/lG6rI9rCwOC0P7h4+o8JaX
 8/PAZftq3hCasGNwVhstQZcde0RFPXWGDUsB/Z5/iA1HEQY/99Q9RcFOXNbSNvBEGj06
 NSOym9wwU1gcuCB4z412O/tN64R9OZt/WEx0ZzkScOfUoHB/1r74A53Mieku381Rg/1Q
 Myfo3tf8HYLpqw63F2jqGAGL1GdXZm2Vc5nl3bFCuLl5n1b9KmVr47gG+CDIkL6Jum7m
 Fi/9H2mE3tis8fi+Zqs+b54OosJsDHlUn8lDbJuZezqcnve7hranSqwLk6LYelDYbu+Q
 JggA==
X-Gm-Message-State: AC+VfDzYVHcsEhpLH04HGlJWZ3BAuHjY/gJSwofNItBVqLuH5WPWpheH
 vToHsvAR2424RrUqYlf7OHE6r57MPEIirrDT419DgPX6P5cCaq/rztp+1jCbCvX+b6fIibfsbA=
 =
X-Google-Smtp-Source: ACHHUZ6fQkDIP8HUl3YGamiiFuda6xK6PrUa/QDLd67OkqwXvmcXeVvOlGohMC9ktx+j+o2nsrCPQqC9PdQh
X-Received: by 2002:a05:6214:1bc5:b0:61b:7e5a:ec00 with SMTP id
 m5-20020a0562141bc500b0061b7e5aec00mr42361953qvc.37.1683901031376; 
 Fri, 12 May 2023 07:17:11 -0700 (PDT)
Received: from postal.iol.unh.edu (postal.iol.unh.edu.
 [2606:4100:3880:1234::84]) by smtp-relay.gmail.com with ESMTPS id
 w7-20020a0cf707000000b005e3ca68d7b9sm666291qvn.72.2023.05.12.07.17.11
 (version=TLS1_2 cipher=ECDHE-ECDSA-AES128-GCM-SHA256 bits=128/128);
 Fri, 12 May 2023 07:17:11 -0700 (PDT)
X-Relaying-Domain: iol.unh.edu
Date: Fri, 12 May 2023 07:17:11 -0700 (PDT)
Message-ID: <645e4a67.0c0a0220.844cc.459eSMTPIN_ADDED_MISSING@mx.google.com>
Received: from [172.17.0.2] (unknown [172.18.0.34])
 by postal.iol.unh.edu (Postfix) with ESMTP id 14E7A605246B;
 Fri, 12 May 2023 10:17:11 -0400 (EDT)
Subject: |SUCCESS| pw126835 [PATCH] test/crypto: fix IPsec AES CCM test vector
From: dpdklab@iol.unh.edu
To: Test Report <test-report@dpdk.org>
Cc: dpdk-test-reports@iol.unh.edu
Content-Type: text/plain
X-BeenThere: test-report@dpdk.org
X-Mailman-Version: 2.1.29
Precedence: list
List-Id: automatic DPDK test reports <test-report.dpdk.org>
List-Unsubscribe: <https://mails.dpdk.org/options/test-report>,
 <mailto:test-report-request@dpdk.org?subject=unsubscribe>
List-Archive: <http://mails.dpdk.org/archives/test-report/>
List-Post: <mailto:test-report@dpdk.org>
List-Help: <mailto:test-report-request@dpdk.org?subject=help>
List-Subscribe: <https://mails.dpdk.org/listinfo/test-report>,
 <mailto:test-report-request@dpdk.org?subject=subscribe>
Errors-To: test-report-bounces@dpdk.org

Test-Label: iol-x86_64-compile-testing
Test-Status: SUCCESS
http://dpdk.org/patch/126835

_Testing PASS_

Submitter: Tejasree Kondoj <ktejasree@marvell.com>
Date: Friday, May 12 2023 12:59:33 
DPDK git baseline: Repo:dpdk
  Branch: master
  CommitID:d03446724972d2a1bb645ce7f3e64f5ef0203d61

126835 --> testing pass

Test environment and result as below:

+------------------+--------------------+
|   Environment    | dpdk_meson_compile |
+==================+====================+
| FreeBSD 13       | PASS               |
+------------------+--------------------+
| Ubuntu 22.04     | PASS               |
+------------------+--------------------+
| CentOS Stream 9  | PASS               |
+------------------+--------------------+
| Debian Bullseye  | PASS               |
+------------------+--------------------+
| Debian Buster    | PASS               |
+------------------+--------------------+
| CentOS Stream 8  | PASS               |
+------------------+--------------------+
| RHEL8            | PASS               |
+------------------+--------------------+
| Alpine           | PASS               |
+------------------+--------------------+
| RHEL 7           | PASS               |
+------------------+--------------------+
| openSUSE Leap 15 | PASS               |
+------------------+--------------------+
| Ubuntu 20.04     | PASS               |
+------------------+--------------------+


FreeBSD 13
	Kernel: 13.0
	Compiler: clang 11.0.1

Ubuntu 22.04
	Kernel: Container Host Kernel
	Compiler: gcc 12.2.1-2

CentOS Stream 9
	Kernel: 4.18.0-240.10.1.el8_3.x86_64
	Compiler: gcc 11.3.1 20220421

Debian Bullseye
	Kernel: 5.4.0-122-generic
	Compiler: gcc 10.2.1-6

Debian Buster
	Kernel: 5.4.0-122-generic
	Compiler: gcc 8.3.0-6

CentOS Stream 8
	Kernel: 4.18.0-240.10.1.el8_3.x86_64
	Compiler: gcc 8.4.1 20200928

RHEL8
	Kernel: 4.18.0-240.10.1.el8_3.x86_64
	Compiler: gcc 8.3.1 20191121 (Red Hat 8.3.1-5)

Alpine
	Kernel: 5.4.0-73-generic
	Compiler: gcc (Alpine 10.3.1_git20210424) 10.3.1 20210424

RHEL 7
	Kernel: 4.18.0-240.10.1.el8_3.x86_64
	Compiler: gcc 4.8.5 20150623 (Red Hat 4.8.5-44)

openSUSE Leap 15
	Kernel: 4.18.0-240.10.1.el8_3.x86_64
	Compiler: gcc 7.5.0

Ubuntu 20.04
	Kernel: 4.18.0-240.10.1.el8_3.x86_64
	Compiler: gcc 9.3.0-17ubuntu1~20.04

To view detailed results, visit:
https://lab.dpdk.org/results/dashboard/patchsets/26217/

UNH-IOL DPDK Community Lab

To manage your email subscriptions, visit: 
https://lab.dpdk.org/results/dashboard/preferences/subscriptions/