From mboxrd@z Thu Jan  1 00:00:00 1970
Return-Path: <test-report-bounces@dpdk.org>
Received: from mails.dpdk.org (mails.dpdk.org [217.70.189.124])
	by inbox.dpdk.org (Postfix) with ESMTP id 3E71142B10
	for <public@inbox.dpdk.org>; Mon, 15 May 2023 09:47:11 +0200 (CEST)
Received: from mails.dpdk.org (localhost [127.0.0.1])
	by mails.dpdk.org (Postfix) with ESMTP id 3AADF40395;
	Mon, 15 May 2023 09:47:11 +0200 (CEST)
Received: from mail-il1-f227.google.com (mail-il1-f227.google.com
 [209.85.166.227])
 by mails.dpdk.org (Postfix) with ESMTP id 7E0C940395
 for <test-report@dpdk.org>; Mon, 15 May 2023 09:47:09 +0200 (CEST)
Received: by mail-il1-f227.google.com with SMTP id
 e9e14a558f8ab-3352b8b9b70so86867595ab.0
 for <test-report@dpdk.org>; Mon, 15 May 2023 00:47:09 -0700 (PDT)
DKIM-Signature: v=1; a=rsa-sha256; c=relaxed/relaxed;
 d=iol.unh.edu; s=unh-iol; t=1684136829; x=1686728829;
 h=cc:to:from:subject:message-id:date:from:to:cc:subject:date
 :message-id:reply-to;
 bh=7uLjUZfK21c6BTSUHpqAc78EA3DHKUoa7ksWeRwDAxs=;
 b=BYYkApH3NJyOIrwpK11qjH40OAU7ghXmCJInOC4mtHHX7Eqvia0+49BHttK9mMPvlk
 yWBOjitOaAcg+8u6wkSXA4rJlsYEtpp5mPOZVUlkvGHg38MstUVW1TtMCGi/wkTuUhTb
 O8oINdLo7lOf3900cn/4+NuphoKX1lSOvqm6g=
X-Google-DKIM-Signature: v=1; a=rsa-sha256; c=relaxed/relaxed;
 d=1e100.net; s=20221208; t=1684136829; x=1686728829;
 h=cc:to:from:subject:message-id:date:x-gm-message-state:from:to:cc
 :subject:date:message-id:reply-to;
 bh=7uLjUZfK21c6BTSUHpqAc78EA3DHKUoa7ksWeRwDAxs=;
 b=CHdaY4dHDOs+30Mpsm2Xo8ICUnC+YMrbSqF2aulz813iGQie0fBlellryg6LSl7Z8n
 xqs1mTbupIZe1MrTpmulTC7ivq9Z8/4JsAYAsic2+9BHdUBz7XaWsyBmNvxKkRgC6UxE
 7LjncfG6amO42iBBVCa6ZNRUHCcBhoK4uxzXp6m0od2BmFB7j9Ka0d8R7Dpi78InIhDr
 V9Xk+f+Xu6OIlNwjaA3CGjO/gg7cBRKDJVR+3ZwjJ9NcN/BaB/RTurGmTipeF+pLxmMP
 bQIowrlXxKfs4S2RI7kTupA/VcLOKT6dlJH4WrQdRTiZCNIZsPd8krJSocGhLMke/UHJ
 MKpQ==
X-Gm-Message-State: AC+VfDz7eSfYjpMEII2cEgEv6ir+cHFcMgAm73cy3l3BxXn1d/HqIvvD
 u7HJZKcTKVie3LeeoCzyaz3c6VZIcAwNPImERu8M3QRCfaqef1Srg8uh3Q==
X-Google-Smtp-Source: ACHHUZ7ZiTTRqW9jVvf6EuzoBvu+BEG2kTVcQEUmmKH8dGaC5zKOH2kp211s+wvysJLDrQdngVgsGGsI96Xc
X-Received: by 2002:a05:6e02:ec7:b0:331:a435:4459 with SMTP id
 i7-20020a056e020ec700b00331a4354459mr22216716ilk.4.1684136828855; 
 Mon, 15 May 2023 00:47:08 -0700 (PDT)
Received: from postal.iol.unh.edu (postal.iol.unh.edu. [132.177.123.84])
 by smtp-relay.gmail.com with ESMTPS id
 p12-20020a92da4c000000b003311c996ae0sm1341548ilq.4.2023.05.15.00.47.08
 (version=TLS1_2 cipher=ECDHE-ECDSA-AES128-GCM-SHA256 bits=128/128);
 Mon, 15 May 2023 00:47:08 -0700 (PDT)
X-Relaying-Domain: iol.unh.edu
Date: Mon, 15 May 2023 00:47:08 -0700 (PDT)
Message-ID: <6461e37c.920a0220.f417.c0c8SMTPIN_ADDED_MISSING@mx.google.com>
Received: from [172.17.0.2] (unknown [172.18.0.34])
 by postal.iol.unh.edu (Postfix) with ESMTP id 66236605246B;
 Mon, 15 May 2023 03:47:08 -0400 (EDT)
Subject: |SUCCESS| pw126845-126848 [PATCH] [v1,
 4/4] bus/pci: add VFIO sparse mmap support
From: dpdklab@iol.unh.edu
To: Test Report <test-report@dpdk.org>
Cc: Miao Li <miao.li@intel.com>
Content-Type: text/plain
X-BeenThere: test-report@dpdk.org
X-Mailman-Version: 2.1.29
Precedence: list
List-Id: automatic DPDK test reports <test-report.dpdk.org>
List-Unsubscribe: <https://mails.dpdk.org/options/test-report>,
 <mailto:test-report-request@dpdk.org?subject=unsubscribe>
List-Archive: <http://mails.dpdk.org/archives/test-report/>
List-Post: <mailto:test-report@dpdk.org>
List-Help: <mailto:test-report-request@dpdk.org?subject=help>
List-Subscribe: <https://mails.dpdk.org/listinfo/test-report>,
 <mailto:test-report-request@dpdk.org?subject=subscribe>
Errors-To: test-report-bounces@dpdk.org

Test-Label: iol-abi-testing
Test-Status: SUCCESS
http://dpdk.org/patch/126848

_Testing PASS_

Submitter: Miao Li <miao.li@intel.com>
Date: Monday, May 15 2023 06:47:00 
DPDK git baseline: Repo:dpdk
  Branch: master
  CommitID:dbff181d62c997f128b75db2bbac9f42e8dd0f8f

126845-126848 --> testing pass

Test environment and result as below:

+------------------+----------+
|   Environment    | abi_test |
+==================+==========+
| openSUSE Leap 15 | PASS     |
+------------------+----------+
| RHEL 7           | PASS     |
+------------------+----------+
| CentOS Stream 8  | PASS     |
+------------------+----------+
| CentOS Stream 9  | PASS     |
+------------------+----------+
| Debian Buster    | PASS     |
+------------------+----------+
| Ubuntu 22.04     | PASS     |
+------------------+----------+
| Debian Bullseye  | PASS     |
+------------------+----------+


openSUSE Leap 15
	Kernel: 4.18.0-240.10.1.el8_3.x86_64
	Compiler: gcc 7.5.0

RHEL 7
	Kernel: 4.18.0-240.10.1.el8_3.x86_64
	Compiler: gcc 4.8.5 20150623 (Red Hat 4.8.5-44)

CentOS Stream 8
	Kernel: 4.18.0-240.10.1.el8_3.x86_64
	Compiler: gcc 8.4.1 20200928

CentOS Stream 9
	Kernel: 4.18.0-240.10.1.el8_3.x86_64
	Compiler: gcc 11.3.1 20220421

Debian Buster
	Kernel: 5.4.0-122-generic
	Compiler: gcc 8.3.0-6

Ubuntu 22.04
	Kernel: 4.18.0-240.10.1.el8_3.x86_64
	Compiler: gcc 11.3.0

Debian Bullseye
	Kernel: 5.4.0-122-generic
	Compiler: gcc 10.2.1-6

To view detailed results, visit:
https://lab.dpdk.org/results/dashboard/patchsets/26223/

UNH-IOL DPDK Community Lab

To manage your email subscriptions, visit: 
https://lab.dpdk.org/results/dashboard/preferences/subscriptions/